BEGIN:VCALENDAR
VERSION:2.0
PRODID:-//The Brain Injury Community Inc. - ECPv6.15.20//NONSGML v1.0//EN
CALSCALE:GREGORIAN
METHOD:PUBLISH
X-WR-CALNAME:The Brain Injury Community Inc.
X-ORIGINAL-URL:https://thebraininjurycommunity.org.au
X-WR-CALDESC:Events for The Brain Injury Community Inc.
REFRESH-INTERVAL;VALUE=DURATION:PT1H
X-Robots-Tag:noindex
X-PUBLISHED-TTL:PT1H
BEGIN:VTIMEZONE
TZID:Australia/Brisbane
BEGIN:STANDARD
TZOFFSETFROM:+1000
TZOFFSETTO:+1000
TZNAME:AEST
DTSTART:20240101T000000
END:STANDARD
END:VTIMEZONE
BEGIN:VEVENT
DTSTART;TZID=Australia/Brisbane:20251212T110000
DTEND;TZID=Australia/Brisbane:20251212T140000
DTSTAMP:20260420T065256
CREATED:20251112T024612Z
LAST-MODIFIED:20251112T025312Z
UID:2871-1765537200-1765548000@thebraininjurycommunity.org.au
SUMMARY:Tweed Heads - Christmas Picnic
DESCRIPTION:Tweed – TBIC Christmas Picnic \nDo you or someone you know live with a brain injury? \nCome join us for a festive day at Jack Evans Boat Harbour! Bring your loved ones and enjoy a fun-filled Christmas picnic with the TBIC community. \nEnjoy a scrumptious lunch whilst engaging in some old-fashioned games and an optional Christmas craft activity that are sure to evoke a sense of nostalgia and camaraderie. \nConnect with other members\, forge new friendships and share your experiences with others who understand brain injury at our all-inclusive event. \nWhether you have a brain injury\, or know someone who does\, this is the perfect event for you to relax\, mingle\, and enjoy the outdoors with your peers\, support worker\, family member or friend. \nLet’s celebrate the joy of the season and the year we have had together! \nDon’t miss out on this fabulous event and secure your ticket today! \nSee you there! \nEVENT DETAILS:\nDate: Friday 12th December 2025\nTime: 11am to 2pm *** NSW TIME\nCost: Tickets are $5 per person\nLocation: Jack Evans Boat Harbour\, 6 Coral St\, Tweed Heads \n(Behind Twin Towns)\n** Look for the Brain Injury Community flag** \nBOOK NOW!! \nRSVP: By Wednesday 10th December 2025\, via this event or by emailing info@tbic.org.au \nWHAT’S INCLUDED? \n\n(Optional) Christmas craft activity\nVariety of amusing and nostalgic games for all abilities.\n\n\nLunch and refreshments\, please advise of any dietary requirements whe securing your ticket\n\n\nFree parking\n\n***PLEASE NOTE: THIS IS A BRAIN INJURY SURVIVOR EVENT\, NOT A PROVIDER EVENT*** \n\nOur events are designed to create a fun and friendly space where brain injury survivors and their acquaintances can connect and enjoy themselves. We aim to support people affected by brain injuries by bringing communities together and providing excellent networking opportunities. Whilst this is not a provider event\, we encourage support providers and carers to attend with their clients.\nThis is a community event in a public area\, securing free tickets assists with communication and operations of the event\, and does not guarantee seating.\nIn the event of unfavourable weather\, event updates will be posted on all TBIC socials and all ticket holders will be contacted to advise of any changes.\nSecuring your ticket to a TBIC event joins you to our mailing list for future communications regarding news and event notifications or updates. Unsubscribe options are available.\n\nFor more information\, please contact us on:\nMobile: 0493 110 693\nEmail: info@tbic.org.au\nWebsite: www.thebraininjurycommunity.org.au
URL:https://thebraininjurycommunity.org.au/event/tweed-heads-christmas-picnic/
LOCATION:Jack Evans Boat Harbour\, 18 Coral Street (next to Twin Towns Services Club)\, Tweed Heads\, NSW\, 2485\, Australia
ATTACH;FMTTYPE=image/png:https://thebraininjurycommunity.org.au/wp-content/uploads/2025/11/TBIC-Tweed-Christmas-Picnic-2025.png
END:VEVENT
END:VCALENDAR