BEGIN:VCALENDAR
VERSION:2.0
PRODID:-//The Brain Injury Community Inc. - ECPv6.15.20//NONSGML v1.0//EN
CALSCALE:GREGORIAN
METHOD:PUBLISH
X-ORIGINAL-URL:https://thebraininjurycommunity.org.au
X-WR-CALDESC:Events for The Brain Injury Community Inc.
REFRESH-INTERVAL;VALUE=DURATION:PT1H
X-Robots-Tag:noindex
X-PUBLISHED-TTL:PT1H
BEGIN:VTIMEZONE
TZID:Australia/Brisbane
BEGIN:STANDARD
TZOFFSETFROM:+1000
TZOFFSETTO:+1000
TZNAME:AEST
DTSTART:20240101T000000
END:STANDARD
END:VTIMEZONE
BEGIN:VEVENT
DTSTART;TZID=Australia/Brisbane:20250603T110000
DTEND;TZID=Australia/Brisbane:20250603T140000
DTSTAMP:20260415T112508
CREATED:20250527T025904Z
LAST-MODIFIED:20250528T040918Z
UID:2701-1748948400-1748959200@thebraininjurycommunity.org.au
SUMMARY:BALLINA - Picnic in the Park
DESCRIPTION:Do you or a loved one live with a Brain Injury?\nCome and join us for a Picnic in the Park. This is a great opportunity to relax in the fresh air\, take in the great views\, and connect with others who understand living with or supporting someone with a brain injury. \nWhether you want to share your story\, listen to others\, or simply enjoy the company and games\, this event is all about community and togetherness. We hope to create a welcoming and supportive place where everyone feels valued and included. \nPlease RSVP by June 2nd to help us plan accordingly.\nMake sure to let us know of any dietary needs when securing your ticket. \nWe can’t wait to spend this special day with you! \nEVENT DETAILS:\nCost: $5 per person ** Companion Cards are accepted\nPlease note: Companion Card tickets are only valid if purchased with a full price ticket and require verification. Please show your companion card to a TBIC representative on arrival to validate this ticket type. Normal ticket costs may apply if this ticket type cannot be verified with a valid companion card.\nDate: Tuesday 3rd June 2025\nTime: 11am to 2pm\nLocation: Pop Dennison Park\, 78 Compton Dr\, East Ballina\, NSW\n*** Meet: Near the Picnic Tables and BBQ Area ***\nRSVP: By Monday 2nd June 2025 via this event or by emailing info@tbic.org.au \nWHAT’S INCLUDED? \n\nVariety of amusing and nostalgic games for all abilities.\n\n\nLunch and refreshments\, please advise of any dietary requirements\n\n\nFree parking\n\nBOOK YOUR TICKET HERE \nhttps://www.eventbrite.com.au/e/june-tbic-picnic-in-the-park-ballina-tickets-1373990164569?aff=oddtdtcreator \nBook your ticket online\,via Eventbrite or contact info@tbic.org.auRSVP by 2nd June 20250493 110 693 \n**PLEASE NOTE: THIS IS A BRAIN INJURY SURVIVOR EVENT\, NOT A PROVIDER EVENT ** \n\nOur events are designed to create a fun and friendly space where brain injury survivors and their acquaintances can connect and enjoy themselves. We aim to support people affected by brain injuries by bringing communities together and providing excellent networking opportunities. Whilst this is not a provider event\, we encourage support providers and carers to attend with their clients.\nCompanion Card tickets are only valid if purchased with a full price ticket and require verification. Please show your companion card to a TBIC representative on arrival to validate this ticket type. Normal ticket costs may apply if this ticket type cannot be verified with a valid companion card.\nThis is a community event in a public area\, securing your free or paid tickets assists with communication and operations of the event\, and does not guarantee seating.\nIn the event of unfavourable weather\, event updates will be posted on all TBIC socials and all ticket holders will be contacted to advise of any changes.\nSecuring your ticket to a TBIC event joins you to our mailing list for future communications regarding news and event notifications or updates. Unsubscribe options are available.\n\n 
URL:https://thebraininjurycommunity.org.au/event/https-www-eventbrite-com-au-e-june-tbic-picnic-in-the-park-ballina-tickets-1373990164569affoddtdtcreator/
LOCATION:QLD
ATTACH;FMTTYPE=image/png:https://thebraininjurycommunity.org.au/wp-content/uploads/2025/05/Ballina-June-2025-1.png
END:VEVENT
BEGIN:VEVENT
DTSTART;TZID=Australia/Brisbane:20250613T110000
DTEND;TZID=Australia/Brisbane:20250613T140000
DTSTAMP:20260415T112508
CREATED:20250527T034135Z
LAST-MODIFIED:20250527T034135Z
UID:2714-1749812400-1749823200@thebraininjurycommunity.org.au
SUMMARY:TWEED HEADS - Picnic at Minjungbal
DESCRIPTION:Do you or a loved one live with a brain injury? \nCome join us for a fun-filled day at the Minjungbal Aboriginal Cultural Centre and Museum! This is a great opportunity to relax in the fresh air\, take in the great views\, and connect with others who understand living with or supporting someone with a brain injury. \nWhether you want to share your story\, listen to others\, or simply enjoy the company and games\, this event is all about community and togetherness. We hope to create a welcoming and supportive place where everyone feels valued and included. \nEnjoy delicious food\, exciting games\, and great company in a beautiful outdoor setting. This is a fantastic opportunity to connect with the community and learn more about Aboriginal culture. Don’t miss out on this memorable experience! \nGuest Shaun Anderson will be attending to share his knowledge of Aboriginal Culture and food. \nMake sure to let us know of any dietary needs when securing your ticket. \nWe can’t wait to spend this special day with you! \nBOOK HERE!\nhttps://www.eventbrite.com.au/e/tbic-picnic-at-minjungbal-tickets-1381232827569?aff=oddtdtcreator&lang=en-au&locale=en_AU&status=30&view=listing \nEVENT DETAILS:\nCost: $10 per person\nDate: Tuesday 13th June 2025\nTime: 11am to 2pm\nLocation: Minjungbal Aboriginal Cultural Centre. \n17 Kirkwood Road\, Tweed Heads South\, NSW\n*** Meet: Near the Picnic Tables and BBQ Area \, Look for the TBIC flag ***\nRSVP: By Wednesday 11th June 2025 via this event or by emailing info@tbic.org.au
URL:https://thebraininjurycommunity.org.au/event/tweed-heads-picnic-at-minjungbal/
LOCATION:QLD
ATTACH;FMTTYPE=image/png:https://thebraininjurycommunity.org.au/wp-content/uploads/2025/05/TBIC-Social-Futures-Picnic-FB-Tile-3.png
END:VEVENT
END:VCALENDAR