BEGIN:VCALENDAR
VERSION:2.0
PRODID:-//The Brain Injury Community Inc. - ECPv6.15.20//NONSGML v1.0//EN
CALSCALE:GREGORIAN
METHOD:PUBLISH
X-WR-CALNAME:The Brain Injury Community Inc.
X-ORIGINAL-URL:https://thebraininjurycommunity.org.au
X-WR-CALDESC:Events for The Brain Injury Community Inc.
REFRESH-INTERVAL;VALUE=DURATION:PT1H
X-Robots-Tag:noindex
X-PUBLISHED-TTL:PT1H
BEGIN:VTIMEZONE
TZID:Australia/Brisbane
BEGIN:STANDARD
TZOFFSETFROM:+1000
TZOFFSETTO:+1000
TZNAME:AEST
DTSTART:20230101T000000
END:STANDARD
END:VTIMEZONE
BEGIN:VEVENT
DTSTART;TZID=Australia/Brisbane:20241108T110000
DTEND;TZID=Australia/Brisbane:20241108T140000
DTSTAMP:20260420T082239
CREATED:20240912T015706Z
LAST-MODIFIED:20241017T232933Z
UID:2503-1731063600-1731074400@thebraininjurycommunity.org.au
SUMMARY:TWEED HEADS - Picnic by the Beach - TBIC & Social Futures
DESCRIPTION:EVENT DETAILS:Event Supported by ClubGRANTS NSW and Tweed Shire CouncilCost: FREEDate: Friday 11th October 2024Time: 11am to 2pm **NSW TIME**Location: Jack Evans Boat Harbour\, Boundary Street (next to Twin Towns Services Club)*** Meet: Near the Picnic Tables and BBQ Area ***RSVP: By Thursday 10th October 2024 via this event or by emailing info@tbic.org.au or by calling 0493 110 693 \nhttps://www.eventbrite.com.au/e/tbic-social-futures-picnic-at-the-beach-tweed-heads-tickets-987890385737?aff=oddtdtcreator \nJoin The Brain Injury Community Inc and Social Futures for a Picnic in the Park with optional accessible beach activities at Jack Evans Boat Harbour.\n\nWhether you live with a brain injury or know someone who does\, this all-inclusive event offers a great opportunity for you to try out a range of beach activities with the assistance of our supportive network of staff and volunteers. We will also be providing a picnic style lunch for all attendees and their carer or support person.\n\nDon’t miss out on soaking up the beautiful sunshine in a relaxed atmosphere by the harbour  with your peers and our friendly team of volunteers.\n\nWHAT’S INCLUDED?-Companion cards are accepted. Please ensure you present this upon arrival to a TBIC representative-Beach activities. All equipment and life jackets will be provided.-Lunch and refreshments\, please advise of any dietary requirements-Free parking\n***PLEASE NOTE:THIS IS A BRAIN INJURY SURVIVOR EVENT\, NOT A PROVIDER EVENT-Our events are designed to create a fun and friendly space where brain injury survivors and their acquaintances can connect and enjoy themselves. We aim to support people affected by brain injuries by bringing communities together and providing excellent networking opportunities. Whilst this is not a provider event\, we encourage support providers and carers to attend with their clients.\n-Companion card tickets require validation. Please present a valid companion card to a TBIC representative upon arrival. Normal ticket prices may apply.\n-This is a community event in a public area\, securing free or paid tickets assists with communication and operations of the event\, and does not guarantee seating.\n-In the event of unfavourable weather\, event updates will be posted on all TBIC socials and all ticket holders will be contacted to advise of any changes.\n-Securing your ticket to a TBIC event joins you to our mailing list for future communications regarding news and event notifications or updates. Unsubscribe options are available.\nFor more information\, please contact us on:Mobile: 0493 110 693Email: info@tbic.org.auWebsite: www.thebraininjurycommunity.org.au 
URL:https://thebraininjurycommunity.org.au/event/tweed-heads-tbic-social-futures-water-sports-day/
LOCATION:Jack Evans Boat Harbour\, 18 Coral Street (next to Twin Towns Services Club)\, Tweed Heads\, NSW\, 2485\, Australia
ATTACH;FMTTYPE=image/png:https://thebraininjurycommunity.org.au/wp-content/uploads/2024/09/TBIC-Watersports-Tweed-Square.png
END:VEVENT
END:VCALENDAR