BEGIN:VCALENDAR
VERSION:2.0
PRODID:-//The Brain Injury Community Inc. - ECPv6.15.20//NONSGML v1.0//EN
CALSCALE:GREGORIAN
METHOD:PUBLISH
X-WR-CALNAME:The Brain Injury Community Inc.
X-ORIGINAL-URL:https://thebraininjurycommunity.org.au
X-WR-CALDESC:Events for The Brain Injury Community Inc.
REFRESH-INTERVAL;VALUE=DURATION:PT1H
X-Robots-Tag:noindex
X-PUBLISHED-TTL:PT1H
BEGIN:VTIMEZONE
TZID:Australia/Brisbane
BEGIN:STANDARD
TZOFFSETFROM:+1000
TZOFFSETTO:+1000
TZNAME:AEST
DTSTART:20230101T000000
END:STANDARD
END:VTIMEZONE
BEGIN:VEVENT
DTSTART;TZID=Australia/Brisbane:20241011T110000
DTEND;TZID=Australia/Brisbane:20241011T140000
DTSTAMP:20260422T100926
CREATED:20241001T000706Z
LAST-MODIFIED:20241001T000706Z
UID:2509-1728644400-1728655200@thebraininjurycommunity.org.au
SUMMARY:TWEED HEADS - Picnic in the Park - TBIC and Social Futures
DESCRIPTION:Jack Evans Boat Harbour\nDate: Friday 11th October 2024\nTime: 11am to 2pm \nJoin The Brain Injury Community Inc and Social Futures for a delightful day by the Tweed River. \nWhether you live with a brain injury or know someone who does\, this all-inclusive event offers a great opportunity for you to meet other members\, as well as our supportive network of staff and volunteers. \nDon’t miss out on this fantastic opportunity to connect with others who understand and have a memorable time enjoying good food\, great company and soaking up the beautiful riverside atmosphere. \nSee you there! \nEVENT DETAILS:\nEvent Partner: Social Futures\nCost: $5 per person ** Companion Cards are accepted\nPlease note: Companion Card tickets are only valid if purchased with a full price ticket and require verification. Please show your companion card to a TBIC representative on arrival to validate this ticket type. Normal ticket costs may apply if this ticket type cannot be verified with a valid companion card.\nDate: Friday 11th October 2024\nTime: 11am to 2pm\nLocation: Jack Evans Boat Harbour\, Boundary Street (next to Twin Towns Services Club)\n*** Meet: Near the Picnic Tables and BBQ Area ***\nRSVP: By Thursday 10th October 2024 via this event or by emailing info@tbic.org.au \n\n*PLEASE NOTE:\nTHIS IS A BRAIN INJURY SURVIVOR EVENT\, NOT A PROVIDER EVENT\n\n\nOur events are designed to create a fun and friendly space where brain injury survivors and their acquaintances can connect and enjoy themselves. We aim to support people affected by brain injuries by bringing communities together and providing excellent networking opportunities. Whilst this is not a provider event\, we encourage support providers and carers to attend with their clients.\nCompanion Card tickets are only valid if purchased with a full price ticket and require verification. Please show your companion card to a TBIC representative on arrival to validate this ticket type. Normal ticket costs may apply if this ticket type cannot be verified with a valid companion card.\nThis is a community event in a public area\, securing your free or paid tickets assists with communication and operations of the event\, and does not guarantee seating.\nIn the event of unfavourable weather\, event updates will be posted on all TBIC socials and all ticket holders will be contacted to advise of any changes.\nSecuring your ticket to a TBIC event joins you to our mailing list for future communications regarding news and event notifications or updates. Unsubscribe options are available.\n\nFor more information\, please contact us on:\nMobile: 0493 110 693\nEmail: info@tbic.org.au\nWebsite: www.thebraininjurycommunity.org.au
URL:https://thebraininjurycommunity.org.au/event/tweed-heads-picnic-in-the-park-tbic-and-social-futures/
LOCATION:Jack Evans Boat Harbour\, 18 Coral Street (next to Twin Towns Services Club)\, Tweed Heads\, NSW\, 2485\, Australia
CATEGORIES:Community,Social
ATTACH;FMTTYPE=image/png:https://thebraininjurycommunity.org.au/wp-content/uploads/2024/10/TBIC-SF-Picnic-Square.png
ORGANIZER;CN="The Brain Injury Community":MAILTO:info@tbic.org.au
END:VEVENT
END:VCALENDAR