BEGIN:VCALENDAR
VERSION:2.0
PRODID:-//The Brain Injury Community Inc. - ECPv6.15.20//NONSGML v1.0//EN
CALSCALE:GREGORIAN
METHOD:PUBLISH
X-ORIGINAL-URL:https://thebraininjurycommunity.org.au
X-WR-CALDESC:Events for The Brain Injury Community Inc.
REFRESH-INTERVAL;VALUE=DURATION:PT1H
X-Robots-Tag:noindex
X-PUBLISHED-TTL:PT1H
BEGIN:VTIMEZONE
TZID:Australia/Brisbane
BEGIN:STANDARD
TZOFFSETFROM:+1000
TZOFFSETTO:+1000
TZNAME:AEST
DTSTART:20240101T000000
END:STANDARD
END:VTIMEZONE
BEGIN:VEVENT
DTSTART;TZID=Australia/Brisbane:20250404T110000
DTEND;TZID=Australia/Brisbane:20250404T140000
DTSTAMP:20260420T151540
CREATED:20250330T021710Z
LAST-MODIFIED:20250330T021710Z
UID:2628-1743764400-1743775200@thebraininjurycommunity.org.au
SUMMARY:TOOWOOMBA Social Catch up
DESCRIPTION:The Brain Injury Community coordinates and hosts a variety of fun networking events for brain injury survivors aged 18yrs+. Meet others in your community by registering for one of our up-and coming events. All ticket sales go towards funding activities offered by The Brain Injury Community. \n\n\n\n\n\nHey there! Do you or a loved one live with a Brain Injury? Join us for a catch up at the Wilsonton Hotel. It’s a great opportunity to meet others who understand what you’re going through. Share stories\, offer support\, and simply enjoy each other’s company. Let’s build a stronger community together! See you there! \nEVENT DETAILS:\nDate: Friday 4 April 2025\nTime: 11am – 2pm\nCost: You will purchase your own lunch.\nLocation: Wilsonton Hotel\, Richmond Dr\, W ilstonton\, Toowoomba\, Qld \n** Look for the Brain Injury Community flag**\nRSVP: By Thursday 3 April 2025\, via this event or by emailing info@tbic.org.au \n  \n**PLEASE NOTE: THIS IS A BRAIN INJURY SURVIVOR EVENT\, NOT A PROVIDER EVENT*** \nOur events are designed to create a fun and friendly space where brain injury survivors and their acquaintances can connect and enjoy themselves. We aim to support people affected by brain injuries by bringing communities together and providing excellent networking opportunities. Whilst this is not a provider event\, we encourage support providers and carers to attend with their clients \nFor more information\, please contact us on:\nMobile: 0493 110 693\nEmail: info@tbic.org.au\nWebsite: www.thebraininjurycommunity.org.au
URL:https://thebraininjurycommunity.org.au/event/toowoomba-social-catch-up/
LOCATION:WILSONTON HOTEL
CATEGORIES:Community,Social
ATTACH;FMTTYPE=image/png:https://thebraininjurycommunity.org.au/wp-content/uploads/2025/03/TBIC-Jan-Powers-Markets-Square.png
ORGANIZER;CN="The Brain Injury Community":MAILTO:info@tbic.org.au
END:VEVENT
BEGIN:VEVENT
DTSTART;TZID=Australia/Brisbane:20250416T110000
DTEND;TZID=Australia/Brisbane:20250416T140000
DTSTAMP:20260420T151540
CREATED:20250330T030733Z
LAST-MODIFIED:20250330T030733Z
UID:2636-1744801200-1744812000@thebraininjurycommunity.org.au
SUMMARY:WOODY POINT - Picnic in the Park
DESCRIPTION:TBIC Picnic in the Park – Woody Point\nDate: Wednesday 16th April 2025Time: 11am to 2pmLocation: Oxley Avenue\,\nOpposite the Belvedere Hotel\, Woody Point QLD 4019\n(Near the Playground)\n\nThe Brain Injury Community Inc invites you to join us for an outdoor Picnic at Crockatt Park\, Woody Point.Connect with other members\, forge new friendships and share your experiences with others who understand at our all-inclusive event.\nWhether you have a brain injury\, or know someone who does\, this is the perfect event for you to relax\, mingle\, and enjoy the outdoors with your peers\, support worker\, family member or friend.\nDon’t miss out on this fabulous event and secure your ticket today! See you there!\n\nEVENT DETAILS:Date: Wednesday 16th April 2025Time: 11am to 2pmCost: Tickets are $5 per personLocation: Crockatt Park\, 27 Oxley Avenue\, Woody Point Beach QLD** Opposite the Belvedere Hotel\, near the playground**** Look for the Brain Inury Community flag**RSVP: By Tuesday 15th April 2025\, via this event or by emailing info@tbic.org.au\n\nGET YOUR TICKETS HERE:\nhttps://www.eventbrite.com.au/e/tbic-picnic-in-the-park-woody-point-tickets-1270100728469?aff=oddtdtcreator\n\nWHAT’S INCLUDED?-Opportunity to make new friends and memories-Variety of amusing and nostalgic games for all abilities.-Lunch and refreshments\, please advise of any dietary requirements when securing your ticket-Free parking\n\n***PLEASE NOTE: THIS IS A BRAIN INJURY SURVIVOR EVENT\, NOT A PROVIDER EVENT***Our events are designed to create a fun and friendly space where brain injury survivors and their acquaintances can connect and enjoy themselves. We aim to support people affected by brain injuries by bringing communities together and providing excellent networking opportunities. Whilst this is not a provider event\, we encourage support providers and carers to attend with their clients.\n\nFor more information\, please contact us on:Mobile: 0493 110 693Email: info@tbic.org.auWebsite: www.thebraininjurycommunity.org.au
URL:https://thebraininjurycommunity.org.au/event/woody-point-picnic-in-the-park-2/
LOCATION:CROCKATT PARK\, Oxley Avenue\, Woody Point\, QLD\, 4019\, Australia
CATEGORIES:Community,Social
ATTACH;FMTTYPE=image/png:https://thebraininjurycommunity.org.au/wp-content/uploads/2025/03/TBIC-BICS-Picnic-Square.png
ORGANIZER;CN="The Brain Injury Community":MAILTO:info@tbic.org.au
END:VEVENT
END:VCALENDAR