BEGIN:VCALENDAR
VERSION:2.0
PRODID:-//The Brain Injury Community Inc. - ECPv6.15.20//NONSGML v1.0//EN
CALSCALE:GREGORIAN
METHOD:PUBLISH
X-ORIGINAL-URL:https://thebraininjurycommunity.org.au
X-WR-CALDESC:Events for The Brain Injury Community Inc.
REFRESH-INTERVAL;VALUE=DURATION:PT1H
X-Robots-Tag:noindex
X-PUBLISHED-TTL:PT1H
BEGIN:VTIMEZONE
TZID:Australia/Brisbane
BEGIN:STANDARD
TZOFFSETFROM:+1000
TZOFFSETTO:+1000
TZNAME:AEST
DTSTART:20240101T000000
END:STANDARD
END:VTIMEZONE
BEGIN:VEVENT
DTSTART;TZID=Australia/Brisbane:20250522T110000
DTEND;TZID=Australia/Brisbane:20250522T140000
DTSTAMP:20260422T022544
CREATED:20250409T102110Z
LAST-MODIFIED:20250508T012215Z
UID:2671-1747911600-1747922400@thebraininjurycommunity.org.au
SUMMARY:Lota - Picnic in the Park
DESCRIPTION:TBIC Picnic in the Park – Lota\nDate: Thursday 22nd May 2025\nTime: 11am to 2pm\nLocation: Lota Reserve\, 710 The Esplanade (near the playground area and opposite the Three Muskateers Cafe)\, Lota QLD 4179 \nYou’re invited to The Brain Injury Community Inc’s Picnic in the Park\, in the beautiful Bayside suburb of Lota. \nWhether you live with a brain injury or know someone who does\, this all-inclusive event offers an exciting opportunity for you to meet other brain injury survivors and TBIC members\, as well as our supportive network of staff and volunteers whilst taking advantage of the magnificent views of the bay. \nThis event is all about fostering a supportive community. We believe in the power of connection and the strength that comes from sharing experiences with others who understand. Make new friends\, share your stories and create a network of support that will last a lifetime. \nDon’t miss out on this awesome event and secure your ticket today! \nhttps://www.eventbrite.com.au/e/tbic-picnic-in-the-park-lota-tickets-1313595592779?aff=oddtdtcreator \nSee you there! \nEVENT DETAILS:\nDate: Thursday 22nd May 2025\nTime: 11am to 2pm\nCost: Tickets are $5 per person\nLocation: Lota Reserve\, 710 The Esplanade (near the playground area and opposite the Three Muskateers Cafe)\, Lota QLD 4179\n***Look for The Brain Injury Community Flag **\nRSVP: By Wednesday 21st May 2025\, via this event or by email: info@tbic.org.au \nWHAT’S INCLUDED? \n\nVariety of amusing and nostalgic games for all abilities.\n\n\nLunch and light refreshments\, please advise of any dietary requirements when securing your ticket\n\n\nFree parking\n\n***PLEASE NOTE: THIS IS A BRAIN INJURY SURVIVOR EVENT\, NOT A PROVIDER EVENT*** \n\nOur events are designed to create a fun and friendly space where brain injury survivors and their acquaintances can connect and enjoy themselves. We aim to support people affected by brain injuries by bringing communities together and providing excellent networking opportunities. Whilst this is not a provider event\, we encourage support providers and carers to attend with their clients.\nCompanion Card tickets are only valid if purchased with a full price ticket and require verification. Please show your companion card to a TBIC representative on arrival to validate this ticket type. Normal ticket costs may apply if this ticket type cannot be verified with a valid companion card.\nThis is a community event in a public area\, securing free tickets assists with communication and operations of the event\, and does not guarantee seating.\nIn the event of unfavourable weather\, event updates will be posted on all TBIC socials and all ticket holders will be contacted to advise of any changes.\nSecuring your ticket to a TBIC event joins you to our mailing list for future communications regarding news and event notifications or updates. Unsubscribe options are available.\n\nFor more information\, please contact us on:\nMobile: 0493 110 693\nEmail: info@tbic.org.au\nWebsite: www.thebraininjurycommunity.org.au
URL:https://thebraininjurycommunity.org.au/event/lota-picnic-in-the-park-3/
LOCATION:710 Esplanade\, Lota\, 695 Esplanade\, LOTA\, QLD\, 4179\, Australia
ATTACH;FMTTYPE=image/png:https://thebraininjurycommunity.org.au/wp-content/uploads/2025/04/Instagram-and-Calendar-of-Events-Tiles-Square.png
ORGANIZER;CN="The Brain Injury Community":MAILTO:info@tbic.org.au
END:VEVENT
END:VCALENDAR