BEGIN:VCALENDAR
VERSION:2.0
PRODID:-//The Brain Injury Community Inc. - ECPv6.15.20//NONSGML v1.0//EN
CALSCALE:GREGORIAN
METHOD:PUBLISH
X-ORIGINAL-URL:https://thebraininjurycommunity.org.au
X-WR-CALDESC:Events for The Brain Injury Community Inc.
REFRESH-INTERVAL;VALUE=DURATION:PT1H
X-Robots-Tag:noindex
X-PUBLISHED-TTL:PT1H
BEGIN:VTIMEZONE
TZID:Australia/Brisbane
BEGIN:STANDARD
TZOFFSETFROM:+1000
TZOFFSETTO:+1000
TZNAME:AEST
DTSTART:20240101T000000
END:STANDARD
END:VTIMEZONE
BEGIN:VEVENT
DTSTART;TZID=Australia/Brisbane:20250104T160000
DTEND;TZID=Australia/Brisbane:20250104T190000
DTSTAMP:20260422T081549
CREATED:20241213T123632Z
LAST-MODIFIED:20241213T123632Z
UID:2583-1736006400-1736017200@thebraininjurycommunity.org.au
SUMMARY:EAT ST -
DESCRIPTION:The Brain Injury Community coordinates and hosts a variety of fun networking events for brain injury survivors aged 18yrs+. Meet others in your community by registering for this event.  All ticket sales go towards funding activities offered by The Brain Injury Community. \nTBIC Meet and Greet Event – Eat Street\nWhat a great way to start 2025! \nDate: Saturday 4th January 2025\nTime: 4pm to 7pm (please enter via ‘Hello’ entry gates) \nBOOK NOW\nIf you have a brain injury\, know or care for someone who does\, The Brain Injury Community Inc invites you to join us on Saturday 4th January 2025 \, where we will be exploring the wonders of the Eat Street venue\, as well as sampling delicious cuisines and tasty treats from six of the world’s seven continents.\nThis event is all about bringing the brain injury community together for a fun-filled evening of scrumptious food\, decadent desserts\, entertainment\, laughter\, and connection in a supportive environment. There will also be FREE entertainment\, live music and ample FREE parking on-site.\nMark your calendars and join us at Eat Street Northshore for an evening to remember!See you there!\nEVENT DETAILS:Date: Saturday 4th January 2025Time: 4pm to 7pm (please enter via ‘Hello’ entry gates)Location: 221D MacArthur Ave\, Hamilton QLD 4007.Please meet us at the tables next to the Big Ship and at the rear of Kombi Alley.*** Look for The Brain Injury Community Flag***Cost: BUY YOUR TICKETS AT THE DOOR ** Please note that your Ticket purchased here\, is for seating allocation and event management only.\nTickets need to be purchased on arrival to Eat Street: $6 per person at the door. Companion cards are accepted by the venueRSVP: By Friday 3rd January 2025 via this event or by emailing us at: info@tbic.org.au\n** Cost of food and beverage purchases are not included in the entry fee. Dinner\, treats and/or refreshments from one of the many delicious food stalls need to be purchased by attendees separately.\nWhat’s Included:-Opportunity to meet other members and make new friends-Free entertainment-Free parking available onsite\n**PLEASE NOTE:\nTHIS IS A BRAIN INJURY SURVIVOR EVENT\, NOT A PROVIDER EVENT **\n\nOur events are designed to create a fun and friendly space where brain injury survivors and their acquaintances can connect and enjoy themselves. We aim to support people affected by brain injuries by bringing communities together and providing excellent networking opportunities. Whilst this is not a provider event\, we encourage support providers and carers to attend with their clients.-Companion card tickets are accepted by the venue. Please ensure you bring a valid card with you for this ticket type.-This is a community event in a public area\, securing your free or paid tickets assists with communication and operations of the event.-In the event of unfavourable weather\, event updates will be posted on all TBIC socials and all ticket holders will be contacted to advise of any changes.-Securing your ticket to a TBIC event joins you to our mailing list for future communications regarding news and event notifications or updates. Unsubscribe options are available.\n\n\nFor more information\, please contact us on:Mobile: 0493 110 693Email: info@tbic.org.auWebsite: www.thebraininjurycommunity.org.au \nSee less\n\n\n\nBrisbane\, Queensland\, Australia\n\n\n 
URL:https://thebraininjurycommunity.org.au/event/eat-st/
LOCATION:Eat Street Hamilton\, 221D MacArthur Avenue\, Hamilton\, QLD\, 4007\, Australia
CATEGORIES:Community
ATTACH;FMTTYPE=image/png:https://thebraininjurycommunity.org.au/wp-content/uploads/2024/11/TBIC-XMAS-Caloundra-Picnic-Square-1.png
END:VEVENT
END:VCALENDAR