BEGIN:VCALENDAR
VERSION:2.0
PRODID:-//The Brain Injury Community Inc. - ECPv6.15.20//NONSGML v1.0//EN
CALSCALE:GREGORIAN
METHOD:PUBLISH
X-WR-CALNAME:The Brain Injury Community Inc.
X-ORIGINAL-URL:https://thebraininjurycommunity.org.au
X-WR-CALDESC:Events for The Brain Injury Community Inc.
REFRESH-INTERVAL;VALUE=DURATION:PT1H
X-Robots-Tag:noindex
X-PUBLISHED-TTL:PT1H
BEGIN:VTIMEZONE
TZID:Australia/Brisbane
BEGIN:STANDARD
TZOFFSETFROM:+1000
TZOFFSETTO:+1000
TZNAME:AEST
DTSTART:20240101T000000
END:STANDARD
END:VTIMEZONE
BEGIN:VEVENT
DTSTART;TZID=Australia/Brisbane:20250912T100000
DTEND;TZID=Australia/Brisbane:20250912T140000
DTSTAMP:20260420T132007
CREATED:20250805T085945Z
LAST-MODIFIED:20250822T005141Z
UID:2796-1757671200-1757685600@thebraininjurycommunity.org.au
SUMMARY:TBIC - Tweed River Cruise\, Mocktails and Canapes
DESCRIPTION:TBIC – Tweed River Cruise\, Mocktails and Canapes \nCome join The Brian Injury Community for a relaxing day on the beautiful Tweed River! Our event will take place at Tweed River Boat Hire (operating under Berger Houseboats). \nWhether you’re a survivor\, caregiver\, or supporter\, this event is the perfect opportunity to meet new people and connect with others who understand living with or supporting someone with a brain injury in a welcoming environment. \nEnjoy a scenic cruise\, sip on delicious mocktails\, and indulge in delectable canapes while taking in the stunning views. Don’t miss out on this perfect opportunity to unwind and socialize with friends. Book your spot now! \nPlease RSVP by Wednesday 10th September 2025 to help us plan accordingly with the venue. \nPlease also advise of any dietary needs when securing your ticket. \nSecure your ticket today! \nEVENT DETAILS:Date: Friday 12th September 2025Time: 10am – 2pmCost: $20 per person \nLocation: Tweed River Boat Hire (Berger Houseboats) \n4 River Terrace\, Tweed Heads NSW** Look for the Brain Injury Community flag**RSVP: By Wednesday 10th September 2025\, via this event or by emailing info@tbic.org.au \n  \nWHAT’S INCLUDED? \n\nTweed River Cruise to Chinderah\nA day of laughter\, connection and good food and Moctails\nOpportunity to learn new skills and make new friends in a welcoming environment\n\n\nFree parking\n\n  \n***PLEASE NOTE: THIS IS A BRAIN INJURY SURVIVOR EVENT\, NOT A PROVIDER EVENT*** \n\nOur events are designed to create a fun and friendly space where brain injury survivors and their acquaintances can connect and enjoy themselves. We aim to support people affected by brain injuries by bringing communities together and providing excellent networking opportunities. Whilst this is not a provider event\, we encourage support providers and carers to attend with their clients.\nCompanion card tickets are accepted by the venue. Please ensure you bring a valid card with you for this ticket type. Companion Card tickets are only valid if purchased with a full price ticket and require verification. Normal ticket costs apply if this ticket type cannot be verified.\n\n\nThis is a community event in a public area\, securing free tickets assists with communication and operations of the event\,.\n\n\nIn the event of unfavourable weather\, all attempts will be made to source a suitable alternatve venue prior to any cancellation or date changes. Event updates will be published on all TBIC socials and all ticket holders will be contacted to advise of any changes.\n\n\nSecuring your ticket to a TBIC event joins you to our mailing list for future communications regarding news and event notifications or updates. Unsubscribe options are available.\n\n  \nFor more information\, please contact us on:Mobile: 0493 110 693Email: info@tbic.org.auWebsite: www.thebraininjurycommunity.org.au
URL:https://thebraininjurycommunity.org.au/event/tbic-tweed-river-cruise-moctails-and-canapes/
LOCATION:Tweed River Boat Hire (operating under Berger Houseboats)
END:VEVENT
END:VCALENDAR