BEGIN:VCALENDAR
VERSION:2.0
PRODID:-//The Brain Injury Community Inc. - ECPv6.15.20//NONSGML v1.0//EN
CALSCALE:GREGORIAN
METHOD:PUBLISH
X-ORIGINAL-URL:https://thebraininjurycommunity.org.au
X-WR-CALDESC:Events for The Brain Injury Community Inc.
REFRESH-INTERVAL;VALUE=DURATION:PT1H
X-Robots-Tag:noindex
X-PUBLISHED-TTL:PT1H
BEGIN:VTIMEZONE
TZID:Australia/Brisbane
BEGIN:STANDARD
TZOFFSETFROM:+1000
TZOFFSETTO:+1000
TZNAME:AEST
DTSTART:20240101T000000
END:STANDARD
END:VTIMEZONE
BEGIN:VEVENT
DTSTART;TZID=Australia/Brisbane:20250724T110000
DTEND;TZID=Australia/Brisbane:20250724T140000
DTSTAMP:20260420T172259
CREATED:20250618T213958Z
LAST-MODIFIED:20250618T213958Z
UID:2760-1753354800-1753365600@thebraininjurycommunity.org.au
SUMMARY:Lota - TBIC Picnic in the Park
DESCRIPTION:Welcome to TBIC Picnic in the Park – Lota!\nDo you or a loved one live with a brain injury? \nCome join us for a fun-filled day at the Lota Reserve\, Lota. This is a great opportunity to relax in the fresh air\, take in the great views\, and connect with others who understand living with or supporting someone with a brain injury. \nWhether you want to share your story\, listen to others\, or simply enjoy the company and games\, this event is all about community and togetherness. We hope to create a welcoming and supportive place where everyone feels valued and included. \nEnjoy delicious food\, exciting games\, and great company in a beautiful outdoor setting. This is a fantastic opportunity to connect with the community. \nMake sure to let us know of any dietary needs when securing your ticket. \nSee you there! \nEVENT DETAILS:\nCost: $5 per person\nDate: Friday 24th July 2025\nTime: 11am to 2pm\nLocation: Lota Reserve\, Lota (opposite The 3 Musketeers Cafe). Look for the TBIC flag.\nRSVP: By Wednesday 22th June 2025 via this event or by emailing info@tbic.org.au \nFor more information\, please contact us on: \nMobile: 0493 110 693 \nEmail: info@tbic.org.au \nWeb: www.thebraininjurycommunity.org.au
URL:https://thebraininjurycommunity.org.au/event/lota-tbic-picnic-in-the-park-2/
LOCATION:Lota Reserve\, Lota\, 710 Esplanade\, Lota QLD\, Australia
ATTACH;FMTTYPE=image/png:https://thebraininjurycommunity.org.au/wp-content/uploads/2025/06/TBIC-Lota-Picnic-Eventbrite-July.png
END:VEVENT
END:VCALENDAR