BEGIN:VCALENDAR
VERSION:2.0
PRODID:-//The Brain Injury Community Inc. - ECPv6.15.20//NONSGML v1.0//EN
CALSCALE:GREGORIAN
METHOD:PUBLISH
X-WR-CALNAME:The Brain Injury Community Inc.
X-ORIGINAL-URL:https://thebraininjurycommunity.org.au
X-WR-CALDESC:Events for The Brain Injury Community Inc.
REFRESH-INTERVAL;VALUE=DURATION:PT1H
X-Robots-Tag:noindex
X-PUBLISHED-TTL:PT1H
BEGIN:VTIMEZONE
TZID:Australia/Brisbane
BEGIN:STANDARD
TZOFFSETFROM:+1000
TZOFFSETTO:+1000
TZNAME:AEST
DTSTART:20240101T000000
END:STANDARD
END:VTIMEZONE
BEGIN:VEVENT
DTSTART;TZID=Australia/Brisbane:20250709T110000
DTEND;TZID=Australia/Brisbane:20250709T140000
DTSTAMP:20260415T152203
CREATED:20250618T212058Z
LAST-MODIFIED:20250618T212058Z
UID:2748-1752058800-1752069600@thebraininjurycommunity.org.au
SUMMARY:Ipswich - TBIC Picnic in the Park
DESCRIPTION:Join The Brain Injury Community Inc. and other brain injury survivors for an unforgettable day of fun and connection at Queens Park in Ipswich! \nWhether you have a brain injury or know someone who does\, this all-inclusive event is the perfect opportunity to connect with other brain injury survivors\, relax and soak up the sunshine whilst enjoying a sausage sizzle BBQ lunch. \nDon’t miss out on this fantastic event and secure your ticket today! \nMake sure to let us know of any dietary needs when securing your ticket. \nLooking forward to seeing you there! \nEVENT DETAILS:\nDate: Wednesday 9th July 2025\nTime: 11am to 2pm\nCost: $5 per person\nLocation: Queens Park\, 10a Merle Finimore Avenue\, Ipswich QLD\n***Look for The Brain Injury Community Flag***\nRSVP: By Tuesday 8th May 2025 via this event or by emailing: info@tbic.org.au\n \nWHAT’S INCLUDED? \n\nGames and other outdoor activities\nSausage sizzle BBQ lunch and light refreshments. Please advise of any dietary requirements when securing your ticket\nFree parking available onsite\n\n***PLEASE NOTE: THIS IS A BRAIN INJURY SURVIVOR EVENT\, NOT A PROVIDER EVENT*** \n\nOur events are designed to create a fun and friendly space where brain injury survivors and their acquaintances can connect and enjoy themselves. We aim to support people affected by brain injuries by bringing communities together and providing excellent networking opportunities. Whilst this is not a provider event\, we encourage support providers and carers to attend with their clients.\nThis is a community event in a public area\, securing paid or free tickets assists with communication and operations of the event\, and does not guarantee seating.\nIn the event of unfavourable weather\, event updates will be posted on all TBIC socials and all ticket holders will be contacted to advise of any changes.\nSecuring your ticket to a TBIC event joins you to our mailing list for future communications regarding news and event notifications or updates. Unsubscribe options are available.\n\nFor more information\, please contact us on:\nMobile: 0493 110 693\nEmail: info@tbic.org.au\nWebsite: www.thebraininjurycommunity.org.au
URL:https://thebraininjurycommunity.org.au/event/ipswich-tbic-picnic-in-the-park/
LOCATION:Queens Park\, 10a Merle Finimore Avenue\, Ipswich QLD\, Australia
ATTACH;FMTTYPE=image/png:https://thebraininjurycommunity.org.au/wp-content/uploads/2025/06/TBIC-Ipswich-Picnic-FB-Tile-1.png
END:VEVENT
END:VCALENDAR