BEGIN:VCALENDAR
VERSION:2.0
PRODID:-//The Brain Injury Community Inc. - ECPv6.15.20//NONSGML v1.0//EN
CALSCALE:GREGORIAN
METHOD:PUBLISH
X-ORIGINAL-URL:https://thebraininjurycommunity.org.au
X-WR-CALDESC:Events for The Brain Injury Community Inc.
REFRESH-INTERVAL;VALUE=DURATION:PT1H
X-Robots-Tag:noindex
X-PUBLISHED-TTL:PT1H
BEGIN:VTIMEZONE
TZID:Australia/Brisbane
BEGIN:STANDARD
TZOFFSETFROM:+1000
TZOFFSETTO:+1000
TZNAME:AEST
DTSTART:20240101T000000
END:STANDARD
END:VTIMEZONE
BEGIN:VEVENT
DTSTART;TZID=Australia/Brisbane:20250725T110000
DTEND;TZID=Australia/Brisbane:20250725T140000
DTSTAMP:20260421T055550
CREATED:20250618T215300Z
LAST-MODIFIED:20250618T215300Z
UID:2764-1753441200-1753452000@thebraininjurycommunity.org.au
SUMMARY:Broadbeach - TBIC Art in the Park
DESCRIPTION:TBIC Art in the Park \nDo you or a loved one live with a brain injury? \nCome join us at Cascade Gardens for a day filled with creativity and fun! Our Art in the Park picnic. This is a great opportunity to relax in the fresh air\, take in the great views\, and connect with others who understand living with or supporting someone with a brain injury while expressing your artistic flair. \nWhether you want to share your story\, listen to others\, or simply enjoy the company and games\, this event is all about community and togetherness. We hope to create a welcoming and supportive place where everyone feels valued and included. \nEnjoy delicious light refreshments\, exciting games\, and great company in a beautiful outdoor setting. This is a fantastic opportunity to connect with the community. \nMake sure to let us know of any dietary needs when securing your ticket. \nSee you there! \nEVENT DETAILS:\nCost: $10 per person\nDate: Friday 25th July 2025\nTime: 11am to 2pm\nLocation: Cascade Gardens\, Broadeach – You’ll find us at the picnic table shelter along the canal side of park. Look for the TBIC flag.\nRSVP: By Wednesday 23th June 2025 via this event or by emailing info@tbic.org.au \nFor more information\, please contact us on: \nMobile: 0493 110 693 \nEmail: info@tbic.org.au \nWeb: www.thebraininjurycommunity.org.au \n***PLEASE NOTE: THIS IS A BRAIN INJURY SURVIVOR EVENT\, NOT A PROVIDER EVENT*** \n\nOur events are designed to create a fun and friendly space where brain injury survivors and their acquaintances can connect and enjoy themselves. We aim to support people affected by brain injuries by bringing communities together and providing excellent networking opportunities. Whilst this is not a provider event\, we encourage support providers and carers to attend with their clients.\nThis is a community event in a public area\, securing free tickets assists with communication and operations of the event\, and does not guarantee seating.\nIn the event of unfavourable weather\, event updates will be posted on all TBIC socials and all ticket holders will be contacted to advise of any changes.\nSecuring your ticket to a TBIC event joins you to our mailing list for future communications regarding news and event notifications or updates. Unsubscribe options are available.
URL:https://thebraininjurycommunity.org.au/event/broadbeach-tbic-art-in-the-park/
LOCATION:Tugun Park\, Southern Beaches Community Garden
ATTACH;FMTTYPE=image/png:https://thebraininjurycommunity.org.au/wp-content/uploads/2025/06/TBIC-Gold-Coast-Picnic-Eventbrite-Tile-1.png
END:VEVENT
END:VCALENDAR