BEGIN:VCALENDAR
VERSION:2.0
PRODID:-//The Brain Injury Community Inc. - ECPv6.15.20//NONSGML v1.0//EN
CALSCALE:GREGORIAN
METHOD:PUBLISH
X-WR-CALNAME:The Brain Injury Community Inc.
X-ORIGINAL-URL:https://thebraininjurycommunity.org.au
X-WR-CALDESC:Events for The Brain Injury Community Inc.
REFRESH-INTERVAL;VALUE=DURATION:PT1H
X-Robots-Tag:noindex
X-PUBLISHED-TTL:PT1H
BEGIN:VTIMEZONE
TZID:Australia/Brisbane
BEGIN:STANDARD
TZOFFSETFROM:+1000
TZOFFSETTO:+1000
TZNAME:AEST
DTSTART:20240101T000000
END:STANDARD
END:VTIMEZONE
BEGIN:VEVENT
DTSTART;TZID=Australia/Brisbane:20250401T110000
DTEND;TZID=Australia/Brisbane:20250401T140000
DTSTAMP:20260415T090653
CREATED:20250326T035530Z
LAST-MODIFIED:20250326T035530Z
UID:2624-1743505200-1743516000@thebraininjurycommunity.org.au
SUMMARY:BALLINA - Picnic in the Park
DESCRIPTION:Do you live with a Brain Injury?\nCome and say hi! This is a chance to unwind\, make new friends\, and celebrate the strength and resilience of our brain injury community. \nWhat’s Included:*  Games and other outdoor activities*  Lunch and refreshments*  Free parking available onsite \nWe can’t wait to meet you! \nLocation:Pop Denison Park78 Compton DrEast Ballina**Meet near the Picnic Tables and BBQ Area \nBook your ticket online\,via Eventbrite or contact info@tbic.org.auRSVP by 28th March 20240493 110 693 \nhttps://www.eventbrite.com.au/e/tbic-picnic-in-the-park-ballina-tickets-1261777342999?aff=oddtdtcreator \n\nSee less\n\n\nEast Ballina\, New South Wales\, Australia
URL:https://thebraininjurycommunity.org.au/event/ballina-picnic-in-the-park/
CATEGORIES:Community,Social
ATTACH;FMTTYPE=image/png:https://thebraininjurycommunity.org.au/wp-content/uploads/2025/03/TBIC-SF-Picnic-Square.png
END:VEVENT
BEGIN:VEVENT
DTSTART;TZID=Australia/Brisbane:20250404T110000
DTEND;TZID=Australia/Brisbane:20250404T140000
DTSTAMP:20260415T090653
CREATED:20250330T021710Z
LAST-MODIFIED:20250330T021710Z
UID:2628-1743764400-1743775200@thebraininjurycommunity.org.au
SUMMARY:TOOWOOMBA Social Catch up
DESCRIPTION:The Brain Injury Community coordinates and hosts a variety of fun networking events for brain injury survivors aged 18yrs+. Meet others in your community by registering for one of our up-and coming events. All ticket sales go towards funding activities offered by The Brain Injury Community. \n\n\n\n\n\nHey there! Do you or a loved one live with a Brain Injury? Join us for a catch up at the Wilsonton Hotel. It’s a great opportunity to meet others who understand what you’re going through. Share stories\, offer support\, and simply enjoy each other’s company. Let’s build a stronger community together! See you there! \nEVENT DETAILS:\nDate: Friday 4 April 2025\nTime: 11am – 2pm\nCost: You will purchase your own lunch.\nLocation: Wilsonton Hotel\, Richmond Dr\, W ilstonton\, Toowoomba\, Qld \n** Look for the Brain Injury Community flag**\nRSVP: By Thursday 3 April 2025\, via this event or by emailing info@tbic.org.au \n  \n**PLEASE NOTE: THIS IS A BRAIN INJURY SURVIVOR EVENT\, NOT A PROVIDER EVENT*** \nOur events are designed to create a fun and friendly space where brain injury survivors and their acquaintances can connect and enjoy themselves. We aim to support people affected by brain injuries by bringing communities together and providing excellent networking opportunities. Whilst this is not a provider event\, we encourage support providers and carers to attend with their clients \nFor more information\, please contact us on:\nMobile: 0493 110 693\nEmail: info@tbic.org.au\nWebsite: www.thebraininjurycommunity.org.au
URL:https://thebraininjurycommunity.org.au/event/toowoomba-social-catch-up/
LOCATION:WILSONTON HOTEL
CATEGORIES:Community,Social
ATTACH;FMTTYPE=image/png:https://thebraininjurycommunity.org.au/wp-content/uploads/2025/03/TBIC-Jan-Powers-Markets-Square.png
ORGANIZER;CN="The Brain Injury Community":MAILTO:info@tbic.org.au
END:VEVENT
BEGIN:VEVENT
DTSTART;TZID=Australia/Brisbane:20250411T110000
DTEND;TZID=Australia/Brisbane:20250411T140000
DTSTAMP:20260415T090653
CREATED:20250330T024605Z
LAST-MODIFIED:20250330T110139Z
UID:2631-1744369200-1744380000@thebraininjurycommunity.org.au
SUMMARY:TWEED HEADS - Lawn Bowls and Lunch
DESCRIPTION:TWEED HEADS – INDOOR LAWN BOWLS and LUNCH \nDate: Friday 11th April 2025\nTime: 11am – 2pm NSW Time\nLocation: Club Tweed\, Cnr Wharf & Florence Street\, Tweed Heads NSW 2485 \nJoin us for a fun-filled day of indoor lawn bowls and socialising at Club Tweed!\nIt doesn’t matter if you’re a seasoned pro or a complete beginner\, this all-inclusive event is perfect for everyone! \nWhether you live with a brain injury\, are a caregiver\, or supporter\, this event is the perfect opportunity to meet new people\, enjoy some friendly competition and share your experiences in a supportive and welcoming environment. \nAnd it’s wheelchair friendly! \nDon’t miss out on this fabulous event and secure your ticket today! \nSee you there! \nEVENT DETAILS:\nDate: Friday 11th April 2025\nTime: 11am to 2pm NSW Time\nCost: $10 per person\nLocation: Club Tweed\, Cnr Wharf & Florence Street\, Tweed Heads NSW 2485\n** Look for the Brain Injury Community flag**\nRSVP: By Thursday 10th April 2025\, via this event or by emailing info@tbic.org.au \nWHAT’S INCLUDED? \n\nLawn Bowl Games\nA day of laughter\, connection and good food\nLunch\nOpportunity to make new friends in a welcoming environment\nWheelchair friendly\nFree parking\n\n***PLEASE NOTE: THIS IS A BRAIN INJURY SURVIVOR EVENT\, NOT A PROVIDER EVENT*** \n\nOur events are designed to create a fun and friendly space where brain injury survivors and their acquaintances can connect and enjoy themselves. We aim to support people affected by brain injuries by bringing communities together and providing excellent networking opportunities. Whilst this is not a provider event\, we encourage support providers and carers to attend with their clients.\n\n\nSecuring your ticket to a TBIC event joins you to our mailing list for future communications regarding news and event notifications or updates. Unsubscribe options are available.\n\nFor more information\, please contact us on:\nMobile: 0493 110 693\nEmail: info@tbic.org.au\nWebsite: www.thebraininjurycommunity.org.au
URL:https://thebraininjurycommunity.org.au/event/tweed-heads-lawn-bowls/
LOCATION:Club Tweed\, 4 Florence Place\, Tweed Heads\, NSW\, 2485\, Australia
CATEGORIES:Community,Social
ATTACH;FMTTYPE=image/png:https://thebraininjurycommunity.org.au/wp-content/uploads/2025/03/TBIC-Tweed-LBowls-Square-1.png
ORGANIZER;CN="The Brain Injury Community":MAILTO:info@tbic.org.au
END:VEVENT
BEGIN:VEVENT
DTSTART;TZID=Australia/Brisbane:20250416T110000
DTEND;TZID=Australia/Brisbane:20250416T140000
DTSTAMP:20260415T090653
CREATED:20250330T030733Z
LAST-MODIFIED:20250330T030733Z
UID:2636-1744801200-1744812000@thebraininjurycommunity.org.au
SUMMARY:WOODY POINT - Picnic in the Park
DESCRIPTION:TBIC Picnic in the Park – Woody Point\nDate: Wednesday 16th April 2025Time: 11am to 2pmLocation: Oxley Avenue\,\nOpposite the Belvedere Hotel\, Woody Point QLD 4019\n(Near the Playground)\n\nThe Brain Injury Community Inc invites you to join us for an outdoor Picnic at Crockatt Park\, Woody Point.Connect with other members\, forge new friendships and share your experiences with others who understand at our all-inclusive event.\nWhether you have a brain injury\, or know someone who does\, this is the perfect event for you to relax\, mingle\, and enjoy the outdoors with your peers\, support worker\, family member or friend.\nDon’t miss out on this fabulous event and secure your ticket today! See you there!\n\nEVENT DETAILS:Date: Wednesday 16th April 2025Time: 11am to 2pmCost: Tickets are $5 per personLocation: Crockatt Park\, 27 Oxley Avenue\, Woody Point Beach QLD** Opposite the Belvedere Hotel\, near the playground**** Look for the Brain Inury Community flag**RSVP: By Tuesday 15th April 2025\, via this event or by emailing info@tbic.org.au\n\nGET YOUR TICKETS HERE:\nhttps://www.eventbrite.com.au/e/tbic-picnic-in-the-park-woody-point-tickets-1270100728469?aff=oddtdtcreator\n\nWHAT’S INCLUDED?-Opportunity to make new friends and memories-Variety of amusing and nostalgic games for all abilities.-Lunch and refreshments\, please advise of any dietary requirements when securing your ticket-Free parking\n\n***PLEASE NOTE: THIS IS A BRAIN INJURY SURVIVOR EVENT\, NOT A PROVIDER EVENT***Our events are designed to create a fun and friendly space where brain injury survivors and their acquaintances can connect and enjoy themselves. We aim to support people affected by brain injuries by bringing communities together and providing excellent networking opportunities. Whilst this is not a provider event\, we encourage support providers and carers to attend with their clients.\n\nFor more information\, please contact us on:Mobile: 0493 110 693Email: info@tbic.org.auWebsite: www.thebraininjurycommunity.org.au
URL:https://thebraininjurycommunity.org.au/event/woody-point-picnic-in-the-park-2/
LOCATION:CROCKATT PARK\, Oxley Avenue\, Woody Point\, QLD\, 4019\, Australia
CATEGORIES:Community,Social
ATTACH;FMTTYPE=image/png:https://thebraininjurycommunity.org.au/wp-content/uploads/2025/03/TBIC-BICS-Picnic-Square.png
ORGANIZER;CN="The Brain Injury Community":MAILTO:info@tbic.org.au
END:VEVENT
BEGIN:VEVENT
DTSTART;TZID=Australia/Brisbane:20250422T110000
DTEND;TZID=Australia/Brisbane:20250422T140000
DTSTAMP:20260415T090653
CREATED:20250330T112516Z
LAST-MODIFIED:20250330T112516Z
UID:2643-1745319600-1745330400@thebraininjurycommunity.org.au
SUMMARY:LOTA - Picnic in the Park
DESCRIPTION:TBIC Picnic in the Park – LotaDate: Tuesday 22nd April 2025Time: 11am to 2pm\n\nLocation: Lota Reserve\, near the playground\, opposite 695 Esplanade\, Lota QLD 4179\n\nYou’re invited to The Brain Injury Community Inc’s Picnic in the Park. If you live with a brain injury or know someone who does\, this all-inclusive event is a great way for you to meet others just like you.\n\nMake new friends\, share your stories and create a network of support that will last a lifetime.  Laugh\, chat\, enjoy some great food and just hang out.\n\nDon’t miss out on this awesome event and secure your ticket today!\n\nSee you there!\n\nEVENT DETAILS:Date: Tuesday 22nd April 2025Time: 11am to 2pmCost: Tickets are $5 per personLocation: Lota Reserve\, near the playground\, opposite 695 Esplanade\, Lota QLD***Look for The Brain Injury Community Flag **RSVP: By Monday 20th April 2025\, via this event or by email: info@tbic.org.au\n\nWHAT’S INCLUDED?-Variety of amusing and nostalgic games for all abilities.-Lunch and refreshments\, please advise of any dietary requirements-Free parking\n\n***PLEASE NOTE: THIS IS A BRAIN INJURY SURVIVOR EVENT\, NOT A PROVIDER EVENT***-Our events are designed to create a fun and friendly space where brain injury survivors and their acquaintances can connect and enjoy themselves. We aim to support people affected by brain injuries by bringing communities together and providing excellent networking opportunities. Whilst this is not a provider event\, we encourage support providers and carers to attend with their clients.\n\nFor more information\, please contact us on:Mobile: 0493 110 693Email: info@tbic.org.auWebsite: www.thebraininjurycommunity.org.au
URL:https://thebraininjurycommunity.org.au/event/lota-picnic-in-the-park-2/
LOCATION:690 Esplanade\, Lota\, 690 Esplanade\, Lota\, QLD\, 4179\, Australia
CATEGORIES:Community,Social
ATTACH;FMTTYPE=image/png:https://thebraininjurycommunity.org.au/wp-content/uploads/2025/03/TBIC-Lota-Picnic-Square.png
ORGANIZER;CN="The Brain Injury Community":MAILTO:info@tbic.org.au
END:VEVENT
BEGIN:VEVENT
DTSTART;TZID=Australia/Brisbane:20250423T100000
DTEND;TZID=Australia/Brisbane:20250423T140000
DTSTAMP:20260415T090653
CREATED:20250330T115126Z
LAST-MODIFIED:20250330T115126Z
UID:2647-1745402400-1745416800@thebraininjurycommunity.org.au
SUMMARY:PUTT PUTT GOLF and LUNCH - GOLD COAST
DESCRIPTION:TBIC Putt Putt Golf and Lunch Social Catch Up – Mermaid Beach!\nDate: Wednesday 23rd April 2025\nTime: 10am – 2pm \nDo you or a loved one live with a brain injury?\nWhether you’re a survivor\, caregiver\, or supporter\, this event is the perfect opportunity to meet new people\, enjoy some friendly competition and connect with others who understand living with or supporting someone with a brain injury in a welcoming environment. \nGet ready to show off your putting skills\, or learn new ones followed by a delicious lunch at the Mermaid Beach Tavern. \n**If you don’t wish to play Putt Putt\, please meet us next door at the Mermaid Beach Tavern for lunch at 1pm** \nPlease RSVP by Monday 21st March 2025 to help us plan accordingly with the venue. Please also advise of any dietary needs when securing your ticket. \nDon’t miss out on this chance to have a blast and make some new memories. \nSecure your ticket today! \nEVENT DETAILS:\nDate: Wednesday 23rd April 2025\nTime: 10am – 2pm\nCost: For Putt Putt only – $14 per person **Companion Cards are accepted by the venue. \nPlease note that lunch will need to be purchased separately at the Mermaid Beach Tavern after the Putt Putt game. Standard menu prices are from $17. Concession card holders can aslo buy from the kids menu for $10. Please advise of any dietary requirements when securing your ticket. \nLocation: Putt Putt Mermaid Beach\, 2942 Gold Coast Highway\, Mermaid Bech QLD\n**If you don’t wish to play Putt Putt\, please meet us next door at the Mermaid Beach Tavern for lunch at 1pm** \nMermaid Beach Tavern\, 2500 Gold Coast Highway\, Mermaid Beach QLD\n** Look for the Brain Injury Community flag**\nRSVP: By Monday 21st April 2025\, via this event or by emailing info@tbic.org.au \nWHAT’S INCLUDED? \n\nPutt Putt Golf\nA day of laughter\, connection and good food\nOpportunity to learn new skills and make new friends in a welcoming environment\n\n\nFree parking\n\n***PLEASE NOTE: THIS IS A BRAIN INJURY SURVIVOR EVENT\, NOT A PROVIDER EVENT*** \n\nOur events are designed to create a fun and friendly space where brain injury survivors and their acquaintances can connect and enjoy themselves. We aim to support people affected by brain injuries by bringing communities together and providing excellent networking opportunities. Whilst this is not a provider event\, we encourage support providers and carers to attend with their clients.\nCompanion card tickets are accepted by the venue. Please ensure you bring a valid card with you for this ticket type. Companion Card tickets are only valid if purchased with a full price ticket and require verification. Normal ticket costs apply if this ticket type cannot be verified.\n\n\nThis is a community event in a public area\, securing free tickets assists with communication and operations of the event\,.\n\n\nIn the event of unfavourable weather\, all attempts will be made to source a suitable alternatve venue prior to any cancellation or date changes. Event updates will be published on all TBIC socials and all ticket holders will be contacted to advise of any changes.\n\n\nSecuring your ticket to a TBIC event joins you to our mailing list for future communications regarding news and event notifications or updates. Unsubscribe options are available.\n\nFor more information\, please contact us on:\nMobile: 0493 110 693\nEmail: info@tbic.org.au\nWebsite: www.thebraininjurycommunity.org.au
URL:https://thebraininjurycommunity.org.au/event/putt-putt-golf-and-lunch-gold-coast/
CATEGORIES:Community,Social
ATTACH;FMTTYPE=image/png:https://thebraininjurycommunity.org.au/wp-content/uploads/2025/03/Instagram-and-Calendar-of-Events-Tiles-Square.png
END:VEVENT
END:VCALENDAR