BEGIN:VCALENDAR
VERSION:2.0
PRODID:-//The Brain Injury Community Inc. - ECPv6.15.20//NONSGML v1.0//EN
CALSCALE:GREGORIAN
METHOD:PUBLISH
X-WR-CALNAME:The Brain Injury Community Inc.
X-ORIGINAL-URL:https://thebraininjurycommunity.org.au
X-WR-CALDESC:Events for The Brain Injury Community Inc.
REFRESH-INTERVAL;VALUE=DURATION:PT1H
X-Robots-Tag:noindex
X-PUBLISHED-TTL:PT1H
BEGIN:VTIMEZONE
TZID:Australia/Brisbane
BEGIN:STANDARD
TZOFFSETFROM:+1000
TZOFFSETTO:+1000
TZNAME:AEST
DTSTART:20240101T000000
END:STANDARD
END:VTIMEZONE
BEGIN:VEVENT
DTSTART;TZID=Australia/Brisbane:20250301T160000
DTEND;TZID=Australia/Brisbane:20250301T190000
DTSTAMP:20260420T171926
CREATED:20250216T112828Z
LAST-MODIFIED:20250216T121311Z
UID:2602-1740844800-1740855600@thebraininjurycommunity.org.au
SUMMARY:EAT ST - Social Catch Up
DESCRIPTION:Date: Saturday 1st March 2025\nTime: 4pm to 7pm (please enter via ‘Hello’ entry gates) \nEat St here we come!  For a great night out with old friends and new.  This is an awesome event to come to.  So much great food and great company.  We start at 4.00pm\, when it’s nice and quiet\, and hang around until around 7.00pm. \nThe Brain Injury Community Inc. is hosting a Meet & Greet Event at Eat Street Hamilton for brain injury survivors\, our members\, their loved ones and support network. \nIf you have a brain injury\, know or care for someone who does\, The Brain Injury Community Inc invites you to join us on Saturday 1st March 2025\, where we will be exploring the wonders of the Eat Streets venue\, as well as sampling delicious cuisines and tasty treats from six of the world’s seven continents. \nThis event is all about bringing the brain injury community together for a fun-filled evening of scrumptious food\, decadent desserts\, entertainment\, laughter\, and connection in a supportive environment. \nThere will also be FREE entertainment\, live music and ample FREE parking on-site. \nMark your calendars and join us at Eat Street Northshore for an evening to remember! \nSee you there! \nhttps://www.eventbrite.com.au/e/tbic-meet-and-greet-event-at-eat-street-northshore-hamilton-tickets-1210333372699?aff=oddtdtcreator \nEVENT DETAILS:\nDate: Saturday 1st March 2025\nTime: 4pm to 7pm (please enter via ‘Hello’ entry gates)\nLocation: 221D MacArthur Ave\, Hamilton QLD 4007.\nPlease meet us at the tables next to the Big Ship and at the rear of Kombi Alley.\n*** Look for The Brain Injury Community Flag***\nCost: FREE\n**Please note that your free ticket is for seating allocation and event management only.\nTickets need to be purchased on arrival to Eat Street: $6 per person at the door. Companion cards are accepted by the venue\nRSVP: By Friday 28th February 2025 via this event or by emailing us at: info@tbic.org.au \n**Cost of food and beverage purchases are not included in the entry fee.\nDinner\, treats and/or refreshments from one of the many delicious food stalls need to be purchased by attendees separately. \nWhat’s Included: \n\nOpportunity to meet other members and make new friends\nFree entertainment\nFree parking available onsite**PLEASE NOTE:\nTHIS IS A BRAIN INJURY SURVIVOR EVENT\, NOT A PROVIDER EVENT\nOur events are designed to create a fun and friendly space where brain injury survivors and their acquaintances can connect and enjoy themselves. We aim to support people affected by brain injuries by bringing communities together and providing excellent networking opportunities. Whilst this is not a provider event\, we encourage support providers and carers to attend with their clients.\nCompanion card tickets are accepted by the venue. Please ensure you bring a valid card with you for this ticket type.\nThis is a community event in a public area\, securing your free or paid tickets assists with communication and operations of the event.\nIn the event of unfavourable weather\, event updates will be posted on all TBIC socials and all ticket holders will be contacted to advise of any changes.\nSecuring your ticket to a TBIC event joins you to our mailing list for future communications regarding news and event notifications or updates. Unsubscribe options are available.\n\nFor more information\, please contact us on:\nMobile: 0493 110 693\nEmail: info@tbic.org.au\nWebsite: www.thebraininjurycommunity.org.au
URL:https://thebraininjurycommunity.org.au/event/eat-st-social-catch-up/
LOCATION:Eat Street Hamilton\, 221D MacArthur Avenue\, Hamilton\, QLD\, 4007\, Australia
CATEGORIES:Community,Social
ATTACH;FMTTYPE=image/png:https://thebraininjurycommunity.org.au/wp-content/uploads/2025/02/TBIC-Eat-Street-Square.png
END:VEVENT
BEGIN:VEVENT
DTSTART;TZID=Australia/Brisbane:20250314T110000
DTEND;TZID=Australia/Brisbane:20250314T140000
DTSTAMP:20260420T171926
CREATED:20250216T114540Z
LAST-MODIFIED:20250216T121233Z
UID:2608-1741950000-1741960800@thebraininjurycommunity.org.au
SUMMARY:TWEED HEADS - Picnic in the Park
DESCRIPTION:EVENT DETAILS:Event Supported by ClubGRANTS NSW and Tweed Shire CouncilCost: $5Date: Friday 14th March 2025Time: 11am to 2pm **NSW TIME**Location: Jack Evans Boat Harbour\, Boundary Street (next to Twin Towns Services Club)*** Meet: Near the Picnic Tables and BBQ Area ***RSVP: By Thursday 13th March 2025 via this event or by emailing info@tbic.org.au \nhttps://www.eventbrite.com.au/e/tbic-picnic-in-the-park-tweed-heads-tickets-1213490505769?aff=oddtdtcreator \nWHAT’S INCLUDED? \n\nVariety of amusing and nostalgic games for all abilities.\nLunch and refreshments\, please advise of any dietary requirements\nFree parking**PLEASE NOTE: THIS IS A BRAIN INJURY SURVIVOR EVENT\, NOT A PROVIDER EVENT **\n\n\nOur events are designed to create a fun and friendly space where brain injury survivors and their acquaintances can connect and enjoy themselves. We aim to support people affected by brain injuries by bringing communities together and providing excellent networking opportunities. Whilst this is not a provider event\, we encourage support providers and carers to attend with their clients.\nCompanion Card tickets are only valid if purchased with a full price ticket and require verification. Please show your companion card to a TBIC representative on arrival to validate this ticket type. Normal ticket costs may apply if this ticket type cannot be verified with a valid companion card.\nThis is a community event in a public area\, securing your free or paid tickets assists with communication and operations of the event\, and does not guarantee seating.\nIn the event of unfavourable weather\, event updates will be posted on all TBIC socials and all ticket holders will be contacted to advise of any changes.\nSecuring your ticket to a TBIC event joins you to our mailing list for future communications regarding news and event notifications or updates. Unsubscribe options are available.\n\nFor more information\, please contact us on:\nMobile: 0493 110 693\nEmail: info@tbic.org.au\nWebsite: www.thebraininjurycommunity.org.au
URL:https://thebraininjurycommunity.org.au/event/tweed-heads-picnic-in-the-park/
LOCATION:Jack Evans Boat Harbour\, 18 Coral Street (next to Twin Towns Services Club)\, Tweed Heads\, NSW\, 2485\, Australia
CATEGORIES:Community,Social
ATTACH;FMTTYPE=image/png:https://thebraininjurycommunity.org.au/wp-content/uploads/2025/02/TBIC-Tweed-Picnic-Square-1.png
END:VEVENT
BEGIN:VEVENT
DTSTART;TZID=Australia/Brisbane:20250316T100000
DTEND;TZID=Australia/Brisbane:20250316T130000
DTSTAMP:20260420T171926
CREATED:20250216T115845Z
LAST-MODIFIED:20250216T121111Z
UID:2611-1742119200-1742130000@thebraininjurycommunity.org.au
SUMMARY:IPSWICH - Rarity and Bizarre Expo
DESCRIPTION:TBIC Social Catch Up at The Ipswich Rarity and Bizarre Expo\nTBIC Social Catch Up at the Ipswich and Bizarre Expo\n(brought to you by Unique Epic Events)\n📅 When: Sunday 16th March – 10am to 1pm\n📍 Where: Ipswich Show Society\, 81 Warwick Road\, Ipswich QLD 4035\n*** Meet us in the Dining Area at 10am SHARP*** \nDare to embrace the strange\, the curious\, and the extraordinary? Step into the unknown\, discover treasures you never knew existed and let your curiosity lead the way. \nUnravel the mysteries that await you at the Rarity & Bizarre Expo\, hosted by Unique Epic Events\, where the unsual reigns supreme! This is no ordinary event – it’s an experience like no other which celebrates the peculiar\, the enchanting and the spellbinding. Bring your sense of wonder\, your open mind\, and your love for the extraordinary. \nPrepare for a journey into the shadows of curiosity\, where gothic elegance collides with mythical wonders\, and the bizarre feels right at home. Immerse yourself in an environment alive with eerie beauty\, dark charm\, and mysterious allure. Every corner whispers secrets waiting to be uncovered. \nThis event celebrates diversity and inclusion. No matter your background\, there’s something here to spark your imagination\, capture your curiosity and meet other like-minded souls who share your passion for the extraordinary. \nGrab your tickets online today and prepare for an unforgettable journey! \nhttps://events.humanitix.com/rarity-and-bizarre-expo?hxchl=mkt-loc&hxref=australia%2Fmarburg \nWe’ll see you there – if you dare! \nPlease RSVP by securing a free ticket via this event\, or by emailing us at: info@tbic.org.au once you’ve purchased your tickets using the link below\n**Please note that your free TBIC ticket is for event management only.\nRSVP: By Friday 14th March 2025 \nPlease click the link below for full event information and to secure your tickets directly from the Event Host: \nhttps://events.humanitix.com/rarity-and-bizarre-expo?hxchl=mkt-loc&hxref=australia%2Fmarburg \n**PLEASE NOTE: THIS IS A BRAIN INJURY SURVIVOR EVENT\, NOT A PROVIDER EVENT** \n\nOur events are designed to create a fun and friendly space where brain injury survivors and their acquaintances can connect and enjoy themselves. We aim to support people affected by brain injuries by bringing communities together and providing excellent networking opportunities and social activities. Whilst this is not a provider event\, we encourage support providers and carers to attend with their clients.\nThis is a community event in a public area\, securing your free and paid tickets assists with communication and operations of the event.\nSecuring your ticket to a TBIC event joins you to our mailing list for future communications regarding news and event notifications or updates. Unsubscribe options are available.\n\nFor more information\, please contact us on:\nMobile: 0493 110 693\nEmail: info@tbic.org.au\nWebsite: www.thebraininjurycommunity.org.au \n 
URL:https://thebraininjurycommunity.org.au/event/ipswich-rarity-and-bizarre-expo/
CATEGORIES:Community,Social
ATTACH;FMTTYPE=image/png:https://thebraininjurycommunity.org.au/wp-content/uploads/2025/02/TBIC-Rarity-and-Bizarre-Expo.png
END:VEVENT
END:VCALENDAR