BEGIN:VCALENDAR
VERSION:2.0
PRODID:-//The Brain Injury Community Inc. - ECPv6.15.20//NONSGML v1.0//EN
CALSCALE:GREGORIAN
METHOD:PUBLISH
X-ORIGINAL-URL:https://thebraininjurycommunity.org.au
X-WR-CALDESC:Events for The Brain Injury Community Inc.
REFRESH-INTERVAL;VALUE=DURATION:PT1H
X-Robots-Tag:noindex
X-PUBLISHED-TTL:PT1H
BEGIN:VTIMEZONE
TZID:Australia/Brisbane
BEGIN:STANDARD
TZOFFSETFROM:+1000
TZOFFSETTO:+1000
TZNAME:AEST
DTSTART:20230101T000000
END:STANDARD
END:VTIMEZONE
BEGIN:VEVENT
DTSTART;TZID=Australia/Brisbane:20241102T160000
DTEND;TZID=Australia/Brisbane:20241102T190000
DTSTAMP:20260423T013330
CREATED:20240820T093630Z
LAST-MODIFIED:20241018T000123Z
UID:2437-1730563200-1730574000@thebraininjurycommunity.org.au
SUMMARY:TBIC - Eat St - Northshore
DESCRIPTION:EVENT DETAILS:\nDate: Saturday 2nd November 2024\nTime: 4pm to 7pm (please enter via ‘Hello’ entry gates)\nLocation: 221D MacArthur Ave\, Hamilton QLD 4007.\nPlease meet us at the tables next to the Big Ship and at the rear of Kombi Alley.\n*** Look for The Brain Injury Community Flag***\nCost: $6 per person at the door. Companion cards are accepted by the venue \nBOOK NOW\nRSVP: By Friday 1st November2024 via this event or by emailing us at: info@tbic.org.au\n**Please note that your free ticket is for seating allocation only. Tickets need to be purchased on arrival to Eat Street.\n**Cost of food and beverage purchases are not included. Dinner\, treats and/or refreshments from one of the many delicious food stalls need to be purchased by attendees. \nBack by popular demand! \nThe Brain Injury Community Inc. is hosting another Meet & Greet event at Eat Street Hamilton for brain injury survivors\, our members\, their loved ones and support network.\nDate: Saturday 2nd November 2024\nTime: 4pm to 7pm (please enter via ‘Hello’ entry gates) \nIf you have a brain injury\, know or care for someone who does\, The Brain Injury Community Inc invites you to join us on Saturday 2nd November 2024\, where we will be exploring the wonders of the Eat Streets venue\, as well as sampling delicious cuisines and tasty treats from six of the world’s seven continents. \nThis event is all about bringing the brain injury community together for a fun-filled evening of scrumptious food\, decadent desserts\, entertainment\, laughter\, and connection in a supportive environment. \nThere will also be FREE entertainment\, live music and ample FREE parking on-site. \nMark your calendars and join us at Eat Street Northshore for an evening to remember! \nSee you there! \n\n**PLEASE NOTE:\nTHIS IS A BRAIN INJURY SURVIVOR EVENT\, NOT A PROVIDER EVENT\nOur events are designed to create a fun and friendly space where brain injury survivors and their acquaintances can connect and enjoy themselves. We aim to support people affected by brain injuries by bringing communities together and providing excellent networking opportunities. Whilst this is not a provider event\, we encourage support providers and carers to attend with their clients.\nCompanion card tickets are accepted by the venue. Please ensure you bring a valid card with you for this ticket type.\nThis is a community event in a public area\, securing your free or paid tickets assists with communication and operations of the event.\nIn the event of unfavourable weather\, event updates will be posted on all TBIC socials and all ticket holders will be contacted to advise of any changes.\nSecuring your ticket to a TBIC event joins you to our mailing list for future communications regarding news and event notifications or updates. Unsubscribe options are available.\n\n 
URL:https://thebraininjurycommunity.org.au/event/tbic-eat-st-northshore/
LOCATION:Eat Street Hamilton\, 221D MacArthur Avenue\, Hamilton\, QLD\, 4007\, Australia
CATEGORIES:Social
ATTACH;FMTTYPE=image/png:https://thebraininjurycommunity.org.au/wp-content/uploads/2024/08/02112024-TBIC-Eat-Street-Square99226.png
ORGANIZER;CN="The Brain Injury Community":MAILTO:info@tbic.org.au
END:VEVENT
BEGIN:VEVENT
DTSTART;TZID=Australia/Brisbane:20241105T110000
DTEND;TZID=Australia/Brisbane:20241105T140000
DTSTAMP:20260423T013330
CREATED:20240820T100714Z
LAST-MODIFIED:20241017T235859Z
UID:2441-1730804400-1730815200@thebraininjurycommunity.org.au
SUMMARY:TOOWOOMBA - TBIC Picnic in the Park
DESCRIPTION:EVENT DETAILS:\nDate: Tuesday 5th November 2024\nTime: 11am to 2pm\nCost: Tickets are $5 per person **Companion cards are accepted\nLocation: Laurel Bank Park\, Herries Street\, Toowoomba QLD\n*** Free parking is available onsite***\n**Look for The Brain Injury Community Inc. flag***\nPlease note: Please advise of any dietary requirements when securing your ticket.                  RSVP: By 4th November 2024\, via this event or by email: info@tbic.org.au \nhttps://www.eventbrite.com.au/e/tbic-picnic-in-the-park-laurel-bank-park-toowoomba-tickets-995832059497?aff=oddtdtcreator \nYou’re invited to The Brain Injury Community Inc’s Picnic in the Park\, in the gorgeous surroundings at Laurel Bank Park\, Toowoomba. \nJoin us\, along with other Brain Injury Survivors\, their families\, friends and support network\, for a fun day filled with nostalgic games for all abilities\, lots of laughter and scrumptious food. \nThis all inclusive event is the perfect opportunity to connect with other members\, meet up with old friends or make new ones\, relax\, enjoy the outdoors and play a range of games suitable for all abilities whilst make lasting memories. \nWhether you live with a brain injury or know someone who does\, this all inclusive event offers a great opportunity for you to be part of a supportive network\, make new friends and meet other members\, as well as our staff and volunteers. \nDont miss out on this amazing event\, secure your ticket today! \n*PLEASE NOTE:THIS IS A BRAIN INJURY SURVIVOR EVENT\, NOT A PROVIDER EVENT \n\nOur events are designed to create a fun and friendly space where brain injury survivors and their acquaintances can connect and enjoy themselves. We aim to support people affected by brain injuries by bringing communities together and providing excellent networking opportunities. Whilst this is not a provider event\, we encourage support providers and carers to attend with their clients.\nCompanion card tickets require validation. Please present a valid companion card to a TBIC representative upon arrival. Normal ticket prices may apply.\nThis is a community event in a public area\, securing free or paid tickets assists with communication and operations of the event\, and does not guarantee seating.\nIn the event of unfavourable weather\, event updates will be posted on all TBIC socials and all ticket holders will be contacted to advise of any changes.\nSecuring your ticket to a TBIC event joins you to our mailing list for future communications regarding news and event notifications or updates. Unsubscribe options are available.
URL:https://thebraininjurycommunity.org.au/event/toowoomba-tbic-picnic-in-the-park/
LOCATION:Laurel Bank Park Toowoomba\, 50 Hill Street\, Toowoomba City\, QLD\, 4350\, Australia
CATEGORIES:Social
ATTACH;FMTTYPE=image/png:https://thebraininjurycommunity.org.au/wp-content/uploads/2024/08/05112024-TBIC-Wraps-Picnic-Square-1.png
ORGANIZER;CN="The Brain Injury Community":MAILTO:info@tbic.org.au
END:VEVENT
END:VCALENDAR