BEGIN:VCALENDAR
VERSION:2.0
PRODID:-//The Brain Injury Community Inc. - ECPv6.15.20//NONSGML v1.0//EN
CALSCALE:GREGORIAN
METHOD:PUBLISH
X-ORIGINAL-URL:https://thebraininjurycommunity.org.au
X-WR-CALDESC:Events for The Brain Injury Community Inc.
REFRESH-INTERVAL;VALUE=DURATION:PT1H
X-Robots-Tag:noindex
X-PUBLISHED-TTL:PT1H
BEGIN:VTIMEZONE
TZID:Australia/Brisbane
BEGIN:STANDARD
TZOFFSETFROM:+1000
TZOFFSETTO:+1000
TZNAME:AEST
DTSTART:20230101T000000
END:STANDARD
END:VTIMEZONE
BEGIN:VEVENT
DTSTART;TZID=Australia/Brisbane:20240808T110000
DTEND;TZID=Australia/Brisbane:20240808T140000
DTSTAMP:20260418T095814
CREATED:20240730T045228Z
LAST-MODIFIED:20240730T045228Z
UID:2415-1723114800-1723125600@thebraininjurycommunity.org.au
SUMMARY:TBIC Picnic and Farm Experience at Stones Throw Away Farm - Pittsworth
DESCRIPTION:Join The Brain Injury Community Inc. for a lovely day of fun and connection at Stones Throw Away Farm in Pittsworth for brain injury survivors and their support person or carer. \nThis all-inclusive event is the perfect opportunity to reconnect with nature\, get up close and personal with baby farm animals and horses\, toast marshmallows over a campfire and make lasting memories with fellow brain injury survivors in the beautiful Queensland countryside. \nDon’t miss out on this amazing event and secure your ticket today! \nEVENT DETAILS:\nDate: Thursday 8th August 2024\nTime: 11am to 2pm\nCost: Tickets are $30 per person **Companion cards are accepted\nLocation: Stones Throw Away Farm\, 129 Stoneleigh Road\, Pittsworth QLD 4356\nWe are able to provide transport to and from the venue from the following locations:\n– Gold Coast\n– Brisbane\n– Ipswich\n– Toowoomba\nPlease contact us for more information regarding transport options and requirements\nRSVP: By 23rd July 2024\, via clicking the event link or by emailing: info@tbic.org.au \n\n***PLEASE NOTE: THIS IS A BRAIN INJURY SURVIVOR EVENT\, NOT A PROVIDER EVENT*** \n\nWHAT’S INCLUDED? \n\nCompanion cards are accepted\n\n\nTransport available. Please contact us for more details\n\n\nLunch and refreshments will be provided for attendees and their support person or carer. Please advise of any dietary requirements when securing your ticket.\n\n\nAnimal petting and farm experience\n\n\nToasted marshmallows\n\n\nFor more information please contact us on:\nMobile: 0493110693\nEmail: info@tbic.org.au\nWebsite: www.thebraininjurycommunity.org.au \n\nBOOK NOW
URL:https://thebraininjurycommunity.org.au/event/tbic-picnic-and-farm-experience-at-stones-throw-away-farm-pittsworth/
LOCATION:Stones Throw Away Farm\, 129 Stoneleigh Road\, Pittsworth\, QLD\, 4356\, Australia
CATEGORIES:Social
ATTACH;FMTTYPE=image/png:https://thebraininjurycommunity.org.au/wp-content/uploads/2024/07/Pittsworth-square.png
ORGANIZER;CN="The Brain Injury Community":MAILTO:info@tbic.org.au
END:VEVENT
BEGIN:VEVENT
DTSTART;TZID=Australia/Brisbane:20240810T160000
DTEND;TZID=Australia/Brisbane:20240810T190000
DTSTAMP:20260418T095814
CREATED:20240625T003113Z
LAST-MODIFIED:20240730T045924Z
UID:2404-1723305600-1723316400@thebraininjurycommunity.org.au
SUMMARY:Meet & Greet event at Eat Street Hamilton
DESCRIPTION:Back by popular demand!\nThe Brain Injury Community Inc. is hosting another Meet & Greet Event at Eat Street Hamilton for brain injury survivors\, our members\, their loved ones and support network.\nIf you have a brain injury\, know or care for someone who does\, The Brain Injury Community Inc invites you to join us on Saturday 10th August 2024\, where we will be exploring the wonders of the Eat Streets venue\, as well as sampling delicious cuisines and tasty treats from six of the world’s seven continents.\nThere will also be FREE entertainment\, live music and ample FREE parking on-site.\nThis event is all about bringing the brain injury community together for a fun-filled evening of scrumptious food\, decadent desserts\, entertainment\, laughter\, and connection in a supportive environment.\nMark your calendars and join us at Eat Street Northshore for an evening to remember!\nSecure your ticket today via this event or alternatively\, they can be purchased at the door.\n\nEVENT DETAILS:\nDate: Saturday 10th August 2024\nTime: 4pm to 7pm (meet at ‘Hello Entry’ gates\, at 4pm sharp)\nLocation: 221D MacArthur Ave\, Hamilton QLD 4007\nCost: $6 per person plus Eventbrite booking fee (Carers tickets are FREE\, please bring your companion card with you)\nRSVP: By 9th August 2024 via this event or by emailing us at: info@tbic.org.au\n**Please note:\n– Cost of food and beverage purchases are not included in this event ticket price.Dinner\, treats and/or refreshments from one of the many delicious food stalls will need to be purchased by attendees.\n– You will be emailed a QR code to Enter at the ‘Hello Entry’ gates on the day.\n– Meet at the tables next to the Big Ship and at the rear of Kombi Alley.\n*** Look for The Brain Injury Community Flag***\n \n***PLEASE NOTE: THIS IS A BRAIN INJURY SURVIVOR EVENT\, NOT A PROVIDER EVENT***\n\nWhat’s Included:\n\nEntry to Eat Street Hamilton. (Carers tickets are free\, please bring your companion card with you)\nOpportunity to meet other members and make new friends\nFree entertainment\nFree parking available onsite\n\nSee you there!\nFor more information\, please contact us on:\nMobile: 0493 110 693\nEmail: info@tbic.org.au\nWebsite: www.thebraininjurycommunity.org.au\nBOOK NOW
URL:https://thebraininjurycommunity.org.au/event/meet-greet-event-at-eat-street-hamilton/
LOCATION:Eat Street Hamilton\, 221D MacArthur Avenue\, Hamilton\, QLD\, 4007\, Australia
CATEGORIES:Social
ATTACH;FMTTYPE=image/png:https://thebraininjurycommunity.org.au/wp-content/uploads/2024/06/TBIC-Eat-Street-Square.png
ORGANIZER;CN="The Brain Injury Community":MAILTO:info@tbic.org.au
END:VEVENT
BEGIN:VEVENT
DTSTART;TZID=Australia/Brisbane:20240816T110000
DTEND;TZID=Australia/Brisbane:20240816T140000
DTSTAMP:20260418T095814
CREATED:20240625T003522Z
LAST-MODIFIED:20240625T003522Z
UID:2407-1723806000-1723816800@thebraininjurycommunity.org.au
SUMMARY:TBIC Fish and Chips Picnic by the River with Social Futures - Tweed Heads
DESCRIPTION:Join The Brain Injury Community Inc and Social Futures for a delightful day by the Tweed River. \nWhether you live with a brain injury or know someone who does\, this all-inclusive event offers a great opportunity for you to meet other members\, as well as our supportive network of staff and volunteers. \nLunch and refreshments for members\, their carer or a support person will be provided.\nPlease advise of any dietary requirements when booking your ticket. \nDon’t miss out on this fantastic opportunity to connect with others who understand and have a memorable time enjoying good food\, great company whilst soaking up the beautiful riverside atmosphere. \nSee you there! \n\nEVENT DETAILS: \nEvent Partner: Social Futures \nCost: $5 per person ** Companion Cards are accepted \nDate: Friday 16th August 2024 \nTime: 11am to 2pm \nLocation: Ray Pascoe Park\, Kennedy Drive Boat Ramp\, 67 Kennedy Drive\, Tweed Heads NSW 2485\n*** Meet: Near at the Picnic Tables and BBQ Area near the boat ramp at Ray Pascoe Park *** \nRSVP: By 15th August 2024 via this event or by emailing info@tbic.org.au \n\n***PLEASE NOTE: THIS IS A BRAIN INJURY SURVIVOR EVENT\, NOT A PROVIDER EVENT*** \n\nWHAT’S INCLUDED? \n\nCompanion Cards accepted. Please ensure you present this to a TBIC representative on arrival.\nVariety of amusing and nostalgic games for all abilities.\nLunch and refreshments\, please advise of any dietary requirements\nFree parking\n\n\nFor more information\, please contact us on: \nMobile: 0493110693 \nEmail: info@tbic.org.au \nWebsite: www.thebraininjurycommunity.org.au \nBOOK NOW
URL:https://thebraininjurycommunity.org.au/event/tbic-fish-and-chips-picnic-by-the-river-with-social-futures-tweed-heads-2/
LOCATION:Kennedy Drive Boat Ramp
CATEGORIES:Social
ATTACH;FMTTYPE=image/png:https://thebraininjurycommunity.org.au/wp-content/uploads/2024/06/TBIC-Fish-and-Chip-Picnic-Square-1.png
END:VEVENT
BEGIN:VEVENT
DTSTART;TZID=Australia/Brisbane:20240822T080000
DTEND;TZID=Australia/Brisbane:20240822T170000
DTSTAMP:20260418T095814
CREATED:20240822T105616Z
LAST-MODIFIED:20240822T105616Z
UID:2472-1724313600-1724346000@thebraininjurycommunity.org.au
SUMMARY:TWEED HEADS - Picnic in the Park with TBIC and Social Futures
DESCRIPTION:Join The Brain Injury Community Inc and Social Futures for a delightful day by the Tweed River. \nWhether you live with a brain injury or know someone who does\, this all-inclusive event offers a great opportunity for you to meet other members\, as well as our supportive network of staff and volunteers. \nDon’t miss out on this fantastic opportunity to connect with others who understand and have a memorable time enjoying good food\, great company and soaking up the beautiful riverside atmosphere. \nSee you there! \nEVENT DETAILS:\nEvent Partner: Social Futures\nCost: $5 per person ** Companion Cards are accepted\nDate: Friday 11th October 2024\nTime: 11am to 2pm\nLocation: Jack Evans Boat Harbour\, Boundary Street (next to Twin Towns Services Club)\n*** Meet: Near the Picnic Tables and BBQ Area ***\nRSVP: By Thursday 10th October 2024 via this event or by emailing info@tbic.org.au \nWHAT’S INCLUDED? \n\nCompanion Cards are accepted\nVariety of amusing and nostalgic games for all abilities.\nLunch and refreshments\, please advise of any dietary requirements\nFree parking\n*PLEASE NOTE:\nTHIS IS A BRAIN INJURY SURVIVOR EVENT\, NOT A PROVIDER EVENT\nOur events are designed to create a fun and friendly space where brain injury survivors and their acquaintances can connect and enjoy themselves. We aim to support people affected by brain injuries by bringing communities together and providing excellent networking opportunities. Whilst this is not a provider event\, we encourage support providers and carers to attend with their clients.\nCompanion card tickets require validation. Please present a valid companion card to a TBIC representative upon arrival. Normal ticket prices may apply.\nThis is a community event in a public area\, securing your free or paid tickets assists with communication and operations of the event\, and does not guarantee seating.\nIn the event of unfavourable weather\, event updates will be posted on all TBIC socials and all ticket holders will be contacted to advise of any changes.\nSecuring your ticket to a TBIC event joins you to our mailing list for future communications regarding news and event notifications or updates. Unsubscribe options are available.\n\nFor more information\, please contact us on:\nMobile: 0493 110 693 \nEmail: info@tbic.org.au \nWebsite: www.thebraininjurycommunity.org.au \nBOOK NOW\n 
URL:https://thebraininjurycommunity.org.au/event/tweed-heads-picnic-in-the-park-with-tbic-and-social-futures/
CATEGORIES:Social
ATTACH;FMTTYPE=image/png:https://thebraininjurycommunity.org.au/wp-content/uploads/2024/08/THEADS.png
END:VEVENT
BEGIN:VEVENT
DTSTART;TZID=Australia/Brisbane:20240822T110000
DTEND;TZID=Australia/Brisbane:20240822T140000
DTSTAMP:20260418T095814
CREATED:20240730T045825Z
LAST-MODIFIED:20240730T045825Z
UID:2419-1724324400-1724335200@thebraininjurycommunity.org.au
SUMMARY:TBIC Paint and Sip Watercolour Workshop at Cedar & Pine Bar - Wynnum!
DESCRIPTION:TBIC Paint and Sip Watercolour Workshop at Cedar & Pine Bar – Wynnum! \nJoin us along with other brain injury survivors\, their support person or carer for a fun and creative afternoon at our Paint and Sip Watercolour Worshop.\nUnleash your inner artist while enjoying a few snacks and sipping your favourite beverage. \nThis in-person event will take place at Cedar & Pine Bar\, Wynnum\, providing the perfect atmosphere to allow your creativity to shine.\nNo prior experience is necessary\, this is a guided workshop and all art supplies will be provided. \nDon’t miss out on this fantastic opportunity to paint\, sip\, and socialise with fellow art enthusiasts and brain injury survivors. Secure your ticket today! \n\nEVENT DETAILS: \nDate: Thursday 22nd August 2024 \nTime: 11am to 2pm \nCost: Tickets are $30 per person **Companion cards are accepted \nLocation: Cedar and Pine Bar\, 139 Bay Terrace\, Wynnum QLD 4178 \nRSVP: By 20th August 2024\, via this event or by emailing: info@tbic.org.au \nPlease note: \n\nWe may be able to assist with transportation to and from the venue\, please contact us to discuss your individual needs.\n\n\n***PLEASE NOTE: THIS IS A BRAIN INJURY SURVIVOR EVENT\, NOT A PROVIDER EVENT*** \n\nWHAT’S INCLUDED? \n\nCompanion Cards are accepted\n\n\nWatercolour Workshop hosted by local artist Sabrina. All art supplies and materials will be provided\n\n\nSnacks will be provided for attendees and their support person or carer. Please advise of any dietary requirements when securing your ticket.\nPLEASE NOTE: Beverages are NOT INCLUDED in the ticket price. Beverages will be available for purchase at the venue at an additional cost.\n\n\nFor more information\, please contact us on:\nMobile: 0493 110 693\nEmail: info@tbic.org.au\nWebsite: www.thebraininjurycommunity.org.au \nBOOK NOW
URL:https://thebraininjurycommunity.org.au/event/tbic-paint-and-sip-watercolour-workshop-at-cedar-pine-bar-wynnum/
LOCATION:Cedar and Pine Bar\, 139 Bay Terrace\, Wynnum\, QLD\, 4178\, Australia
CATEGORIES:Social
ATTACH;FMTTYPE=image/png:https://thebraininjurycommunity.org.au/wp-content/uploads/2024/07/TBIC-Paint-and-Sip-Square-1.png
ORGANIZER;CN="The Brain Injury Community":MAILTO:info@tbic.org.au
END:VEVENT
BEGIN:VEVENT
DTSTART;TZID=Australia/Brisbane:20240825T100000
DTEND;TZID=Australia/Brisbane:20240825T130000
DTSTAMP:20260418T095814
CREATED:20240822T112338Z
LAST-MODIFIED:20240822T112338Z
UID:2475-1724580000-1724590800@thebraininjurycommunity.org.au
SUMMARY:WORLDS BIGGEST BEANIE - Brain Injury Awareness
DESCRIPTION:Join us as the WORLDS BIGGEST BEANIE FOR BRAIN INJURY AWARENESS is unveiled! \nThis Sunday 25th August 2024 is the last day of Brain Injury Awareness Week 2024\, and to celebrate\, Belinda Adams from Citrine Sun Entertainment\, The Hopkins Centre and The Brain Injury Community invite you to watch this amazing beanie being constructed. \nThis beanie is the biggest beanie Brisbane has ever seen. \nIn front of the iconic Story Bridge\, as part of a documentary to raise awareness for brain injury\, made up of unique handmade squares crafted by volunteers all over Australia and world wide\, symbolising the often invisible journey of each and every brain injury survivor and their individual stories. \nIf you would like to share your individual story\, and be filmed to be a part of this amazing event\, send us an email or just let one of our volunteers know on the day. \nBring a blanket\, a chair and your picnic\, join us to raise the Worlds Biggest Beanie for Brain Injury Awareness. \nSee you there! \n \n 
URL:https://thebraininjurycommunity.org.au/event/worlds-biggest-beanie-brain-injury-awareness/
LOCATION:Captain Burke Park\, 117 Holman St\, Kangaroo Point\, Captain Burke Park\, 117 Holman St\, Kangaroo Point\, QLD\, 4169\, Australia
CATEGORIES:Community,Social
ATTACH;FMTTYPE=image/jpeg:https://thebraininjurycommunity.org.au/wp-content/uploads/2024/08/wbb.jpg
ORGANIZER;CN="The Brain Injury Community":MAILTO:info@tbic.org.au
END:VEVENT
END:VCALENDAR