BEGIN:VCALENDAR
VERSION:2.0
PRODID:-//The Brain Injury Community Inc. - ECPv6.15.20//NONSGML v1.0//EN
CALSCALE:GREGORIAN
METHOD:PUBLISH
X-ORIGINAL-URL:https://thebraininjurycommunity.org.au
X-WR-CALDESC:Events for The Brain Injury Community Inc.
REFRESH-INTERVAL;VALUE=DURATION:PT1H
X-Robots-Tag:noindex
X-PUBLISHED-TTL:PT1H
BEGIN:VTIMEZONE
TZID:Australia/Brisbane
BEGIN:STANDARD
TZOFFSETFROM:+1000
TZOFFSETTO:+1000
TZNAME:AEST
DTSTART:20230101T000000
END:STANDARD
END:VTIMEZONE
BEGIN:VTIMEZONE
TZID:Australia/Sydney
BEGIN:STANDARD
TZOFFSETFROM:+1100
TZOFFSETTO:+1000
TZNAME:AEST
DTSTART:20230401T160000
END:STANDARD
BEGIN:DAYLIGHT
TZOFFSETFROM:+1000
TZOFFSETTO:+1100
TZNAME:AEDT
DTSTART:20230930T160000
END:DAYLIGHT
BEGIN:STANDARD
TZOFFSETFROM:+1100
TZOFFSETTO:+1000
TZNAME:AEST
DTSTART:20240406T160000
END:STANDARD
BEGIN:DAYLIGHT
TZOFFSETFROM:+1000
TZOFFSETTO:+1100
TZNAME:AEDT
DTSTART:20241005T160000
END:DAYLIGHT
BEGIN:STANDARD
TZOFFSETFROM:+1100
TZOFFSETTO:+1000
TZNAME:AEST
DTSTART:20250405T160000
END:STANDARD
BEGIN:DAYLIGHT
TZOFFSETFROM:+1000
TZOFFSETTO:+1100
TZNAME:AEDT
DTSTART:20251004T160000
END:DAYLIGHT
END:VTIMEZONE
BEGIN:VEVENT
DTSTART;TZID=Australia/Brisbane:20240508T110000
DTEND;TZID=Australia/Brisbane:20240508T140000
DTSTAMP:20260420T194230
CREATED:20240430T004623Z
LAST-MODIFIED:20240430T004623Z
UID:2345-1715166000-1715176800@thebraininjurycommunity.org.au
SUMMARY:TBIC Picnic in the Park – Ipswich
DESCRIPTION:Join The Brain Injury Community Inc. and other brain injury survivors for an unforgettable day of fun and connection at The Brain Injury Community Inc’s Picnic in the Park at Queen’s Park\, Ipswich. \nThis all-inclusive event is the perfect opportunity to connect with other brain injury survivors\, relax\, enjoy the outdoors and play a range of games suitable for all abilities whilst make lasting memories. \nMeet other members\, make new friends\, share your experiences with others who understand and create a network of support that will span a lifetime. \nLooking forward to seeing you there! \nEVENT DETAILS:\nDate: Wednesday 8th May 2024\nTime: 11am to 2pm\nCost: Tickets are $5 per person **Companion cards are accepted\nLocation: Queens Park\, 10a Merle Finimore Avenue\, Ipswich QLD\n***Look for The Brain Injury Community Flag in Queens Park \, directly opposite the Ipswich Bowls Club carpark***\nRSVP: By 7th May 2024\, via clicking the event link or by emailing: info@tbic.org.au\nPlease note: Lunch will be provided for attendees and their support person or carer. Please advise of any dietary requirements when securing your ticket. \n***PLEASE NOTE: THIS IS A BRAIN INJURY SURVIVOR EVENT\, NOT A PROVIDER EVENT*** \nWHAT’S INCLUDED? \n\nCompanion cards are accepted\nVariety of amusing and nostalgic games for all abilities.\nLunch and refreshments\, please advise of any dietary requirements\nFree parking\n\n  \nFor more information\, please contact us on:\nMobile: 0493110693\nEmail: info@tbic.org.au\nWebsite: www.thebraininjurycommunity.org.au \nBOOK NOW
URL:https://thebraininjurycommunity.org.au/event/tbic-picnic-in-the-park-ipswich-5/
LOCATION:Queens Park – Ipswich\, 10a Merle Finimore Avenue\, Ipswich\, Queensland\, 4305\, Australia
CATEGORIES:Social
ATTACH;FMTTYPE=image/png:https://thebraininjurycommunity.org.au/wp-content/uploads/2024/04/TBIC-Square-Ipswich-Picnic-8May24-1-1.png
ORGANIZER;CN="The Brain Injury Community":MAILTO:info@tbic.org.au
END:VEVENT
BEGIN:VEVENT
DTSTART;TZID=Australia/Sydney:20240510T110000
DTEND;TZID=Australia/Sydney:20240510T140000
DTSTAMP:20260420T194231
CREATED:20240430T005204Z
LAST-MODIFIED:20240430T005204Z
UID:2350-1715338800-1715349600@thebraininjurycommunity.org.au
SUMMARY:TBIC and Social Futures - Picnic with the Arts\, Murwillumbah
DESCRIPTION:Join us\, along with other Brain Injury Survivors\, their families\, support person or carer and immerse yourself in creativity and community at The Brain Injury Community Inc. and Social Futures Picnic with the Arts at the M|Arts Precinct in Murwillumbah! \nWhether you live with a brain injury or know someone who does\, this event includes a 1 hour Artwork Workshop\, hosted by local artist Arna Baartz. \nThis is a perfect opportunity to connect with other brain injury survivors\, share your experiences with others who understand\, let your creativity run wild and be inspired by the amazing talent of ther local artists and creatives. \n“M|Arts Precinct – where artists and art lovers come together to shop\, create\, eat and drink” \nDon’t miss out on this unique opportunity to engage with the vibrant culture of Murwillumbah and secure your ticket today! \nEVENT DETAILS: \nDate: Friday 10th May 2024 \nTime: 11am to 2pm \nCost: Tickets are $20 per person **Companion cards are accepted \nLocation: M I Arts Precinct\, Cnr Brisbane & Wollumbin St\, Murwillumbah NSW \n*** Free parking is available onsite*** \nPlease note: Lunch will be provided for attendees and their support person or carer. Please advise of any dietary requirements when securing your ticket. \nRSVP: By 8th May 2024\, via this event or by emailing: info@tbic.org.au \n***PLEASE NOTE: THIS IS A BRAIN INJURY SURVIVOR EVENT\, NOT A PROVIDER EVENT*** \nWHAT’S INCLUDED? \n\nCompanion Cards are accepted\n1 Hour Art Workshop with local artist Arna Baartz. All art supplies will be provided\nLunch and refreshments\nPlease advise of any dietary requirements when securing your ticket\nFree parking\n\nFor more information\, please contact us on: \nMobile: 0493110693 \nEmail: info@tbic.org.au \nWebsite: www.thebraininjurycommunity.org.au \nBOOK NOW
URL:https://thebraininjurycommunity.org.au/event/tbic-and-social-futures-picnic-with-the-arts-murwillumbah/
LOCATION:M I Arts Precinct\, Cnr Brisbane & Wollumbin St\, Murwillumbah\, NSW\, 2484\, Australia
CATEGORIES:Social
ATTACH;FMTTYPE=image/png:https://thebraininjurycommunity.org.au/wp-content/uploads/2024/04/TBIC-Square-Murwillumbah-10May24-5.png
ORGANIZER;CN="The Brain Injury Community":MAILTO:info@tbic.org.au
END:VEVENT
BEGIN:VEVENT
DTSTART;TZID=Australia/Brisbane:20240524T110000
DTEND;TZID=Australia/Brisbane:20240524T140000
DTSTAMP:20260420T194231
CREATED:20240405T090644Z
LAST-MODIFIED:20240405T090644Z
UID:2342-1716548400-1716559200@thebraininjurycommunity.org.au
SUMMARY:TBIC Picnic in the Park - Cascade Gardens Broadbeach
DESCRIPTION:Join us for a fun-filled day at Cascade Gardens in Broadbeach\, Gold Coast where good vibes\, great food\, and awesome company await! Take a break from the hustle and bustle of daily life and immerse yourself in nature. \nLocated at 2730 Gold Coast Highway\, Cascade Gardens offers a beautiful setting with lush greenery for our Picnic in the Park event. Indulge in a picnic style lunch\, participate in a variety of games for all abilities\, and soak up the sunshine. \nThis event is a great opportunity to connect with other brain injury survivors in your community and make lasting memories. Whether you live with a brain injury or know someone who does\, this event offers an all-inclusive opportunity for you to meet other TBIC members\, as well as our supportive network of staff and volunteers. \nDon’t miss out on this fantastic event\, secure your ticket today!\nWe can’t wait to see you there! \nEVENT DETAILS:\nDate: Friday 24th May 2024\nTime: 11am to 2pm\nCost: Tickets are $5 per person **Companion cards are accepted\nLocation: Cascade Gardens\, 2730 Gold Coast Highway\, Broadbeach QLD\n***Look for The Brain Injury Community Flag***\nRSVP: By 23rd May 2024\, via this event or by emailing: info@tbic.org.au\nPlease note: Lunch will be provided for attendees and their support person or carer.\nPlease advise of any dietary requirements when securing your ticket. \n***PLEASE NOTE: THIS IS A BRAIN INJURY SURVIVOR EVENT\, NOT A PROVIDER EVENT*** \nWHAT’S INCLUDED? \n\nCompanion cards are accepted\nVariety of amusing and nostalgic games for all abilities.\nLunch and refreshments\, please advise of any dietary requirements\nFree parking\n\n  \nFor more information\, please contact us on:\nMobile: 0493 110 693\nEmail: info@tbic.org.au\nWebsite: www.thebraininjurycommunity.org.au \n\nBOOK NOW
URL:https://thebraininjurycommunity.org.au/event/tbic-picnic-in-the-park-cascade-gardens-broadbeach-5/
LOCATION:Cascade Gardens\, 2730 Gold Coast Highway\, Broadbeach\, QLD\, 4218\, Australia
CATEGORIES:Social
ATTACH;FMTTYPE=image/png:https://thebraininjurycommunity.org.au/wp-content/uploads/2024/04/TBIC-Square-Cascade-Gardens-24May24.png
ORGANIZER;CN="The Brain Injury Community":MAILTO:info@tbic.org.au
END:VEVENT
BEGIN:VEVENT
DTSTART;TZID=Australia/Brisbane:20240528T110000
DTEND;TZID=Australia/Brisbane:20240528T140000
DTSTAMP:20260420T194231
CREATED:20240430T014846Z
LAST-MODIFIED:20240430T014743Z
UID:2355-1716894000-1716904800@thebraininjurycommunity.org.au
SUMMARY:TBIC Picnic in the Park - Lota
DESCRIPTION:You’re invited to The Brain Injury Community Inc’s Picnic in the Park\, in the beautiful Bayside suburb of Lota. \nWhether you live with a brain injury or know someone who does\, this all-inclusive event offers an exciting opportunity for you to meet other brain injury survivors and TBIC members\, as well as our supportive network of staff and volunteers. \nEnjoy playing vintage games and other nostalgic activities whilst taking advantage of the great views of the bay. \nThis event is all about fostering a supportive community. We believe in the power of connection and the strength that comes from sharing experiences with others who understand. \nMake new friends\, share your stories and create a network of support that will last a lifetime. \nDon’t miss out on this awesome event and secure your ticket today! \nSee you there! \nEVENT DETAILS:\nDate: Tuesday 28th May 2024\nTime: 11am to 2pm\nCost: Tickets are $5 per person **Companion cards are accepted\nLocation: Lota Reserve\, 710 Esplanade\, Lota QLD\n***Look for The Brain Injury Community Flag***\nRSVP: By 27th May 2024\, via this event or by emailing: info@tbic.org.au\nPlease note: Lunch will be provided for attendees and their support person or carer.\nPlease advise of any dietary requirements when securing your ticket. \n***PLEASE NOTE: THIS IS A BRAIN INJURY SURVIVOR EVENT\, NOT A PROVIDER EVENT*** \nWHAT’S INCLUDED? \n\nCompanion cards are accepted\nVariety of amusing and nostalgic games for all abilities.\nLunch and refreshments\, please advise of any dietary requirements\nFree parking\n\nFor more information\, please contact us on: \nMobile: 0493110693 \nEmail: info@tbic.org.au \nWebsite: www.thebraininjurycommunity.org.au \n  \nBOOK NOW
URL:https://thebraininjurycommunity.org.au/event/tbic-picnic-in-the-park-lota-5/
LOCATION:Lota Reserve\, 710 Esplanade\, Lota\, QLD\, 4179\, Australia
CATEGORIES:Social
ATTACH;FMTTYPE=image/png:https://thebraininjurycommunity.org.au/wp-content/uploads/2024/04/TBIC-Square-Lota-Picnic-28May24-1.png
ORGANIZER;CN="The Brain Injury Community":MAILTO:info@tbic.org.au
END:VEVENT
END:VCALENDAR