BEGIN:VCALENDAR
VERSION:2.0
PRODID:-//The Brain Injury Community Inc. - ECPv6.15.20//NONSGML v1.0//EN
CALSCALE:GREGORIAN
METHOD:PUBLISH
X-WR-CALNAME:The Brain Injury Community Inc.
X-ORIGINAL-URL:https://thebraininjurycommunity.org.au
X-WR-CALDESC:Events for The Brain Injury Community Inc.
REFRESH-INTERVAL;VALUE=DURATION:PT1H
X-Robots-Tag:noindex
X-PUBLISHED-TTL:PT1H
BEGIN:VTIMEZONE
TZID:Australia/Brisbane
BEGIN:STANDARD
TZOFFSETFROM:+1000
TZOFFSETTO:+1000
TZNAME:AEST
DTSTART:20230101T000000
END:STANDARD
END:VTIMEZONE
BEGIN:VEVENT
DTSTART;TZID=Australia/Brisbane:20240402T110000
DTEND;TZID=Australia/Brisbane:20240402T140000
DTSTAMP:20260420T194756
CREATED:20240311T071745Z
LAST-MODIFIED:20240311T071745Z
UID:2301-1712055600-1712066400@thebraininjurycommunity.org.au
SUMMARY:TBIC and EveryBody eBikes Picnic in the Park - Nundah
DESCRIPTION:You’re invited to join The Brain Injury Community Inc and EveryBody eBikes for a Picnic in the Park and eBike cycling adventure at Albert Bishop Park\, Nundah.\nSample a range of eBikes and trikes\, supplied by EveryBody eBikes and enjoy a leisurely ride around Criterium Circuit.\nAll necessary equipment and safety gear will be provided. \nWhether you live with a brain injury or know someone who does\, this all-inclusive event offers an amazing opportunity for you to:\n– Trial a range of electric bikes and trikes for all abilities and skill levels\, supported by the friendly team at Everybody eBikes\, the home of inclusive cycling\n– Meet other brain injury survivors and TBIC members\n– Make new friends or catch up with old ones\n– Enjoy a picnic style lunch in the picturesque parklands at Nundah\n**Lunch and refreshments will be provided for all attendees\, their support person or carer. Please advise of any dietary requirements when securing your ticket. \nDon’t miss this opportunity to connect with fellow brain injury survivors and have a great day on 2 or more wheels! \nSecure your ticket today! \n \nEVENT DETAILS:\nEvent Partner: EveryBody eBikes\nDate: Tuesday 2nd April 2024\nTime: 11am to 2pm\nCost: $5 per person ** Companion cards are accepted\nLocation: Albert Bishop Park & Criterium Circuit\, 111 Hedley Avenue\, Nundah QLD\n***Look for The Brain Injury Community Flag***\nRSVP: By 1st April 2024\, via this event or by emailing: info@tbic.org.au \n***PLEASE NOTE: THIS IS A BRAIN INJURY SURVIVOR EVENT\, NOT A PROVIDER EVENT*** \n \nWHAT’S INCLUDED? \n\nCompanion cards are accepted\n(Optional) eBike Activity – facilitated by EveryBody eBikes. All equipment will be provided\nGames and other outdoor activities\nLunch and refreshments. Please advise of any dietary requirements when securing your ticket\nFree parking available onsite\n\n \nEveryBody eBikes offer an extensive range of options for people living with disability or mobility issues and are registered NDIS providers.\neBikes are a sustainable transport option that provides a viable alternative to driving and offers an added layer of independence and freedom to those who may be restricted in movement.\nFor more information and to view the EveryBody eBikes product range\, please visit their website: https://everybodyebikes.com.au/ \n \nFor more information\, please contact us on: \nMobile: 0493 110 693 \nEmail: info@tbic.org.au \nWebsite: www.thebraininjurycommunity.org.au \n\nBOOK NOW
URL:https://thebraininjurycommunity.org.au/event/tbic-and-everybody-ebikes-picnic-in-the-park-nundah/
LOCATION:Albert Bishop Park & Criterium Circuit\, 111 Hedley Avenue\, Nundah\, QLD\, 4012\, Australia
CATEGORIES:Social
ATTACH;FMTTYPE=image/png:https://thebraininjurycommunity.org.au/wp-content/uploads/2024/03/TBIC-Square-Nunah-Picnic-02Apr24-1.png
ORGANIZER;CN="The Brain Injury Community":MAILTO:info@tbic.org.au
END:VEVENT
BEGIN:VEVENT
DTSTART;TZID=Australia/Brisbane:20240405T080000
DTEND;TZID=Australia/Brisbane:20240405T170000
DTSTAMP:20260420T194756
CREATED:20240405T090043Z
LAST-MODIFIED:20240405T090043Z
UID:2336-1712304000-1712336400@thebraininjurycommunity.org.au
SUMMARY:TBIC Picnic in the Park – Ipswich
DESCRIPTION:Join The Brain Injury Community Inc. and other brain injury survivors for an unforgettable day of fun and connection at The Brain Injury Community Inc’s Picnic in the Park at Queen’s Park\, Ipswich. \nThis all-inclusive event is the perfect opportunity to connect with other brain injury survivors\, relax\, enjoy the outdoors and play a range of games suitable for all abilities whilst make lasting memories. \nMeet other members\, make new friends\, share your experiences with others who understand and create a network of support that will span a lifetime. \nLooking forward to seeing you there! \nEVENT DETAILS:\nDate: Wednesday 8th May 2024\nTime: 11am to 2pm\nCost: Tickets are $5 per person **Companion cards are accepted\nLocation: Queens Park\, 10a Merle Finimore Avenue\, Ipswich QLD\n***Look for The Brain Injury Community Flag in Queens Park \, directly opposite the Ipswich Bowls Club carpark***\nRSVP: By 7th May 2024\, via clicking the event link or by emailing: info@tbic.org.au\nPlease note: Lunch will be provided for attendees and their support person or carer. Please advise of any dietary requirements when securing your ticket. \n***PLEASE NOTE: THIS IS A BRAIN INJURY SURVIVOR EVENT\, NOT A PROVIDER EVENT*** \nWHAT’S INCLUDED? \n\nCompanion cards are accepted\nVariety of amusing and nostalgic games for all abilities.\nLunch and refreshments\, please advise of any dietary requirements\nFree parking\n\n\nFor more information\, please contact us on:\nMobile: 0493110693\nEmail: info@tbic.org.au\nWebsite: www.thebraininjurycommunity.org.au \n\nBOOK NOW
URL:https://thebraininjurycommunity.org.au/event/tbic-picnic-in-the-park-ipswich-4/
LOCATION:Queens Park – Ipswich\, 10a Merle Finimore Avenue\, Ipswich\, Queensland\, 4305\, Australia
CATEGORIES:Social
ATTACH;FMTTYPE=image/png:https://thebraininjurycommunity.org.au/wp-content/uploads/2024/04/TBIC-Square-Ipswich-Picnic-8May24-1.png
ORGANIZER;CN="The Brain Injury Community":MAILTO:info@tbic.org.au
END:VEVENT
BEGIN:VEVENT
DTSTART;TZID=Australia/Brisbane:20240410T110000
DTEND;TZID=Australia/Brisbane:20240410T140000
DTSTAMP:20260420T194756
CREATED:20240311T072041Z
LAST-MODIFIED:20240311T072041Z
UID:2305-1712746800-1712757600@thebraininjurycommunity.org.au
SUMMARY:TBIC Picnic in the Park – Ipswich
DESCRIPTION:Join The Brain Injury Community Inc. and other brain injury survivors for an unforgettable day of fun and connection at The Brain Injury Community Inc’s Picnic in the Park at Queen’s Park\, Ipswich. \nThis all-inclusive event is the perfect opportunity to connect with other brain injury survivors\, relax\, enjoy the outdoors and play a range of games suitable for all abilities whilst make lasting memories. \nMeet other members\, make new friends\, share your experiences with others who understand and create a network of support that will span a lifetime. \nLooking forward to seeing you there! \nEVENT DETAILS:\nDate: Wednesday 10th April 2024\nTime: 11am to 2pm\nCost: Tickets are $5 per person **Companion cards are accepted\nLocation: Queens Park\, 10a Merle Finimore Avenue\, Ipswich QLD\n***Look for The Brain Injury Community Flag in Queens Park \, directly opposite the Ipswich Bowls Club carpark***\nRSVP: By 9th April 2024\, via clicking the event link or by emailing: info@tbic.org.au\nPlease note: Lunch will be provided for attendees and their support person or carer. Please advise of any dietary requirements when securing your ticket. \n***PLEASE NOTE: THIS IS A BRAIN INJURY SURVIVOR EVENT\, NOT A PROVIDER EVENT*** \nWHAT’S INCLUDED? \n\nCompanion cards are accepted\nVariety of amusing and nostalgic games for all abilities.\nLunch and refreshments\, please advise of any dietary requirements\nFree parking\n\n\nFor more information\, please contact us on:\nMobile: 0493110693\nEmail: info@tbic.org.au\nWebsite: www.thebraininjurycommunity.org.au \n\nBOOK NOW
URL:https://thebraininjurycommunity.org.au/event/tbic-picnic-in-the-park-ipswich-3/
LOCATION:Queens Park – Ipswich\, 10a Merle Finimore Avenue\, Ipswich\, Queensland\, 4305\, Australia
CATEGORIES:Social
ATTACH;FMTTYPE=image/png:https://thebraininjurycommunity.org.au/wp-content/uploads/2024/03/TBIC-Square-Ipswich-Picnic-10Apr24.png
ORGANIZER;CN="The Brain Injury Community":MAILTO:info@tbic.org.au
END:VEVENT
BEGIN:VEVENT
DTSTART;TZID=Australia/Brisbane:20240413T160000
DTEND;TZID=Australia/Brisbane:20240413T190000
DTSTAMP:20260420T194756
CREATED:20240311T073822Z
LAST-MODIFIED:20240311T074056Z
UID:2313-1713024000-1713034800@thebraininjurycommunity.org.au
SUMMARY:Meet & Greet at Eat Street Hamilton QLD
DESCRIPTION:Back by popular demand! \nThe Brain Injury Community Inc. is hosting another Meet & Greet event at Eat Street Hamilton for brain injury survivors\, our members\, their loved ones and support network. \nIf you have a brain injury\, know or care for someone who does\, The Brain Injury Community Inc invites you to join us on Saturday 13th April 2024\, where we will be exploring the wonders of the Eat Streets venue\, as well as sampling delicious cuisines and tasty treats from six of the world’s seven continents. \nThere will also be FREE entertainment\, live music and ample FREE parking on-site. \nThis event is all about bringing the brain injury community together for a fun-filled evening of scrumptious food\, decadent desserts\, entertainment\, laughter\, and connection in a supportive environment. \nMark your calendars and join us at Eat Street Northshore for an evening to remember! \nSecure your ticket today via this event or alternatively\, they can be purchased at the door. \nEVENT DETAILS:\nDate: Saturday 13th April 2024\nTime: 4pm to 7pm (meet at ‘Hello Entry’ gates\, at 4pm sharp)\nLocation: 221D MacArthur Ave\, Hamilton QLD 4007\nCost: $6 per person plus Eventbrite booking fee (Carers tickets are FREE\, please bring your companion card with you)\n**PLEASE NOTE: Cost of food and beverage purchases are not included in this event ticket price.\nDinner\, treats and/or refreshments from one of the many delicious food stalls will need to be purchased by attendees.\nRSVP: By 12th April 2024 via this event or email us at: info@tbic.org.au\nPlease note: You will be emailed a QR code to Enter at the ‘Hello Entry’ gates on the day.\nMeet at the tables next to the Big Ship and at the rear of Kombi Alley.\n*** Look for The Brain Injury Community Flag*** \n***PLEASE NOTE: THIS IS A BRAIN INJURY SURVIVOR EVENT\, NOT A PROVIDER EVENT*** \nWhat’s Included: \n\nEntry to Eat Street Hamilton. (Carers tickets are free\, please bring your companion card with you)\nOpportunity to meet other members and make new friends\nFree entertainment\nFree parking available onsite\n\nFor more information\, please contact us on:\nMobile: 0493 110 693\nEmail: info@tbic.org.au\nWebsite: www.thebraininjurycommunity.org.au \nBOOK NOW
URL:https://thebraininjurycommunity.org.au/event/2313/
LOCATION:Eat Street Hamilton\, 221D MacArthur Avenue\, Hamilton\, QLD\, 4007\, Australia
CATEGORIES:Social
ATTACH;FMTTYPE=image/png:https://thebraininjurycommunity.org.au/wp-content/uploads/2024/03/TBIC-Square-Eat-Streets-13Apr24-1.png
ORGANIZER;CN="The Brain Injury Community":MAILTO:info@tbic.org.au
END:VEVENT
BEGIN:VEVENT
DTSTART;TZID=Australia/Brisbane:20240417T110000
DTEND;TZID=Australia/Brisbane:20240417T140000
DTSTAMP:20260420T194756
CREATED:20240311T074336Z
LAST-MODIFIED:20240311T074336Z
UID:2317-1713351600-1713362400@thebraininjurycommunity.org.au
SUMMARY:TBIC Picnic in the Park - Cascade Gardens\, Broadbeach
DESCRIPTION:Join us for a memorable day of fun and connection at The Brain Injury Community Inc’s Picnic the Park event in Cascade Gardens\, Broadbeach. \nWhether you live with a brain injury or know someone who does\, this event offers an all-inclusive opportunity for you to meet other members\, as well as our supportive network of staff and volunteers. \nParticipate in a range of nostalgic games\, suitable for all abilities whilst making lasting memories and enjoying a picnic style lunch in the beautiful parklands. \nMake new friends\, share your experiences with others who understand and create a network of support that will last a lifetime. Our Picnic in the Park event is the perfect opportunity to relax\, enjoy the outdoors\, connect with your local community and other brain injury survivors. \nDon’t miss out on this exciting event at Cascade Gardens – it’s going to be a blast! \n\nEVENT DETAILS:\nDate: Wednesday 17th April 2024\nTime: 11am to 2pm\nCost: Tickets are $5 per person **Companion cards are accepted\nLocation: Cascade Gardens\, 2730 Gold Coast Highway\, Broadbeach QLD\n***Look for The Brain Injury Community Flag***\nRSVP: By 16th April 2024\, via this event or by emailing: info@tbic.org.au\nPlease note: Lunch will be provided for attendees and their support person or carer. Please advise of any dietary requirements when securing your ticket. \n\n***PLEASE NOTE: THIS IS A BRAIN INJURY SURVIVOR EVENT\, NOT A PROVIDER EVENT*** \n\nWHAT’S INCLUDED? \n\nCompanion cards are accepted\nVariety of amusing and nostalgic games for all abilities.\nLunch and refreshments\, please advise of any dietary requirements\nFree parking\n\n\n\nFor more information\, please contact us on:\nMobile: 0493 110 693\nEmail: info@tbic.org.au\nWebsite: www.thebraininjurycommunity.org.au \nBOOK NOW
URL:https://thebraininjurycommunity.org.au/event/tbic-picnic-in-the-park-cascade-gardens-broadbeach-4/
LOCATION:Cascade Gardens\, 2730 Gold Coast Highway\, Broadbeach\, QLD\, 4218\, Australia
CATEGORIES:Social
ATTACH;FMTTYPE=image/png:https://thebraininjurycommunity.org.au/wp-content/uploads/2024/03/TBIC-Square-Cascade-Gardens-17Apr24.png
END:VEVENT
BEGIN:VEVENT
DTSTART;TZID=Australia/Brisbane:20240423T110000
DTEND;TZID=Australia/Brisbane:20240423T140000
DTSTAMP:20260420T194756
CREATED:20240311T074538Z
LAST-MODIFIED:20240311T074538Z
UID:2320-1713870000-1713880800@thebraininjurycommunity.org.au
SUMMARY:TBIC Picnic in the Park – Lota
DESCRIPTION:You’re invited to The Brain Injury Community Inc’s Picnic in the Park\, in the beautiful Bayside suburb of Lota. \nWhether you live with a brain injury or know someone who does\, this all-inclusive event offers an exciting opportunity for you to meet other brain injury survivors and TBIC members\, as well as our supportive network of staff and volunteers. \nEnjoy playing vintage games and other nostalgic activities whilst taking advantage of the great views of the bay. \nThis event is all about fostering a supportive community. We believe in the power of connection and the strength that comes from sharing experiences with others who understand. \nMake new friends\, share your stories and create a network of support that will last a lifetime. \nDon’t miss out on this awesome event and secure your ticket today! \nSee you there! \nEVENT DETAILS:\nDate: Tuesday 23rd April 2024\nTime: 11am to 2pm\nCost: Tickets are $5 per person **Companion cards are accepted\nLocation: Lota Reserve\, 710 Esplanade\, Lota QLD\n***Look for The Brain Injury Community Flag **\nRSVP: By 22nd April 2024\, via this event or by email: info@tbic.org.au\nPlease note: Lunch will be provided for attendees and their support person or carer. Please advise of any dietary requirements when securing your ticket. \n***PLEASE NOTE: THIS IS A BRAIN INJURY SURVIVOR EVENT\, NOT A PROVIDER EVENT*** \nWHAT’S INCLUDED? \n\nCompanion cards are accepted\nVariety of amusing and nostalgic games for all abilities.\nLunch and refreshments\, please advise of any dietary requirements\nFree parking\n\nFor more information\, please contact us on:\nMobile: 0493 110 693\nEmail: info@tbic.org.au\nWebsite: www.thebraininjurycommunity.org.au \n  \nBOOK NOW
URL:https://thebraininjurycommunity.org.au/event/tbic-picnic-in-the-park-lota-4/
LOCATION:Lota Reserve\, 710 Esplanade\, Lota\, QLD\, 4179\, Australia
CATEGORIES:Social
ATTACH;FMTTYPE=image/png:https://thebraininjurycommunity.org.au/wp-content/uploads/2024/03/TBIC-Square-Lota-23Apr24.png
ORGANIZER;CN="The Brain Injury Community":MAILTO:info@tbic.org.au
END:VEVENT
BEGIN:VEVENT
DTSTART;TZID=Australia/Brisbane:20240426T110000
DTEND;TZID=Australia/Brisbane:20240426T140000
DTSTAMP:20260420T194756
CREATED:20240311T074753Z
LAST-MODIFIED:20240311T074753Z
UID:2324-1714129200-1714140000@thebraininjurycommunity.org.au
SUMMARY:TBIC Picnic in the Park - Caloundra West
DESCRIPTION:The Brain Injury Community Inc invites you to join us for an outdoor Picnic at Canavan Gracie Recreational Park in Caloundra West. \nEnjoy a scrumptious lunch whilst engaging in some old-fashioned games that are sure to evoke a sense of nostalgia and camaraderie. Connect with other members\, forge new friendships and share your experiences with others who understand at our all-inclusive event. \nIt’s the perfect time of year to embrace the sunshine and revel in the joy of being together with other Brain Injury Survivors and their loved ones. \nSee you there! \n\nEVENT DETAILS:\nDate: Friday 26th April 2024\nTime: 11am to 2pm\nCost: Tickets are $5 per person **Companion cards are accepted\nLocation: Canavan Gracie Recreational Park\, 18 Lomond Crescent\, Caloundra West QLD\n*** Meet at Bellvista Meeting Place***\nRSVP: By 25th April 2024\, via this event or by emailing info@tbic.org.au\nPlease note: Lunch will be provided for attendees and their support person or carer. Please advise of any dietary requirements when securing your ticket. \n\n***PLEASE NOTE: THIS IS A BRAIN INJURY SURVIVOR EVENT\, NOT A PROVIDER EVENT*** \n\nWHAT’S INCLUDED? \n\nCompanion cards are accepted\nVariety of amusing and nostalgic games for all abilities.\nLunch and refreshments\, please advise of any dietary requirements\nFree parking\n\n\nFor more information\, please contact us on:\nMobile: 0493 110 693\nEmail: info@tbic.org.au\nWebsite: www.thebraininjurycommunity.org.au \nBOOK NOW
URL:https://thebraininjurycommunity.org.au/event/tbic-picnic-in-the-park-caloundra-west-2/
LOCATION:BellVista Meeting Place – Caloundra West\, 18 Lomond Crescent\, Caloundra West\, QLD\, 4551\, Australia
CATEGORIES:Social
ATTACH;FMTTYPE=image/png:https://thebraininjurycommunity.org.au/wp-content/uploads/2024/03/TBIC-Square-Caloundra-Picnic-26Apr24.png
ORGANIZER;CN="The Brain Injury Community":MAILTO:info@tbic.org.au
END:VEVENT
END:VCALENDAR