BEGIN:VCALENDAR
VERSION:2.0
PRODID:-//The Brain Injury Community Inc. - ECPv6.15.20//NONSGML v1.0//EN
CALSCALE:GREGORIAN
METHOD:PUBLISH
X-ORIGINAL-URL:https://thebraininjurycommunity.org.au
X-WR-CALDESC:Events for The Brain Injury Community Inc.
REFRESH-INTERVAL;VALUE=DURATION:PT1H
X-Robots-Tag:noindex
X-PUBLISHED-TTL:PT1H
BEGIN:VTIMEZONE
TZID:Australia/Sydney
BEGIN:STANDARD
TZOFFSETFROM:+1100
TZOFFSETTO:+1000
TZNAME:AEST
DTSTART:20220402T160000
END:STANDARD
BEGIN:DAYLIGHT
TZOFFSETFROM:+1000
TZOFFSETTO:+1100
TZNAME:AEDT
DTSTART:20221001T160000
END:DAYLIGHT
BEGIN:STANDARD
TZOFFSETFROM:+1100
TZOFFSETTO:+1000
TZNAME:AEST
DTSTART:20230401T160000
END:STANDARD
BEGIN:DAYLIGHT
TZOFFSETFROM:+1000
TZOFFSETTO:+1100
TZNAME:AEDT
DTSTART:20230930T160000
END:DAYLIGHT
BEGIN:STANDARD
TZOFFSETFROM:+1100
TZOFFSETTO:+1000
TZNAME:AEST
DTSTART:20240406T160000
END:STANDARD
BEGIN:DAYLIGHT
TZOFFSETFROM:+1000
TZOFFSETTO:+1100
TZNAME:AEDT
DTSTART:20241005T160000
END:DAYLIGHT
END:VTIMEZONE
BEGIN:VTIMEZONE
TZID:Australia/Brisbane
BEGIN:STANDARD
TZOFFSETFROM:+1000
TZOFFSETTO:+1000
TZNAME:AEST
DTSTART:20220101T000000
END:STANDARD
END:VTIMEZONE
BEGIN:VEVENT
DTSTART;TZID=Australia/Sydney:20231110T110000
DTEND;TZID=Australia/Sydney:20231110T140000
DTSTAMP:20260419T195213
CREATED:20231017T114602Z
LAST-MODIFIED:20231017T114602Z
UID:2178-1699614000-1699624800@thebraininjurycommunity.org.au
SUMMARY:Fish with Us! Enjoy a day of fishing on the Tweed River.
DESCRIPTION:The Brain Injury Community Inc. together with Social Futures invites you to join us for a Fishing Day and a Picnic on the Tweed River. \nExperience the joy of fishing\, on a wheelchair accessible boat\, with the assistance of trained and experienced volunteers. All abilities are catered for! \nMeet other brain injury survivors and enjoy an all inclusive fun day out on the water. \nWhether you’re a skilled fisherman or if this is your first fishing attempt\, this event is for you! Its going to be a great day\, full of laughter and fun.  And we might even catch a fish or two! \nWhat’s Included: \n\nLunch and refreshments\nFishing equipment: rods\, bait and tackle\nBoat supports (wheelchair accessible)\nWe even have someone to bait your hook for you!\n\nEVENT DETAILS: \nDate: Friday 10th November 2023.\nTime: 11am to 2pm **Boat departs @ 11am sharp. **NSW time\nLocation: Tweed Marina\, 4 River Terrace\, Tweed Heads\, NSW 2485                                                                         ** Look for our flag near the site office. \nCost: $20 per person attending (plus Eventbrite booking fee).\n*PLEASE NOTE*: We can invoice the cost of the event to your NDIS plan. \nRSVP by 7th November 2023\, TICKETS ARE LIMITED\, PLEASE ENSURE YOU BOOK EARLY \nClick on the Book Now link below.\nSee you there! \nBOOK NOW\nClick Here To Download Event Flyer – PDF \nFor more information\, please contact us on:\nMobile: 0493 110 693\nEmail: info@tbic.org.au
URL:https://thebraininjurycommunity.org.au/event/fish-with-us-enjoy-a-day-of-fishing-on-the-tweed-river/
LOCATION:Tweed Marina\, 4 River Terrace\, Tweed Heads\, NSW\, 2485\, Australia
CATEGORIES:Social
ATTACH;FMTTYPE=image/png:https://thebraininjurycommunity.org.au/wp-content/uploads/2023/10/TBIC-Square-Fish-with-Us-10Nov23.png
ORGANIZER;CN="The Brain Injury Community":MAILTO:info@tbic.org.au
END:VEVENT
BEGIN:VEVENT
DTSTART;TZID=Australia/Brisbane:20231111T160000
DTEND;TZID=Australia/Brisbane:20231111T190000
DTSTAMP:20260419T195213
CREATED:20231020T025614Z
LAST-MODIFIED:20231025T033636Z
UID:2190-1699718400-1699729200@thebraininjurycommunity.org.au
SUMMARY:TBIC Meet & Greet - Eat Street Northshore (Hamilton)
DESCRIPTION:If you have a brain injury\, know or care for someone who does – The Brain Injury Community Inc invites you to join us on Saturday 11th November 2023 where we will be exploring the wonders of the Eat Streets venue as well as sampling delicious dishes and tasty treats from six of the world’s seven continents. \nThere will also be FREE entertainment\, live music and ample parking on-site. \nIf you’re looking to meet other Brain Injury survivors and enjoy a meal with friends at Eat Street Hamilton\, then this event is for you! \nThis is the perfect opportunity to forge new relationships or bring your friends and family along with you for the evening. Our team of qualified personnel and proficient volunteers will be able to assist people of all abilities. \n  \n\n\n\n\nEVENT DETAILS: \nDate: Saturday\, 11th November 2023. \nTime: 4pm to 7pm (meet at ‘Hello Entry’ gates\, at 4pm sharp) \nLocation: 221D MacArthur Ave\, Hamilton QLD 4007 \nCost: $6 per person plus Eventbrite booking fee (Carers tickets are FREE\, please bring your companion card with you) \n**PLEASE NOTE: Cost of food and beverage purchases are not included in this event ticket price. Dinner\, treats and/or refreshments from one of the many delicious food stalls will need to be purchased by attendees. \nWhat’s Included: \n\nEntry to Eat Street Hamilton. (Carers tickets are free\, please bring your companion card with you)\nOpportunity to meet other members and make new friends.\nFree parking available\n\nPlease note: You will be emailed a QR code to Enter at the ‘Hello Entry’ gates on the day. Meet at the tables next to the Big Ship and at the rear of Kombi Alley. \n*** Look for The Brain Injury Community Flag*** \nSee you there! \nRSVP: By 9th November 2023\, via this event or by email: info@tbic.org.au \n  \nFor more information\, please contact us on: \nMobile: 0493110693 \nEmail: info@tbic.org.au \nWebsite: www.thebraininjurycommunity.org.au \n\n\n\n\n\n\nBOOK NOW
URL:https://thebraininjurycommunity.org.au/event/tbic-meet-greet-eat-street-northshore-hamilton/
LOCATION:Eat Street Hamilton\, 221D MacArthur Avenue\, Hamilton\, QLD\, 4007\, Australia
CATEGORIES:Social
ATTACH;FMTTYPE=image/png:https://thebraininjurycommunity.org.au/wp-content/uploads/2023/10/TBIC-Square-Eat-Streets-11Nov23.png
ORGANIZER;CN="The Brain Injury Community":MAILTO:info@tbic.org.au
END:VEVENT
BEGIN:VEVENT
DTSTART;TZID=Australia/Brisbane:20231115T110000
DTEND;TZID=Australia/Brisbane:20231115T140000
DTSTAMP:20260419T195213
CREATED:20231020T025835Z
LAST-MODIFIED:20231025T033434Z
UID:2192-1700046000-1700056800@thebraininjurycommunity.org.au
SUMMARY:TBIC Picnic in the Park - Cascade Gardens\, Broadbeach
DESCRIPTION:Join The Brain Injury Community Inc. for a FREE outdoor picnic in Cascade Gardens\, Broadbeach \n\n\nJoin us for an unforgettable day of fun and connection at The Brain Injury Community Inc’s FREE outdoor picnic in Cascade Gardens\, filled with nostalgic games\, plenty of laughter and delicious food. \nWhether you live with a brain injury or know someone who does\, this event offers an all inclusive opportunity for you to meet other members\, as well as our supportive network of staff and volunteers. \nThis event is all about fostering a supportive community. We believe in the power of connection and the strength that comes from sharing experiences with others who understand. Make new friends\, share your stories and create a network of support that will last a lifetime \nEVENT DETAILS: \nDate: Wednesday 15th November 2023 \nTime: 11am to 2pm \nCost: FREE Event \nLocation: Cascade Gardens\, 2730 Gold Coast Highway\, Broadbeach QLD \n*** Free parking is available onsite*** \nPlease note: Lunch will be provided for attendees and their support person or carer. Please advise of any dietary requirements when securing your FREE ticket. \nRSVP: By 12th November 2023\, via this event or by email: info@tbic.org.au \n  \nWHAT’S INCLUDED? \nVariety of amusing and nostalgic games for all abilities. \nLunch and refreshments\, please advise of any dietary requirements \nFree parking \n  \nFor more information\, please contact us on: \nMobile: 0493110693 \nEmail: info@tbic.org.au \nWebsite: www.thebraininjurycommunity.org.au \nBOOK NOW
URL:https://thebraininjurycommunity.org.au/event/tbic-picnic-in-the-park-cascade-gardens-broadbeach/
LOCATION:Cascade Gardens\, 2730 Gold Coast Highway\, Broadbeach\, QLD\, 4218\, Australia
CATEGORIES:Social
ATTACH;FMTTYPE=image/png:https://thebraininjurycommunity.org.au/wp-content/uploads/2023/10/TBIC-Square-Cascade-Gardens-15Nov23.png
END:VEVENT
BEGIN:VEVENT
DTSTART;TZID=Australia/Brisbane:20231124T110000
DTEND;TZID=Australia/Brisbane:20231124T140000
DTSTAMP:20260419T195213
CREATED:20231020T025942Z
LAST-MODIFIED:20231025T033825Z
UID:2195-1700823600-1700834400@thebraininjurycommunity.org.au
SUMMARY:TBIC Caloundra Picnic in the Park
DESCRIPTION:Join The Brain Injury Community Inc for a FREE fun-filled day and Outdoor Picnic at Canavan Gracie Recreational Park – Caloundra West! \nThe Brain Injury Community Inc’s Caloundra Picnic in the Park event is the perfect opportunity to relax\, enjoy good company\, and soak up the sunshine. Bring your family\, friends or carer along for a day of laughter\, games\, and delicious food. \nThere’s something for everyone at this all inclusive event. From nostalgic outdoor activities to mouthwatering treats\, you won’t want to miss out. Take a stroll through the park\, play some old-fashioned games\, or simply unwind on a picnic blanket while enjoying the beautiful surroundings and laid back atmosphere. \nIt’s the perfect time of year to embrace the sunshine and revel in the joy of being together with other Brain Injury Survivors and their loved ones. Connect with other members\, forge new friendships\, create lasting memories and share your experiences with others who understand. \nSee you there! \nEVENT DETAILS: \nDate: Friday 24th November 2023 \nTime: 11am to 2pm \nCost: FREE Event \nLocation: Canavan Gracie Recreational Park\, 18 Lomond Crescent\, Caloundra West \n*** MEET AT: BellVista Meeting Place. Look for The Brain Injury Community Inc. flag*** \n**Picnic rugs and cushions will be provided. Please bring your own chair \nRSVP: By 22nd November 2023\, via this event or by email: info@tbic.org.au \n  \nWHAT’S INCLUDED? \n\nVariety of amusing and nostalgic games for all abilities\nLunch and refreshments for all attendees. Please advise of any dietary requirements when securing your FREE ticket\nFree parking\n\n  \nFor more information\, please contact us on: \nMobile: 0493110693 \nEmail: info@tbic.org.au \nWebsite: www.thebraininjurycommunity.org.au \nBOOK NOW
URL:https://thebraininjurycommunity.org.au/event/tbic-caloundra-picnic-in-the-park/
LOCATION:Canavan Gracie Recreational Park\, 18 Lomond Crescent\, Caloundra West\, QLD\, 4551\, Australia
CATEGORIES:Social
ATTACH;FMTTYPE=image/png:https://thebraininjurycommunity.org.au/wp-content/uploads/2023/10/TBIC-Square-Caloundra-Picnic-24Nov23.png
END:VEVENT
BEGIN:VEVENT
DTSTART;TZID=Australia/Brisbane:20231128T110000
DTEND;TZID=Australia/Brisbane:20231128T140000
DTSTAMP:20260419T195213
CREATED:20231020T030150Z
LAST-MODIFIED:20231025T034006Z
UID:2197-1701169200-1701180000@thebraininjurycommunity.org.au
SUMMARY:TBIC Picnic in the Park - Lota
DESCRIPTION:Let’s have a blast at the TBIC FREE Picnic in the Park – Lota\, where we’ll enjoy good food\, great company\, and tons of outdoor fun! \nYou’re invited to join us for a FREE fun-filled day and outdoor picnic in the beautiful bayside suburb of Lota. \nWhether you have a brain injury\, or know someone who does\, this event offers an all inclusive opportunity for you to meet other members\, as well as our supportive network of staff and volunteers. Enjoy playing vintage games and other nostalgic activities and soak up the sunshine whilst taking advantage of the great views of the bay. \nThe Brain Injury Community Inc’s FREE Picnic in the Park is the perfect opportunity to relax\, enjoy nature and connecting with friends and family. \nGet ready to have a fantastic time outdoors. Take a break from the hustle and bustle of daily life and immerse yourself in the beauty of the bayside. \nWe can’t wait to see you there! \n  \nEVENT DETAILS: \nDate: Tuesday 28th November 2023 \nTime: 11am to 2pm \nCost: FREE Event \nLocation: Lota Reserve\, 710 Esplanade\, Lota\, QLD \n*** Free parking is available onsite*** \nPlease note: Lunch will be provided for attendees and their support person or carer. Please advise of any dietary requirements when securing your FREE ticket. \nRSVP: By 26th November 2023\, via this event or by email: info@tbic.org.au \n  \nWHAT’S INCLUDED? \n\nVariety of amusing and nostalgic games for all abilities.\nLunch and refreshments\, please advise of any dietary requirements\nGreat views of the bay\nFree parking\n\n  \nFor more information\, please contact us on: \nMobile: 0493110693 \nEmail: info@tbic.org.au \nWebsite: www.thebraininjurycommunity.org.au \nBOOK NOW
URL:https://thebraininjurycommunity.org.au/event/tbic-picnic-in-the-park-lota/
LOCATION:Lota Reserve\, 710 Esplanade\, Lota\, QLD\, 4179\, Australia
CATEGORIES:Social
ATTACH;FMTTYPE=image/png:https://thebraininjurycommunity.org.au/wp-content/uploads/2023/10/TBIC-Square-Lota-Picnic-28Nov23.png
END:VEVENT
END:VCALENDAR