BEGIN:VCALENDAR
VERSION:2.0
PRODID:-//The Brain Injury Community Inc. - ECPv6.15.20//NONSGML v1.0//EN
CALSCALE:GREGORIAN
METHOD:PUBLISH
X-WR-CALNAME:The Brain Injury Community Inc.
X-ORIGINAL-URL:https://thebraininjurycommunity.org.au
X-WR-CALDESC:Events for The Brain Injury Community Inc.
REFRESH-INTERVAL;VALUE=DURATION:PT1H
X-Robots-Tag:noindex
X-PUBLISHED-TTL:PT1H
BEGIN:VTIMEZONE
TZID:Australia/Brisbane
BEGIN:STANDARD
TZOFFSETFROM:+1000
TZOFFSETTO:+1000
TZNAME:AEST
DTSTART:20220101T000000
END:STANDARD
END:VTIMEZONE
BEGIN:VEVENT
DTSTART;TZID=Australia/Brisbane:20231007T110000
DTEND;TZID=Australia/Brisbane:20231007T140000
DTSTAMP:20260420T030402
CREATED:20230703T234657Z
LAST-MODIFIED:20230710T070603Z
UID:2085-1696676400-1696687200@thebraininjurycommunity.org.au
SUMMARY:FREE Outdoor Picnic in the Park - Toowoomba QLD
DESCRIPTION:Join us\, other Brain Injury Survivors\, their families and support network\, for a fun day filled with laughter and good cheer for an outdoor picnic in the Heritage-listed\, Laurel Bank Park\, located at the corner of West Street\, Hill Street and Herries Street\, Toowoomba QLD. \nThere will be old fashioned games provided on the day\, a relaxed and inclusive environment for all abilities under the supervision of trained staff and experienced volunteers. \nLunch and refreshments provided for attendees and their support person. \nTo secure your FREE ticket\, email info@tbic.org.au or click on the “BOOK NOW” link below to secure your spot\, using our Eventbrite page. \nEVENT DETAILS: \nDate: Saturday 7th October 2023.\nTime: 11am to 2pm\nCost: FREE Event\nLocation: 50 Hill Street\, Toowoomba City QLD 4350\n*** MEET AT: BBQ and Picnic Table Area near Herries Street.\nFree Parking available – Enter via Hill Street for FREE On-Site Parking.*** \nRSVP: 5th October 2023 \nWHAT’S INCLUDED? \n\nVariety of games for all abilities.\nLunch and refreshments for members\, and their support person / carer.\nPlease advise of any dietary requirements when making your booking.\n\nWe look forward to seeing you there! \nBOOK NOW\nDOWNLOAD EVENT FLYER PDF HERE\n \nFor more information\, please contact us on:\nMobile: 0493 110 693\nEmail: info@tbic.org.au
URL:https://thebraininjurycommunity.org.au/event/free_outdoor_picnic_in_the_park_toowoomba/
LOCATION:Laurel Bank Park Toowoomba\, 50 Hill Street\, Toowoomba City\, QLD\, 4350\, Australia
CATEGORIES:Social
ATTACH;FMTTYPE=image/png:https://thebraininjurycommunity.org.au/wp-content/uploads/2023/03/The_Brain_Injury_Community_Games.png
ORGANIZER;CN="The Brain Injury Community":MAILTO:info@tbic.org.au
END:VEVENT
BEGIN:VEVENT
DTSTART;TZID=Australia/Brisbane:20231013T110000
DTEND;TZID=Australia/Brisbane:20231013T140000
DTSTAMP:20260420T030402
CREATED:20230922T032413Z
LAST-MODIFIED:20230922T035123Z
UID:2155-1697194800-1697205600@thebraininjurycommunity.org.au
SUMMARY:FREE Picnic in the Park Kingscliff NSW
DESCRIPTION:The Brain Injury Community Inc. is hosting an all-inclusive FREE & FUN day out for anyone living with a brain injury\, their support team\, carers\, family members or friends. If you’re looking to meet other Brain Injury survivors in Kingscliff NSW and the surrounding Tweed Shire regions\, this event is for you! \nExperience amusing games\, enjoy lunch and tons of laughter. This is the prefect opportunity to make new friends or bring your friends along with you for the day. \nLunch and refreshments provided for attendees and their support person. \nTo secure your FREE ticket\, email info@tbic.org.au or click on the “BOOK NOW” link below to secure your spot\, using our Eventbrite page. \nEVENT DETAILS: \nDate: Friday 13th October 2023.\nTime: 11am to 2pm\nCost: FREE Event\nLocation: Faulks Park\, 12–14 Marine Parade\, Kingscliff NSW 2487\n*** MEET AT: BBQ and Picnic Table Area near the playground\n \nRSVP: 11th October 2023 \nWHAT’S INCLUDED? \n\nVariety of games for all abilities.\nLunch and refreshments for members\, and their support person / carer.\nPlease advise of any dietary requirements when making your booking.\n\nWe look forward to seeing you there! \nBOOK NOW\nDOWNLOAD EVENT FLYER – PDF\n \nFor more information\, please contact us on:\nMobile: 0493 110 693\nEmail: info@tbic.org.au
URL:https://thebraininjurycommunity.org.au/event/free-picnic-in-the-park-kingscliff-nsw/
LOCATION:faulks park\, 12–14 Marine Parade\, Kingscliff\, NSW\, 2487\, Australia
CATEGORIES:Social
ATTACH;FMTTYPE=image/png:https://thebraininjurycommunity.org.au/wp-content/uploads/2023/09/Kngscliff-Picnic.png
ORGANIZER;CN="The Brain Injury Community":MAILTO:info@tbic.org.au
END:VEVENT
BEGIN:VEVENT
DTSTART;TZID=Australia/Brisbane:20231021T110000
DTEND;TZID=Australia/Brisbane:20231021T140000
DTSTAMP:20260420T030402
CREATED:20231017T052558Z
LAST-MODIFIED:20231017T120324Z
UID:2170-1697886000-1697896800@thebraininjurycommunity.org.au
SUMMARY:Meet & Greet at Groundwater Country Music Festival
DESCRIPTION:Calling all country music fans who love a good party! \nSet only steps away from the iconic golden beaches of Broadbeach\, the Groundwater Country Music Festival is bringing the country to the coast.   \nThe Groundwater Country Music Festival celebrates community and brings people together by their shared love of country music.  \nWhether you live with a brain injury or know someone who does\, this is the perfect opportunity to make new friends or bring your friends along with you for the day.   \nTo secure your FREE ticket\, email info@tbic.org.au or click on the “BOOK NOW” link below to secure your spot\, using our Eventbrite page. \nEVENT DETAILS: \nDate: Saturday 21 October 2023.\nTime: 11am to 2pm\nCost: FREE Event\nLocation: Groundwater Country Music Festival\, Kurrawa Park\, Broadbeach QLD. 155 Old Burleigh Road\, Broadbeach QLD 4218 ** Look for our flag\, we will be in a spot near the entrance to the licensed area. ** \nRSVP: 21st October 2023 – so we know how many to expect. \nWHAT’S INCLUDED?: \n\nLunch and refreshments can be purchased from festival vendors.\n\nCan’t wait to see you there! \nBOOK NOW\nClick Here To Download Event Flyer – PDF \nFor more information\, please contact us on:\nMobile: 0493 110 693\nEmail: info@tbic.org.au \n  \n 
URL:https://thebraininjurycommunity.org.au/event/meet-greet-at-groundwater-country-music-festival/
LOCATION:Groundwater Country Music Festival\, Kurrawa Park\, Broadbeach\, QLD\, 4218\, Australia
CATEGORIES:Social
ATTACH;FMTTYPE=image/png:https://thebraininjurycommunity.org.au/wp-content/uploads/2023/10/GWCMF-21Oct23.png
ORGANIZER;CN="The Brain Injury Community":MAILTO:info@tbic.org.au
END:VEVENT
END:VCALENDAR