BEGIN:VCALENDAR
VERSION:2.0
PRODID:-//The Brain Injury Community Inc. - ECPv6.15.20//NONSGML v1.0//EN
CALSCALE:GREGORIAN
METHOD:PUBLISH
X-WR-CALNAME:The Brain Injury Community Inc.
X-ORIGINAL-URL:https://thebraininjurycommunity.org.au
X-WR-CALDESC:Events for The Brain Injury Community Inc.
REFRESH-INTERVAL;VALUE=DURATION:PT1H
X-Robots-Tag:noindex
X-PUBLISHED-TTL:PT1H
BEGIN:VTIMEZONE
TZID:Australia/Brisbane
BEGIN:STANDARD
TZOFFSETFROM:+1000
TZOFFSETTO:+1000
TZNAME:AEST
DTSTART:20220101T000000
END:STANDARD
END:VTIMEZONE
BEGIN:VEVENT
DTSTART;TZID=Australia/Brisbane:20230908T110000
DTEND;TZID=Australia/Brisbane:20230908T140000
DTSTAMP:20260426T031907
CREATED:20230822T112957Z
LAST-MODIFIED:20230822T113901Z
UID:2144-1694170800-1694181600@thebraininjurycommunity.org.au
SUMMARY:TBIC Free Picnic in the Park Murwillumbah NSW
DESCRIPTION:Join us for a FREE Picnic in Murwillumbah NSW\, for a delightful day with day filled nostalgic games\, plenty of laughter and good food. \nWhether you live with a brain injury or know someone who does\, this event offers an inclusive event for you to meet other members\, as well as our supportive network of staff and volunteers. Lunch will be provided\, along with refreshments for members\, their carer or a support person. \nWhat’s Included:\n– Lunch & Refreshments provided.\n– Fun nostalgic games. \nEVENT DETAILS: \nDate: Friday 8th September\, 2023.\nTime: 4pm to 7pm\nLocation: Knox Park Murwillumbah NSW. 24 Brisbane St\, Murwillumbah NSW 2484\nMeet at the Picnic Tables\, located between the playground and toilet block (see map and pin) \nWe hope to see you there! \nRSVP: 6th September 2023\, click on the “BOOK NOW” link below to secure your spot. \nBOOK NOW\nDOWNLOAD EVENT FLYER – PDF\nFor more information\, please contact us on:\nMobile: 0493 110 693\nEmail: info@tbic.org.au
URL:https://thebraininjurycommunity.org.au/event/tbic-free-picnic-in-the-park-murwillumbah-nsw/
LOCATION:Knox Park Murwillumbah\, 24 Brisbane Street\, Murwillumbah\, NSW\, 2484\, Australia
CATEGORIES:Social
ATTACH;FMTTYPE=image/jpeg:https://thebraininjurycommunity.org.au/wp-content/uploads/2023/08/IMG_2863.jpg
ORGANIZER;CN="The Brain Injury Community":MAILTO:info@tbic.org.au
END:VEVENT
BEGIN:VEVENT
DTSTART;TZID=Australia/Brisbane:20230909T160000
DTEND;TZID=Australia/Brisbane:20230909T190000
DTSTAMP:20260426T031907
CREATED:20230716T100627Z
LAST-MODIFIED:20230716T101111Z
UID:2122-1694275200-1694286000@thebraininjurycommunity.org.au
SUMMARY:TBIC Eat Street Hamilton Meet & Greet
DESCRIPTION:Whether you live with a brain injury or know someone who does\, this inclusive event offers a great opportunity for you to meet other members\, as well as our supportive network of staff and volunteers. \nWe are hosting another Eat Street Hamilton Meet & Greet for our members\, their loved ones and support network\, following the highly successful Eat Street event held in July! \nEnjoy delicious food\, great company and plenty of laughter on the night. There is FREE entertainment and live music on the main stage\, as well as ample parking on-site for all abilities. \nWHAT’S INCLUDED: \n\nEntry to Eat Street Hamilton\nOpportunity to meet other members and make new friends.\nMeet at tables located next to the Big Ship\, next to Kombi Alley (river side)\n\nEVENT DETAILS: \nDate: Saturday 9th September\, 2023.\nTime: 4pm to 7pm\nLocation: Eat Street Northshore. 221D MacArthur Ave\, Hamilton QLD 4007\nMeet at the Big Ship (see map and pin) \nPlease note: Carer entry is FREE. Please bring your companion card for FREE Entry. Meals and refreshments are not included in the TBIC event ticket price. \nWe hope to see you there! \nRSVP: 8th September 2023\, click on the “BOOK NOW” link below to secure your spot. \nBOOK NOW\nDOWNLOAD EVENT FLYER – PDF\nFor more information\, please contact us on:\nMobile: 0493 110 693\nEmail: info@tbic.org.au
URL:https://thebraininjurycommunity.org.au/event/eat-street-hamilton-meet-greet/
LOCATION:Eat Street Hamilton\, 221D MacArthur Avenue\, Hamilton\, QLD\, 4007\, Australia
CATEGORIES:Social
ATTACH;FMTTYPE=image/jpeg:https://thebraininjurycommunity.org.au/wp-content/uploads/2023/07/received_1603501993509463.jpeg
ORGANIZER;CN="The Brain Injury Community":MAILTO:info@tbic.org.au
END:VEVENT
END:VCALENDAR