BEGIN:VCALENDAR
VERSION:2.0
PRODID:-//The Brain Injury Community Inc. - ECPv6.15.20//NONSGML v1.0//EN
CALSCALE:GREGORIAN
METHOD:PUBLISH
X-ORIGINAL-URL:https://thebraininjurycommunity.org.au
X-WR-CALDESC:Events for The Brain Injury Community Inc.
REFRESH-INTERVAL;VALUE=DURATION:PT1H
X-Robots-Tag:noindex
X-PUBLISHED-TTL:PT1H
BEGIN:VTIMEZONE
TZID:Australia/Brisbane
BEGIN:STANDARD
TZOFFSETFROM:+1000
TZOFFSETTO:+1000
TZNAME:AEST
DTSTART:20220101T000000
END:STANDARD
END:VTIMEZONE
BEGIN:VEVENT
DTSTART;TZID=Australia/Brisbane:20230714T110000
DTEND;TZID=Australia/Brisbane:20230714T140000
DTSTAMP:20260426T063451
CREATED:20230621T034525Z
LAST-MODIFIED:20230704T000144Z
UID:2068-1689332400-1689343200@thebraininjurycommunity.org.au
SUMMARY:FREE Christmas in July Outdoor Picnic Tweed Heads NSW
DESCRIPTION:The Brain Injury Community Inc. is hosting an all-inclusive FREE Christmas In July themed outdoor picnic for anyone living with a brain injury\, their support team\, carers and family members or friends. \nIf you’re looking to meet other Brain Injury survivors in the Tweed Shire Region\, then this event is for you! \nJoin us for a FREE Picnic in Tweed Heads NSW\, for a day filled with Christmas delights\, nostalgic games\, laughter and the opportunity to meet fellow members. \nWhether you live with a brain injury or know someone who does\, this event offers an inclusive and supportive network for all abilities. Experience amusing games\, enjoy lunch and tons of laughter along with our team and volunteers\, who will be there to assist people of all abilities on the day. \nEVENT DETAILS: \nDate: Friday 14th July\, 2023.\nTime: 11am to 2pm\nLocation: Goorimahbah – Place of Stories Playground & Picnic Area\, 60 Boundary St\, Tweed Heads NSW 2485\nPlease note: Lunch will be provided\, please advise of any dietary requirements. We hope to see you there!\nRSVP: 12th July 2023.\nCost: FREE Event \nWHAT’S INCLUDED?\nVariety of games for all abilities.\nLunch and refreshments ~ Please advise of any dietary requirements when making yoour booking \nBOOK NOW\nClick Here To Download Event Flyer – PDF\nFor more information\, please contact us on:\nMobile: 0493 110 693\nEmail: info@tbic.org.au
URL:https://thebraininjurycommunity.org.au/event/tbic-christmas-in-july-outdoor-picnic-tweed-heads-nsw/
LOCATION:Goorimahbah – Place of Stories Playground\, 60 Boundary Street\, Tweed Heads\, NSW\, 2485\, Australia
CATEGORIES:Social
ATTACH;FMTTYPE=image/png:https://thebraininjurycommunity.org.au/wp-content/uploads/2023/06/Wecome-to-the-Brain-Injury-Community.png
ORGANIZER;CN="The Brain Injury Community":MAILTO:info@tbic.org.au
END:VEVENT
BEGIN:VEVENT
DTSTART;TZID=Australia/Brisbane:20230715T160000
DTEND;TZID=Australia/Brisbane:20230715T183000
DTSTAMP:20260426T063451
CREATED:20230605T080014Z
LAST-MODIFIED:20230705T031055Z
UID:2033-1689436800-1689445800@thebraininjurycommunity.org.au
SUMMARY:Meet & Greet at Eat Street Hamilton QLD
DESCRIPTION:Enjoy delicious dishes and tasty treats from six of the world’s seven continents. There will be FREE entertainment\, live music and ample parking on-site for all abilities. If you’re looking to meet other Brain Injury survivors and enjoy a meal at Hamilton\, Brisbane’s Eat Street\, this event is for you! \nThe Brain Injury Community Inc has booked ‘Moreton Bay’\, a quiet dining area in the form of a container\, for us to enjoy delicious dishes and tasty treats. There will be FREE entertainment\, live music and ample parking on-site for all abilities. \nThis is the prefect opportunity to make new friends or bring your friends along with you for the evening. Our team of qualified personnel and proficient volunteers will be able to assist people of all abilities. \nEVENT DETAILS:\nDate: Saturday\, 15 July 2023.\nTime: 4pm to 6.30pm (meet at ‘Hello Entry’ gates\, at 4pm sharp)\nLocation: 221D MacArthur Ave\, Hamilton QLD 4007\nCost: $10 p/person (Carers tickets are FREE\, please bring your companion card with you)\nCost of Food and beverage purchases are not included in this event ticket price. Dinner from one of the many delicious food stalls will need to be purchased by attendees. \nPlease note: You will be emailed a QR code to Enter at the ‘Hello Entry’ prior to the event. Make your way to the Big Ship. The ‘Moreton Bay’ container is located directly next to the Big Ship. \nWhat’s Included:\nEntry into Eat Street Hamilton\nReserved seating “Morton Bay” container (located next to the Big Ship) \nBOOK NOW\nPlease note: Enter at the ‘Hello Entry’ on the map below and make your way towards the Big Ship. The ‘Moreton Bay’ is next to the Big Ship. See you there! \nRSVP: 11th July 2023\nFor more information\, please contact us on email info@tbic.org.au or by calling 0493 110 693 \nDOWNLOAD EVENT FLYER
URL:https://thebraininjurycommunity.org.au/event/meet-greet-at-eat-street-hamilton-qld/
LOCATION:Eat Street Hamilton\, 221D MacArthur Avenue\, Hamilton\, QLD\, 4007\, Australia
CATEGORIES:Social
ATTACH;FMTTYPE=image/jpeg:https://thebraininjurycommunity.org.au/wp-content/uploads/2023/06/xLPVkCL6o-scaled.jpg
ORGANIZER;CN="The Brain Injury Community":MAILTO:info@tbic.org.au
END:VEVENT
BEGIN:VEVENT
DTSTART;TZID=Australia/Brisbane:20230718T110000
DTEND;TZID=Australia/Brisbane:20230718T140000
DTSTAMP:20260426T063451
CREATED:20230511T124613Z
LAST-MODIFIED:20230707T050728Z
UID:1953-1689678000-1689688800@thebraininjurycommunity.org.au
SUMMARY:Indoor Picnic at Beenleigh QLD
DESCRIPTION:The Brain Injury Community Inc. is hosting an all-inclusive FREE & FUN day out for anyone living with a brain injury\, their support team\, carers and family members or friends. If you’re looking to meet other Brain Injury survivors in the Beenleigh QLD region\, this event is for you! \nExperience amusing games\, enjoy lunch and tons of laughter. This is the prefect opportunity to make new friends or bring your friends along with you for the day. Our team of qualified personnel and volunteers will be on-site to assist people of all abilities on the day. \nEVENT DETAILS: \nDate: Tuesday 18th July\, 2023.\nTime: 11am to 2pm\nLocation: Blue Wing Care Professionals\, 1/25 Main Street\, Beenleigh QLD 4207\n*** MEET AT: The Blue Care Shop***\nPlease note: Lunch will be provided\, please advise of any dietary requirements. See you there!\nRSVP: 15th July 2023.\nCost: FREE Event\n \nWHAT’S INCLUDED? \n\nVariety of games for all abilities.\nLunch and refreshments\, please advise of any dietary requirements\n\nEvent Partner. \n \nWe look forward to seeing you there! \nBOOK NOW\nClick Here To Download Event Flyer – PDF\nFor more information\, please contact us on:\nMobile: 0493 110 693\nEmail: info@tbic.org.au
URL:https://thebraininjurycommunity.org.au/event/indoor-picnic-at-beenleigh/
LOCATION:Blue Care Professionals 1/25 Main Street\, Beenleigh QLD 4207\, 1/25 Main Street\, Beenleigh\, QLD\, 4207\, Australia
CATEGORIES:Social
ATTACH;FMTTYPE=image/jpeg:https://thebraininjurycommunity.org.au/wp-content/uploads/2023/05/20230419_115900-1.jpg
ORGANIZER;CN="The Brain Injury Community":MAILTO:info@tbic.org.au
END:VEVENT
END:VCALENDAR