BEGIN:VCALENDAR
VERSION:2.0
PRODID:-//The Brain Injury Community Inc. - ECPv6.15.20//NONSGML v1.0//EN
CALSCALE:GREGORIAN
METHOD:PUBLISH
X-ORIGINAL-URL:https://thebraininjurycommunity.org.au
X-WR-CALDESC:Events for The Brain Injury Community Inc.
REFRESH-INTERVAL;VALUE=DURATION:PT1H
X-Robots-Tag:noindex
X-PUBLISHED-TTL:PT1H
BEGIN:VTIMEZONE
TZID:Australia/Brisbane
BEGIN:STANDARD
TZOFFSETFROM:+1000
TZOFFSETTO:+1000
TZNAME:AEST
DTSTART:20220101T000000
END:STANDARD
END:VTIMEZONE
BEGIN:VEVENT
DTSTART;TZID=Australia/Brisbane:20230609T110000
DTEND;TZID=Australia/Brisbane:20230609T140000
DTSTAMP:20260426T081302
CREATED:20230502T114441Z
LAST-MODIFIED:20230502T215805Z
UID:1929-1686308400-1686319200@thebraininjurycommunity.org.au
SUMMARY:Picnic In The Park - Cooly Rocks On Festival
DESCRIPTION:Come and be a part of the Cooly Rocks on Festival\, where we’ll be commemorating the classic cars\, music\, and lifestyle of the past era. Strap on your dancing shoes and come along to revel in the merriments! \nExperience amusing games\, delectable food\, and tons of laughter at this renowned festival in the park. Make new friends or bring old friends along with you for the day. Everyone is invited\, and we have a team of qualified personnel and proficient volunteers to assist people of all abilities. \nEVENT DETAILS: \nDate: Friday 9th June\, 2023.\nTime: 11am to 2pm\nLocation: Park Opposite McDonald St & Marine Parade Coolangatta QLD 4225\n*** MEET AT: Near Elvis Precinct*** \nCost: FREE Event \nWHAT’S INCLUDED? \nLunch will be provided\, please advise of any dietary requirements by 5th June 22023.\nFun games and plenty of entertainment on the day with the Cooly Rocks on Festival which will be in full swing. \nRSVP By: 5th June 2023 via this event. \nWe look forward to seeing you there! \nBOOK NOW\nClick Here To Download Event Flyer – PDF \nFor more information\, please contact us on:\nMobile: 0493 110 693\nEmail: info@tbic.org.au
URL:https://thebraininjurycommunity.org.au/event/picnic-in-the-park-cooly-rocks-on-festival/
LOCATION:Near Elvis Precinct\, McDonald St & Marine Parade\, Coolangatta\, QLD\, 4225\, Australia
CATEGORIES:Social
ATTACH;FMTTYPE=image/jpeg:https://thebraininjurycommunity.org.au/wp-content/uploads/2023/05/Cooly-Rocks-On-2019-Saturday-Preview-4.jpg
ORGANIZER;CN="The Brain Injury Community":MAILTO:info@tbic.org.au
END:VEVENT
BEGIN:VEVENT
DTSTART;TZID=Australia/Brisbane:20230623T100000
DTEND;TZID=Australia/Brisbane:20230623T140000
DTSTAMP:20260426T081302
CREATED:20230313T102753Z
LAST-MODIFIED:20230606T051838Z
UID:1749-1687514400-1687528800@thebraininjurycommunity.org.au
SUMMARY:Sailability Sunshine Coast - Mooloolaba
DESCRIPTION:Meet others in your community for a fun filled day on the water full of laughter and friendship. Would you like to come out on a boat\, soak in the scenery or simply enjoy the views? This could be the event for you! \nFor only $10 per person onboard\, you can enjoy an all-inclusive and supported fun day out on a sailing boat\, exploring Mooloolaba. Experience sailing with the assistance from trained and experienced volunteers. And yes… all abilities are catered for. \nEVENT DETAILS: \nDate: Friday 23rd June\, 2023.\nTime: 10am to 2pm **Safety briefing to commence at 10am. We aim to be on the water by 10.30am**\nLocation: Sailability Sunshine Coast Queensland\, Mooloolaba Marina\, 33-45 Parkyn Parade\, Mooloolaba QLD 4557\nCost: $10 per person attending (plus Eventbrite booking fee). \nWHAT’S INCLUDED? \nLifejackets are provided.\nLunch and refreshments\, please advise of any dietary requirements by 16th June 2023.\nHoist available on the pontoon\, for members in a wheelchair or otherwise restricted.\n*PLEASE NOTE*: Sailability Sunshine Coast has equipment limitations and cannot manage clients over 120Kg.\nRSVP by 16th June 2023 by clicking on the Book Now link below.\nWe would love to see you there! \nBOOK NOW\nClick Here To Download Event Flyer – PDF \nFor more information\, please contact us on:\nMobile: 0493 110 693\nEmail: info@tbic.org.au
URL:https://thebraininjurycommunity.org.au/event/sailability-sunshine-coast/
LOCATION:Sailability Mooloolaba\, Unit 41/33-45 Parkyn Parade\, Mooloolaba\, QLD\, 4557\, Australia
CATEGORIES:Social
ATTACH;FMTTYPE=image/jpeg:https://thebraininjurycommunity.org.au/wp-content/uploads/2023/03/Sailability.jpg
ORGANIZER;CN="The Brain Injury Community":MAILTO:info@tbic.org.au
END:VEVENT
END:VCALENDAR