BEGIN:VCALENDAR
VERSION:2.0
PRODID:-//The Brain Injury Community Inc. - ECPv6.15.20//NONSGML v1.0//EN
CALSCALE:GREGORIAN
METHOD:PUBLISH
X-WR-CALNAME:The Brain Injury Community Inc.
X-ORIGINAL-URL:https://thebraininjurycommunity.org.au
X-WR-CALDESC:Events for The Brain Injury Community Inc.
REFRESH-INTERVAL;VALUE=DURATION:PT1H
X-Robots-Tag:noindex
X-PUBLISHED-TTL:PT1H
BEGIN:VTIMEZONE
TZID:Australia/Brisbane
BEGIN:STANDARD
TZOFFSETFROM:+1000
TZOFFSETTO:+1000
TZNAME:AEST
DTSTART:20220101T000000
END:STANDARD
END:VTIMEZONE
BEGIN:VEVENT
DTSTART;TZID=Australia/Brisbane:20230330T100000
DTEND;TZID=Australia/Brisbane:20230330T140000
DTSTAMP:20260426T072524
CREATED:20230119T052739Z
LAST-MODIFIED:20230330T103452Z
UID:1578-1680170400-1680184800@thebraininjurycommunity.org.au
SUMMARY:Fishing with Fishability - Sandstone Point
DESCRIPTION:Come join other brain injury survivors for a day on the water full of laughter and friendship.\nDo you have a brain injury? Or do you know or care for someone who has a brain injury?\nWould you like to come out on a boat for a day of Fish & Respect\, with Fishability QLD and The Brain Injury Community? This event is for you! \nFor only $20 per person onboard\, you can enjoy an all-inclusive and supported fun day out on a BBQ boat\, exploring Pumicestone Passage. Experience the joy of fishing on board a wheelchair friendly boat with the assistance from trained and experienced volunteers. \nAll fishing equipment is provided and all abilities are catered for. \nEVENT DETAILS: \nDate: Thursday 30th March\, 2023.\nTime: 10am to 2pm **Boat disembarks @ 10am sharp.\nLocation: Bribie Island Boat Charters – 11 Spinnaker Sound Marina\, Sandstone Point Sandstone Point\, QLD 4511.\nCost: $20 per person attending (plus Eventbrite booking fee).\n*PLEASE NOTE*: We can invoice the cost of the event to the NDIS as Social & Community Participation. \nWHAT’S INCLUDED? \n\nFishing Equipment (Rods\, Tackle\, Bait).\nLunch and refreshments\, please advise of any dietary requirements by 27th March 2023.\nBoat supports (wheelchair accessible).\n\nRSVP by 27th March 2023 by clicking on the Book Now link below.\nSee you there! \nBOOK NOW\nClick Here To Download Event Flyer – PDF \nFor more information\, please contact us on:\nMobile: 0493 110 693\nEmail: info@tbic.org.au \n 
URL:https://thebraininjurycommunity.org.au/event/fishing-with-fishability-sandstone-point/
LOCATION:Bribie Island Boat Charters\, Spinnaker Sound Marina\, 9/11 Spinnaker Dr\, Sandstone Point\, QLD\, 4511\, Australia
CATEGORIES:Social
ATTACH;FMTTYPE=image/png:https://thebraininjurycommunity.org.au/wp-content/uploads/2023/01/Fishability.png
ORGANIZER;CN="The Brain Injury Community":MAILTO:info@tbic.org.au
END:VEVENT
END:VCALENDAR