BEGIN:VCALENDAR
VERSION:2.0
PRODID:-//The Brain Injury Community Inc. - ECPv6.15.20//NONSGML v1.0//EN
CALSCALE:GREGORIAN
METHOD:PUBLISH
X-ORIGINAL-URL:https://thebraininjurycommunity.org.au
X-WR-CALDESC:Events for The Brain Injury Community Inc.
REFRESH-INTERVAL;VALUE=DURATION:PT1H
X-Robots-Tag:noindex
X-PUBLISHED-TTL:PT1H
BEGIN:VTIMEZONE
TZID:Australia/Brisbane
BEGIN:STANDARD
TZOFFSETFROM:+1000
TZOFFSETTO:+1000
TZNAME:AEST
DTSTART:20220101T000000
END:STANDARD
END:VTIMEZONE
BEGIN:VEVENT
DTSTART;TZID=Australia/Brisbane:20241003T100000
DTEND;TZID=Australia/Brisbane:20241003T140000
DTSTAMP:20260415T115725
CREATED:20240903T095235Z
LAST-MODIFIED:20240903T095235Z
UID:2488-1727949600-1727964000@thebraininjurycommunity.org.au
SUMMARY:WYNNUM - TBIC & Fishability - Fishing and Pizza!
DESCRIPTION:The Brain Injury Community Inc. together with Fishability QLD invite you to join us for a Community Fish Off at the Wynnum Jetty. \nWhat a great way to spend the day. Pizza\, fishing and great company!  If you don’t want to fish\, that’s ok\, come and enjoy a day by the sea. \nEVENT DETAILS:\nDate: Thursday 3rd October 2024\nTime: 10am to 1pm\nCost: $5 per person\nLocation: Wynnum Jetty\, 137 Wynnum Esplanade\, Wynnum QLD 417\n*** Look for The Brain Injury Community Flag***\nRSVP: By Wednesday 2nd October 2024\, via this event or by emailing: info@tbic.org.au \n***PLEASE NOTE: THIS IS A BRAIN INJURY SURVIVOR EVENT\, NOT A PROVIDER EVENT*** \nMeet other brain injury survivors and experience the joy of fishing with the assistance from trained and experienced volunteers. Whether you’re a skilled fisherman or if this is your first fishing attempt\, this event is for you! All equipment including fishing rods and bait will be provided. Please bring your own chair. \nDon’t miss out on this fantastic event\, secure your ticket today! \n\nOur events are designed to create a fun and friendly space where brain injury survivors and their acquaintances can connect and enjoy themselves. We aim to support people affected by brain injuries by bringing communities together and providing excellent networking opportunities. Whilst this is not a provider event\, we encourage support providers and carers to attend with their clients.\nThis is a community event in a public area\, securing free tickets assists with communication and operations of the event\, and does not guarantee seating.\nIn the event of unfavourable weather\, event updates will be posted on all TBIC socials and all ticket holders will be contacted to advise of any changes.\nSecuring your ticket to a TBIC event joins you to our mailing list for future communications regarding news and event notifications or updates. Unsubscribe options are available.\n\nWHAT’S INCLUDED? \n\nPizza and refreshments. Please advise of any dietary requirements when securing your ticket\nAll fishing equipment including fishing rods and bait\n\nFishability QLD Inc. is a not-for-profit organisation committed to breaking the impact of social isolation and loneliness. \nFor more information\, please contact us on:\nMobile: 0493 110 693\nEmail: info@tbic.org.au\nWebsite: www.thebraininjurycommunity.org.au
URL:https://thebraininjurycommunity.org.au/event/wynnum-tbic-fishability-fishing-and-pizza/
LOCATION:Wynnum Jetty\, Wynnum\, Esplanade\, Wynnum\, QLD\, 4178\, Australia
CATEGORIES:Community,Social
ATTACH;FMTTYPE=image/png:https://thebraininjurycommunity.org.au/wp-content/uploads/2024/09/TBIC-Fishing-Square-1.png
END:VEVENT
BEGIN:VEVENT
DTSTART;TZID=Australia/Brisbane:20240915T070000
DTEND;TZID=Australia/Brisbane:20240915T120000
DTSTAMP:20260415T115725
CREATED:20240828T025451Z
LAST-MODIFIED:20240828T025451Z
UID:2479-1726383600-1726401600@thebraininjurycommunity.org.au
SUMMARY:TWEED HEADS MARKETS - Free Event
DESCRIPTION:TBIC Market Stall at the Tweed Heads Markets\, Tweed Heads QLD \nJoin us for a fun-filled morning at the Tweed Heads Markets!\nDate: Sunday 15th September 2024\nTime: 7am – 12pm \nWe invite our members and the wider community to be a part of the action at our first market stall in the Tweed Region. \nGrab a coffee or a bite ot eat from one of the many market vendors. Come say hi and “sit’n’chat” with Ang and other TBIC members. Ang will also have some sweet treats to share with you. Our full range of merchandise will be available for sale too!! \nThe Tweed Heads Markets: where the spirit of community thrives and treasures await at every turn. The quintessential community hub where locals gather to peruse a cornucopia of delights. Operated by the dedicated members of the Tweed Heads Men’s Shed\, the Tweed Heads Markets serve as more than just a venue for commerce – they’re a philanthropic endeavor aimed at supporting charity while providing a vibrant space for buying and selling goods\, mingling with friends\, and savoring the joys of a leisurely Sunday morning outing. \nDon’t miss out on the opportunity to not only show your support for The Brain Injury Community Inc. with all sales going towards funding our member programs\, you’ll also be supporting other local businesses. Whether you’re looking for a special gift for a loved one or would like to treat yourself\, this event has something for everyone. \nThere is also FREE parking available.
URL:https://thebraininjurycommunity.org.au/event/tweed-heads-markets-free-event/
CATEGORIES:Community
ATTACH;FMTTYPE=image/png:https://thebraininjurycommunity.org.au/wp-content/uploads/2024/08/TBIC-Markets-Square.png
END:VEVENT
BEGIN:VEVENT
DTSTART;TZID=Australia/Brisbane:20240825T100000
DTEND;TZID=Australia/Brisbane:20240825T130000
DTSTAMP:20260415T115725
CREATED:20240822T112338Z
LAST-MODIFIED:20240822T112338Z
UID:2475-1724580000-1724590800@thebraininjurycommunity.org.au
SUMMARY:WORLDS BIGGEST BEANIE - Brain Injury Awareness
DESCRIPTION:Join us as the WORLDS BIGGEST BEANIE FOR BRAIN INJURY AWARENESS is unveiled! \nThis Sunday 25th August 2024 is the last day of Brain Injury Awareness Week 2024\, and to celebrate\, Belinda Adams from Citrine Sun Entertainment\, The Hopkins Centre and The Brain Injury Community invite you to watch this amazing beanie being constructed. \nThis beanie is the biggest beanie Brisbane has ever seen. \nIn front of the iconic Story Bridge\, as part of a documentary to raise awareness for brain injury\, made up of unique handmade squares crafted by volunteers all over Australia and world wide\, symbolising the often invisible journey of each and every brain injury survivor and their individual stories. \nIf you would like to share your individual story\, and be filmed to be a part of this amazing event\, send us an email or just let one of our volunteers know on the day. \nBring a blanket\, a chair and your picnic\, join us to raise the Worlds Biggest Beanie for Brain Injury Awareness. \nSee you there! \n \n 
URL:https://thebraininjurycommunity.org.au/event/worlds-biggest-beanie-brain-injury-awareness/
LOCATION:Captain Burke Park\, 117 Holman St\, Kangaroo Point\, Captain Burke Park\, 117 Holman St\, Kangaroo Point\, QLD\, 4169\, Australia
CATEGORIES:Community,Social
ATTACH;FMTTYPE=image/jpeg:https://thebraininjurycommunity.org.au/wp-content/uploads/2024/08/wbb.jpg
ORGANIZER;CN="The Brain Injury Community":MAILTO:info@tbic.org.au
END:VEVENT
BEGIN:VEVENT
DTSTART;TZID=Australia/Brisbane:20240216T110000
DTEND;TZID=Australia/Brisbane:20240216T140000
DTSTAMP:20260415T115725
CREATED:20240120T061651Z
LAST-MODIFIED:20240120T062704Z
UID:2250-1708081200-1708092000@thebraininjurycommunity.org.au
SUMMARY:TBIC Picnic in the Park - Caloundra West
DESCRIPTION:The Brain Injury Community Inc invites you to join us for an outdoor Picnic at Canavan Gracie Recreational Park in Caloundra West. \nEnjoy a scrumptious lunch whilst engaging in some old-fashioned games that are sure to evoke a sense of nostalgia and camaraderie. Connect with other members\, forge new friendships and share your experiences with others who understand at our all inclusive event. \nIt’s the perfect time of year to embrace the sunshine and revel in the joy of being together with other Brain Injury Survivors and their loved ones. \nSee you there! \n\nEVENT DETAILS: \nDate: Friday 16th February 2024 \nTime: 11am to 2pm \nCost: Tickets are $5 per person **Companion cards are accepted \nLocation: Canavan Gracie Recreational Park\, 18 Lomond Crescent\, Caloundra West QLD \n*** Meet at Bellvista Meeting Place*** \nRSVP: By 14th February 2024\, via this event or by emailing info@tbic.org.au \nPlease note: Lunch will be provided for attendees and their support person or carer. Please advise of any dietary requirements when securing your ticket. \n\n***PLEASE NOTE: THIS IS A BRAIN INJURY SURVIVOR EVENT\, NOT A PROVIDER EVENT*** \n\nWHAT’S INCLUDED? \n\nCompanion cards are accepted\n\n\nVariety of amusing and nostalgic games for all abilities.\n\n\nLunch and refreshments\, please advise of any dietary requirements\n\n\nFree parking\n\n\nFor more information\, please contact us on: \nMobile: 0493110693 \nEmail: info@tbic.org.au \nWebsite: www.thebraininjurycommunity.org.au \nBOOK NOW
URL:https://thebraininjurycommunity.org.au/event/tbic-picnic-in-the-park-caloundra-west/
LOCATION:BellVista Meeting Place – Caloundra West\, 18 Lomond Crescent\, Caloundra West\, QLD\, 4551\, Australia
CATEGORIES:Community
ATTACH;FMTTYPE=image/png:https://thebraininjurycommunity.org.au/wp-content/uploads/2024/01/TBIC-Square-Caloundra-Picnic-16Feb24.png
ORGANIZER;CN="The Brain Injury Community":MAILTO:info@tbic.org.au
END:VEVENT
BEGIN:VEVENT
DTSTART;TZID=Australia/Brisbane:20231019T090000
DTEND;TZID=Australia/Brisbane:20231019T150000
DTSTAMP:20260415T115725
CREATED:20230925T023905Z
LAST-MODIFIED:20230925T025102Z
UID:2161-1697706000-1697727600@thebraininjurycommunity.org.au
SUMMARY:Sunshine Coast Regional Disability Expo
DESCRIPTION:We are thrilled to announce that we will be attending the 2023 Regional Disability Expo on the Sunshine Coast. \nThe Disability Expo is for anyone wishing to find more information about products\, services\, and activities available in your region. Entry and parking is free! \nDate: 19th October 2023 \nTime: 9am to 3pm \nAddress: Caloundra Indoor Stadium\, North Street Golden Beach QLD 4551 \nWebsite: https://disabilityexposc.com.au/visit/
URL:https://thebraininjurycommunity.org.au/event/sunshine-coast-regional-disability-expo/
LOCATION:Caloundra Indoor Stadium\, Russell Barker Memorial Park\, North Street\, Golden Beach\, QLD\, 4551\, Australia
CATEGORIES:Community
ATTACH;FMTTYPE=image/png:https://thebraininjurycommunity.org.au/wp-content/uploads/2023/04/Get-Involved-Image.png
ORGANIZER;CN="Regional Disability Expo":MAILTO:sharon@disabilityexposc.com.au
END:VEVENT
BEGIN:VEVENT
DTSTART;TZID=Australia/Brisbane:20231006T090000
DTEND;TZID=Australia/Brisbane:20231006T150000
DTSTAMP:20260415T115725
CREATED:20230914T220014Z
LAST-MODIFIED:20230914T220014Z
UID:2151-1696582800-1696604400@thebraininjurycommunity.org.au
SUMMARY:Regional Disability Expo - Toowoomba
DESCRIPTION:The TBIC team is excited to announce their participation at the 2023 Regional Disability Expo in Toowoomba! \nJoin us at the Brain Injury Community Inc. booth on Friday\, 6 October\, 2023 where you can discover information about our free events\, engaging activities\, and enjoyable picnics. \nWhether you’re personally impacted by a brain injury or supporting someone who is\, this event offers a unique opportunity for brain injury survivors and their support networks to connect with our team and conveniently access all the resources they need in one accessible location.
URL:https://thebraininjurycommunity.org.au/event/regional-disability-expo-toowoomba/
LOCATION:Clive Berghofer Recreation Centre\, 20 Baker Street\, Darling Heights\, QLD\, 4350\, Australia
CATEGORIES:Community
ATTACH;FMTTYPE=image/jpeg:https://thebraininjurycommunity.org.au/wp-content/uploads/2023/09/Expo.jpg
ORGANIZER;CN="The Brain Injury Community":MAILTO:info@tbic.org.au
END:VEVENT
BEGIN:VEVENT
DTSTART;TZID=Australia/Brisbane:20230616T090000
DTEND;TZID=Australia/Brisbane:20230617T150000
DTSTAMP:20260415T115725
CREATED:20230427T042758Z
LAST-MODIFIED:20230530T085537Z
UID:1919-1686906000-1687014000@thebraininjurycommunity.org.au
SUMMARY:Gold Coast Disability Expo - 16 & 17 June
DESCRIPTION:The team at The Brain Injury Community Inc will be present at the 2023 Gold Coast Disability Expo | My Future\, My Choice\, which will take place on the 16 and 17 of June from 9am-3pm at the Gold Coast Convention & Exhibition Centre. \nWe are eagerly anticipating the opportunity to meet with Brain Injury Survivors based in the Gold Coast region\, as well as their loved ones\, while also forging new connections with service providers\, Allied & Medical professionals. Our aim is to extend our network further to support those with a Brain Injury and raise awareness through education. Our organisation’s primary objective is to Reach\, Connect\, and Support. \nThis year we have a Community Table at the Gold Coast Disability Expo\, so make sure you pop past and say hello to our friendly staff. \nAngela has been asked to speak at the 2023 Gold Coast Diability Expo\, we hope to see you there. \nAngela’s Speaking Session:\nTime: 12:30 Saturday 17 June 2023\nTitle: Living with a Brain Injury – The Invisible Disability \nWe are hopeful that over the course of the two-day event\, we will be able to welcome new members and raise awareness about our charitable cause and goals. \nEnjoy FREE ENTRY to the Gold Coast Disability Expo. Click here to visit their website. \n \nThe Gold Coast Disability Expo will link thousands of people with a disability with hundreds of product and service providers as well as presenting a range of informative and interactive presentations delivered by industry experts. People with Disability are embracing My Future\, My Choice as a way to control how they want to live their lives now and plan for the future.
URL:https://thebraininjurycommunity.org.au/event/2023_gold_coast_disability_expo/
LOCATION:Gold Coast Convention & Exhibition Centre\, 2684-2690 Gold Coast Highway\, Broadbeach\, QLD\, 4218\, Australia
CATEGORIES:Community
ATTACH;FMTTYPE=image/png:https://thebraininjurycommunity.org.au/wp-content/uploads/2023/04/GCDE-Logo.png
ORGANIZER;CN="The Brain Injury Community":MAILTO:info@tbic.org.au
END:VEVENT
END:VCALENDAR