BEGIN:VCALENDAR
VERSION:2.0
PRODID:-//The Brain Injury Community Inc. - ECPv6.15.20//NONSGML v1.0//EN
CALSCALE:GREGORIAN
METHOD:PUBLISH
X-WR-CALNAME:The Brain Injury Community Inc.
X-ORIGINAL-URL:https://thebraininjurycommunity.org.au
X-WR-CALDESC:Events for The Brain Injury Community Inc.
REFRESH-INTERVAL;VALUE=DURATION:PT1H
X-Robots-Tag:noindex
X-PUBLISHED-TTL:PT1H
BEGIN:VTIMEZONE
TZID:Australia/Brisbane
BEGIN:STANDARD
TZOFFSETFROM:+1000
TZOFFSETTO:+1000
TZNAME:AEST
DTSTART:20250101T000000
END:STANDARD
END:VTIMEZONE
BEGIN:VEVENT
DTSTART;TZID=Australia/Brisbane:20260423T110000
DTEND;TZID=Australia/Brisbane:20260423T140000
DTSTAMP:20260420T005334
CREATED:20260325T054242Z
LAST-MODIFIED:20260325T054242Z
UID:3005-1776942000-1776952800@thebraininjurycommunity.org.au
SUMMARY:Wynnum Social Catch up - April
DESCRIPTION:Join us at Manly Harbour Boat Club for good vibes\, game of pool\, tasty food\, and chill times with fellow brain injury members! \n\n\n\n\nWynnum TBIC Social Catch up!\n\nJoin us for a relaxed day of food\, games and good company at Manly Harbour Boat Club\, surrounded by people who understand life with brain injury. \nIf you live with a brain injury\, support someone who does\, or just want to connect in a safe\, supportive space\, this Social catch up is for you. Bring your friends\, family or support person and enjoy a chilled afternoon with good food and great conversation. It’s all about unwinding\, connecting and feeling understood — no pressure\, just good vibes. \n📍 Event Details \nDate: Thursday 23rd April 2026\nTime: 11:00am – 2:00pm\nLocation: Manly Harbour Boat Club\, 34 Fairlead Cres\, Manly\nMeet: Dining Room\nCost: Participants to purchase their own food and refreshments \nRSVP: By Wednesday 22nd April 2026\n(via this Eventbrite listing or email info@tbic.org.au) \n🍽 What’s Included \n\nFun\, inclusive games for all abilities\n\nℹ️ Please Note \n\nThis event is focused on those living with brain injury\, not a provider event\nSupport workers and carers are welcome to attend with participants\nWeather updates will be shared via TBIC socials and directly with ticket holders\nBy registering\, you’ll receive TBIC event updates (unsubscribe anytime)\n\n📞 Contact \nPhone: 0493 110 693\nEmail: info@tbic.org.au\nWebsite: www.thebraininjurycommunity.org.au \nWe’d love to see you there 💙 \n\n\nTickets available in below link \nhttps://www.eventbrite.com.au/e/wynnum-social-catch-up-april-tickets-1985884294383?aff=oddtdtcreator
URL:https://thebraininjurycommunity.org.au/event/wynnum-social-catch-up-april/
LOCATION:manly harbour boat house
CATEGORIES:Community,Social
ATTACH;FMTTYPE=image/png:https://thebraininjurycommunity.org.au/wp-content/uploads/2026/03/Wynnum-April-2026-1.png
ORGANIZER;CN="The Brain Injury Community":MAILTO:info@tbic.org.au
END:VEVENT
BEGIN:VEVENT
DTSTART;TZID=Australia/Brisbane:20260424T110000
DTEND;TZID=Australia/Brisbane:20260424T140000
DTSTAMP:20260420T005334
CREATED:20260325T054649Z
LAST-MODIFIED:20260325T054649Z
UID:3009-1777028400-1777039200@thebraininjurycommunity.org.au
SUMMARY:Gold Coast Social Catch up - April
DESCRIPTION:Join us at Varsity Lakes Tavern for good vibes\, game of pool\, tasty food\, and chill times with fellow brain injury members! \n\n\n\n\nGold Coast TBIC Social Catch up!\nJoin us for a relaxed day of food\, games and good company at Varsity Lakes Tavern\, surrounded by people who understand life with brain injury. \nIf you live with a brain injury\, support someone who does\, or just want to connect in a safe\, supportive space\, this picnic is for you. Bring your friends\, family or support person and enjoy a chilled afternoon with good food and great conversation. There’s even a pool table! It’s all about unwinding\, connecting and feeling understood — no pressure\, just good vibes. \n📍 Event Details \nDate: Friday24th April 2026\nTime: 11:00am – 2:00pm\nLocation: Varsity Lakes Tavern\, 2 Santa Maria Ct\, Burleigh Waters\nMeet: The sports bar – Alfesco area near pool tables\nCost: Participants to purchase their own food and refreshments \nRSVP: By Thursday 23th April 2026\n(via this Eventbrite listing or email info@tbic.org.au) \n🍽 What’s Included \n\nFun\, inclusive games for all abilities\n\nℹ️ Please Note \n\nThis event is focused on those living with brain injury\, not a provider event\nSupport workers and carers are welcome to attend with participants\nWeather updates will be shared via TBIC socials and directly with ticket holders\nBy registering\, you’ll receive TBIC event updates (unsubscribe anytime)\n\n📞 Contact \nPhone: 0493 110 693\nEmail: info@tbic.org.au\nWebsite: www.thebraininjurycommunity.org.au \nWe’d love to see you there 💙 \n\n\nTickets available at below link \nhttps://www.eventbrite.com.au/e/gold-coast-social-catch-up-april-tickets-1985041291940?aff=oddtdtcreator
URL:https://thebraininjurycommunity.org.au/event/gold-coast-social-catch-up-april/
LOCATION:varsity lakes tavern
CATEGORIES:Community,Social
ATTACH;FMTTYPE=image/png:https://thebraininjurycommunity.org.au/wp-content/uploads/2026/03/Gold-Coast-Picnic-April-2026-1.png
ORGANIZER;CN="The Brain Injury Community":MAILTO:info@tbic.org.au
END:VEVENT
END:VCALENDAR