BEGIN:VCALENDAR
VERSION:2.0
PRODID:-//The Brain Injury Community Inc. - ECPv6.15.20//NONSGML v1.0//EN
CALSCALE:GREGORIAN
METHOD:PUBLISH
X-WR-CALNAME:The Brain Injury Community Inc.
X-ORIGINAL-URL:https://thebraininjurycommunity.org.au
X-WR-CALDESC:Events for The Brain Injury Community Inc.
REFRESH-INTERVAL;VALUE=DURATION:PT1H
X-Robots-Tag:noindex
X-PUBLISHED-TTL:PT1H
BEGIN:VTIMEZONE
TZID:Australia/Brisbane
BEGIN:STANDARD
TZOFFSETFROM:+1000
TZOFFSETTO:+1000
TZNAME:AEST
DTSTART:20240101T000000
END:STANDARD
END:VTIMEZONE
BEGIN:VEVENT
DTSTART;TZID=Australia/Brisbane:20250212T123000
DTEND;TZID=Australia/Brisbane:20250212T143000
DTSTAMP:20260422T224408
CREATED:20250121T040054Z
LAST-MODIFIED:20250204T052213Z
UID:2587-1739363400-1739370600@thebraininjurycommunity.org.au
SUMMARY:Brain Injury Recovery Roadmap
DESCRIPTION:*Tickets to this event are in high demand. If you or your loved one live with a brain injury\, please emails us at info@tbic.org.au\, we will ensure you get a ticket to the event. \nWelcome to our event where we will guide you through the journey of recovering from a brain injury. \nJoin us for an afternoon filled with informative speakers\, inspiring stories and even a bit of comedy from survivors. \nWhether you live with a brain injury\, are a loved one\, a caregiver\, or a healthcare professional\, this event is designed to provide you with the information and support you need. \nLearn from experts in the field and connect with others who understand what you’re going through. Let’s navigate the road to recovery together. \nSee you there! \nSpeakers\nDr Alana Schuurs (Brain Injury Community Integration Service\, Gold Coast) http://www.goldcoast.health.qld.gov.au/ \nRechelle Polsoni (Fuel your life\, Dieticians) https://fuelyourlife.com.au/ \nProf Fatima Nasrallah (Director\, Qld Brain Injury Collaborative. Associate Professor\, Queensland Brain Institute) https://qbi.uq.edu.au/qbic \nLord Daniel Duffield (Brain Injury Survivor\, Stand up Comedian)https://www.instagram.com/lordduffield/ \nTony Collins (Brain Injury Survivor\, Marathon Participant and Artist) https://www.instagram.com/individualability/  https://www.gofundme.com/f/help-tony-raise-funds-for-the-brian-injury-community?qid=5e2ff8ba787516bd7ebd4a7c418b1351 \n 
URL:https://thebraininjurycommunity.org.au/event/brain-injury-recovery-roadmap/
CATEGORIES:Community
ATTACH;FMTTYPE=application/pdf:https://thebraininjurycommunity.org.au/wp-content/uploads/2025/01/Brain-Injury-Recovery-Roadmap-Brochure.pdf
END:VEVENT
END:VCALENDAR