BEGIN:VCALENDAR
VERSION:2.0
PRODID:-//The Brain Injury Community Inc. - ECPv6.15.20//NONSGML v1.0//EN
CALSCALE:GREGORIAN
METHOD:PUBLISH
X-WR-CALNAME:The Brain Injury Community Inc.
X-ORIGINAL-URL:https://thebraininjurycommunity.org.au
X-WR-CALDESC:Events for The Brain Injury Community Inc.
REFRESH-INTERVAL;VALUE=DURATION:PT1H
X-Robots-Tag:noindex
X-PUBLISHED-TTL:PT1H
BEGIN:VTIMEZONE
TZID:Australia/Brisbane
BEGIN:STANDARD
TZOFFSETFROM:+1000
TZOFFSETTO:+1000
TZNAME:AEST
DTSTART:20230101T000000
END:STANDARD
END:VTIMEZONE
BEGIN:VEVENT
DTSTART;TZID=Australia/Brisbane:20241204T110000
DTEND;TZID=Australia/Brisbane:20241204T140000
DTSTAMP:20260420T062740
CREATED:20241107T145329Z
LAST-MODIFIED:20241107T153900Z
UID:2542-1733310000-1733320800@thebraininjurycommunity.org.au
SUMMARY:TOOWOOMBA - Christmas Indoor Picnic
DESCRIPTION:TBIC Christmas Indoor Picnic – Toowoomba\nDate: Wednesday 4th December 2024\nTime: 11am to 2pm \nThe Brain Injury Community Inc invites you to join us for an Indoor Christmas Picnic at the Wilsonton Hotel\, Toowoomba. \nBOOK NOW\nEnjoy a scrumptious lunch whilst engaging in some old-fashioned games and an optional Christmas craft activity that are sure to evoke a sense of nostalgia and camaraderie. \nConnect with other members\, forge new friendships and share your experiences with others who understand at our all-inclusive event. \nWhether you have a brain injury\, or know someone who does\, this is the perfect event for you to relax\, mingle\, and enjoy the outdoors with your peers\, support worker\, family member or friend. \nDont miss out on this fabulous event and secure your ticket today! \nSee you there! \nEVENT DETAILS:\nDate: Wednesday 4th December 2024\nTime: 11am to 2pm\nCost: Tickets are $5 per person **Companion cards are accepted\nLocation: Wilsonton Hotel\, 40 Richmond Drive\, Toowoomba QLD\n** Look for the Brain Injury Community flag**\nRSVP: By Tuesday 3rd December 2024\, via this event or by emailing info@tbic.org.au or 0493 110 693 \nWHAT’S INCLUDED? \n\nCompanion cards are accepted\n(Optional) Christmas craft activity\nVariety of amusing and nostalgic games for all abilities.\nLunch and refreshments\, please advise of any dietary requirements whe securing your ticket\nFree parking\n\n***PLEASE NOTE: THIS IS A BRAIN INJURY SURVIVOR EVENT\, NOT A PROVIDER EVENT*** \n\nOur events are designed to create a fun and friendly space where brain injury survivors and their acquaintances can connect and enjoy themselves. We aim to support people affected by brain injuries by bringing communities together and providing excellent networking opportunities. Whilst this is not a provider event\, we encourage support providers and carers to attend with their clients.\nThis is a community event in a public area\, securing free tickets assists with communication and operations of the event\, and does not guarantee seating.\nIn the event of unfavourable weather\, event updates will be posted on all TBIC socials and all ticket holders will be contacted to advise of any changes.\nSecuring your ticket to a TBIC event joins you to our mailing list for future communications regarding news and event notifications or updates. Unsubscribe options are available.\n\nFor more information\, please contact us on:\nMobile: 0493 110 693\nEmail: info@tbic.org.au\nWebsite: www.thebraininjurycommunity.org.au
URL:https://thebraininjurycommunity.org.au/event/toowoomba-christmas-indoor-picnic/
LOCATION:WILSONTON HOTEL
CATEGORIES:Community
ATTACH;FMTTYPE=image/png:https://thebraininjurycommunity.org.au/wp-content/uploads/2024/11/TBIC-XMAS-Toowoomba-Picnic-Square.png
END:VEVENT
BEGIN:VEVENT
DTSTART;TZID=Australia/Brisbane:20241204T110000
DTEND;TZID=Australia/Brisbane:20241204T140000
DTSTAMP:20260420T062740
CREATED:20241107T151615Z
LAST-MODIFIED:20241107T151615Z
UID:2547-1733310000-1733320800@thebraininjurycommunity.org.au
SUMMARY:WOODY POINT - Christmas Picnic in the Park
DESCRIPTION:Join TBIC for a Christmas Picnic in the Park at Woody Point\, where we’ll enjoy good food\, great company and soak up the sunshine!Date: Wednesday 4th December 2024Time: 11am to 2pm\nBOOK NOW\nEnjoy a scrumptious lunch whilst engaging in some old-fashioned games and an optional Christmas craft activity that are sure to evoke a sense of nostalgia and camaraderie.\n\nConnect with other members\, forge new friendships and share your experiences with others who understand at our all-inclusive event.\n\nWhether you have a brain injury\, or know someone who does\, this is the perfect event for you to relax\, mingle\, and enjoy the outdoors with your peers\, support worker\, family member or friend.\n\nDon’t miss out on this fabulous event and secure your ticket today!\n\nSee you there!\n\nEVENT DETAILS:Date: Wednesday 4th December 2024Time: 11am to 2pm Cost:Tickets are $5 per person **Companion cards are acceptedLocation: Crockatt Park\, 27 Oxley Avenue\, Woody Point Beach QLD** Opposite the Belvedere Hotel **** Look for the Brain Inury Community flag**RSVP: By Tuesday 3rd December 2024\, via this event or by emailing info@tbic.org.au\n\nWHAT’S INCLUDED?-Companion cards are accepted-(Optional) Christmas craft activity-Variety of amusing and nostalgic games for all abilities.-Lunch and refreshments\, please advise of any dietary requirements whe securing your ticket-Free parking\n\n***PLEASE NOTE: THIS IS A BRAIN INJURY SURVIVOR EVENT\,\nNOT A PROVIDER EVENT***\n\nFor more information\, please contact us on:Mobile: 0493 110 693Email: info@tbic.org.auWebsite: www.thebraininjurycommunity.org.au
URL:https://thebraininjurycommunity.org.au/event/woody-point-christmas-picnic-in-the-park/
CATEGORIES:Community
ATTACH;FMTTYPE=image/png:https://thebraininjurycommunity.org.au/wp-content/uploads/2024/11/TBIC-XMAS-Woody-Point-Picnic-Square.png
END:VEVENT
BEGIN:VEVENT
DTSTART;TZID=Australia/Brisbane:20241206T110000
DTEND;TZID=Australia/Brisbane:20241206T140000
DTSTAMP:20260420T062740
CREATED:20241107T152630Z
LAST-MODIFIED:20241205T080859Z
UID:2550-1733482800-1733493600@thebraininjurycommunity.org.au
SUMMARY:GOLD COAST - Christmas Picnic in the Park
DESCRIPTION:TBIC Christmas Picnic in the Park – Cascade Gardens\, BroadbeachDate: Friday 6th December 2024Time: 11am to 2pm\nBOOK NOW\nThe Brain Injury Community Inc invites you to join us for an outdoor Christmas Picnic in the Park at Cascade Gardens\, Broadbeach.\nGold Coast Christmas picnic has been sponsored by\nEnjoy a scrumptious lunch whilst engaging in some old-fashioned games and an optional Christmas craft activity that are sure to evoke a sense of nostalgia and camaraderie.\nConnect with other members\, forge new friendships and share your experiences with others who understand at our all-inclusive event.\n\nWhether you have a brain injury\, or know someone who does\, this is the perfect event for you to relax\, mingle\, and enjoy the outdoors with your peers\, support worker\, family member or friend.\n\nDon’t miss out on this fabulous event and secure your ticket today!\n\nSee you there!\n\nEVENT DETAILS:Date: Friday 6th December 2024Time: 11am to 2pmCost: Tickets are $5 per person **Companion cards are acceptedLocation: Cascade Gardens\, Gold Coast Highway\, Broadbeach QLD** Look for the Brain Inury Community flag**\nRSVP: By Thursday 5th December 2024\, via this event or by emailing info@tbic.org.au\n\nWHAT’S INCLUDED?-Companion cards are accepted-(Optional) Christmas craft activity-Variety of amusing and nostalgic games for all abilities.-Lunch and refreshments\, please advise of any dietary requirements whe securing your ticket-Free parking\n***PLEASE NOTE: THIS IS A BRAIN INJURY SURVIVOR EVENT\,\nNOT A PROVIDER EVENT***\nFor more information\, please contact us on:Mobile: 0493 110 693Email: info@tbic.org.auWebsite: www.thebraininjurycommunity.org.au
URL:https://thebraininjurycommunity.org.au/event/gold-coast-christmas-picnic-in-the-park/
LOCATION:Cascade Gardens\, 2730 Gold Coast Highway\, Broadbeach\, QLD\, 4218\, Australia
CATEGORIES:Community
ATTACH;FMTTYPE=image/png:https://thebraininjurycommunity.org.au/wp-content/uploads/2024/11/TBIC-XMAS-Gold-Coast-Picnic-Square.png
END:VEVENT
BEGIN:VEVENT
DTSTART;TZID=Australia/Brisbane:20241210T110000
DTEND;TZID=Australia/Brisbane:20241210T140000
DTSTAMP:20260420T062740
CREATED:20241107T153405Z
LAST-MODIFIED:20241205T081844Z
UID:2553-1733828400-1733839200@thebraininjurycommunity.org.au
SUMMARY:LOTA - Christmas Picnic in the Park
DESCRIPTION:TBIC Christmas Picnic in the Park – Lota\nDate: Tuesday 10th December 2024\nTime: 11am to 2pm \nBOOK NOW\nThe Brain Injury Community Inc invites you to join us for an outdoor Christmas Picnic in the beautiful Bayside suburb of Lota. \nLota Christmas picnic has been sponsored byEnjoy a scrumptious lunch whilst engaging in some old-fashioned games and an optional Christmas craft activity that are sure to evoke a sense of nostalgia and camaraderie. \nConnect with other members\, forge new friendships and share your experiences with others who understand at our all-inclusive event. \nWhether you have a brain injury\, or know someone who does\, this is the perfect event for you to relax\, mingle\, and enjoy the outdoors with your peers\, support worker\, family member or friend. \nDon’t miss out on this fabulous event and secure your ticket today!\nSee you there! \nEVENT DETAILS:\nDate: Tuesday 10th December 2024\nTime: 11am to 2pm Cost: Tickets are $5 per person **Companion cards are accepted\nLocation: Lota Reserve\, 710 Esplanade (opposite Bart’s Place\, Lota QLD\n** Look for the Brain Injury Community flag**\nRSVP: By Monday 9th December 2024\, via this event or by emailing info@tbic.org.au or 0493 110 693 \nWHAT’S INCLUDED?\n-Companion cards are accepted\n-(Optional) Christmas craft activity\n-Variety of amusing and nostalgic games for all abilities.\n-Lunch and refreshments\, please advise of any dietary requirements whe securing your ticket\n-Free parking \n***PLEASE NOTE: THIS IS A BRAIN INJURY SURVIVOR EVENT\, NOT A PROVIDER EVENT*** \nFor more information\, please contact us on:\nMobile: 0493 110 693\nEmail: info@tbic.org.au\nWebsite: www.thebraininjurycommunity.org.au
URL:https://thebraininjurycommunity.org.au/event/lota-christmas-picnic-in-the-park/
CATEGORIES:Community
ATTACH;FMTTYPE=image/png:https://thebraininjurycommunity.org.au/wp-content/uploads/2024/11/TBIC-XMAS-Lota-Picnic-Square.png
END:VEVENT
BEGIN:VEVENT
DTSTART;TZID=Australia/Brisbane:20241212T110000
DTEND;TZID=Australia/Brisbane:20241212T140000
DTSTAMP:20260420T062740
CREATED:20241107T154624Z
LAST-MODIFIED:20241107T154624Z
UID:2559-1734001200-1734012000@thebraininjurycommunity.org.au
SUMMARY:IPSWICH - Christmas Picnic in the Park
DESCRIPTION:TBIC Christmas Picnic in the Park – IpswichDate: Thursday 12th December 2024Time: 11am to 2pm\n\nThe Brain Injury Community Inc invites you to join us for an outdoor Christmas Picnic at Queens Park\, Ipswich.\nBOOK NOW\n\nEnjoy a scrumptious lunch whilst engaging in some old-fashioned games and an optional Christmas craft activity that are sure to evoke a sense of nostalgia and camaraderie.\nConnect with other members\, forge new friendships and share your experiences with others who understand at our all-inclusive event.\n\nWhether you have a brain injury\, or know someone who does\, this is the perfect event for you to relax\, mingle\, and enjoy the outdoors with your peers\, support worker\, family member or friend.\n\nDon’t miss out on this fabulous event and secure your ticket today!\n\nSee you there!\n\nEVENT DETAILS:Date: Thursday 12th December 2024Time: 11am to 2pmCost: Tickets are $5 per person **Companion cards are acceptedLocation: Queens Park\, 10a Merle Finimore Aveue\, Ipswich QLD** Look for the Brain Inury Community flag**RSVP: By Wednesday 11th December 2024\, via this event or by emailing info@tbic.org.au or 0493 110 693\n\nWHAT’S INCLUDED?-Companion cards are accepted-(Optional) Christmas craft activity-Variety of amusing and nostalgic games for all abilities.-Lunch and refreshments\, please advise of any dietary requirements whe securing your ticket-Free parking\n***PLEASE NOTE: THIS IS A BRAIN INJURY SURVIVOR EVENT\,\nNOT A PROVIDER EVENT***\nFor more information\, please contact us on:Mobile: 0493 110 693Email: info@tbic.org.auWebsite: www.thebraininjurycommunity.org.au
URL:https://thebraininjurycommunity.org.au/event/ipswich-christmas-picnic-in-the-park/
LOCATION:Queens Park – Ipswich\, 10a Merle Finimore Avenue\, Ipswich\, Queensland\, 4305\, Australia
CATEGORIES:Community
ATTACH;FMTTYPE=image/png:https://thebraininjurycommunity.org.au/wp-content/uploads/2024/11/TBIC-XMAS-Ipswich-Picnic-Square.png
END:VEVENT
BEGIN:VEVENT
DTSTART;TZID=Australia/Brisbane:20241213T103000
DTEND;TZID=Australia/Brisbane:20241213T140000
DTSTAMP:20260420T062740
CREATED:20241107T160532Z
LAST-MODIFIED:20241107T160839Z
UID:2562-1734085800-1734098400@thebraininjurycommunity.org.au
SUMMARY:TWEED HEADS - Christmas BBQ Boat and Fishing Day
DESCRIPTION:TBIC Christmas BBQ & Fishing Day – Tweed HeadsDate: Friday 13th December 2024Time: 10.30am to 2pm **NSW Time\nBOOK NOW\nThe Brain Injury Community Inc. invite you to join us for a Christmas themed day of fishing on the Tweed River on a wheelchair accessible BBQ boat.\n\nWhether you’re a skilled fisherman\, or this is your first fishing attempt\, this event is perfect for everyone who loves to fish and for those who would like to learn how. All abilities and skill levels are catered for!\n\nWe’ll provide all the necessary fishing equipment and assistance\, including bait and tackle.\n\nTICKETS ARE LIMITED!\n\nDon’t miss out on the opportunity to connect with fellow fishing enthusiasts or just enjoy a day out on the Tweed River\, secure your ticket today!\n\nWe can’t wait to see you there!\n\nEVENT DETAILS:Event Sponsor: Tweed Shire Council and ClubGrants NSWDate: Friday 13th December 2024Time: 10.30am to 2pm ** NSW Time **Please ensure you arrive on time to complete the compulsory safety briefing at 10.30amThe BBQ Boat departs the marina at 11.00am sharpCost: $20 per personLocation : Tweed Marina\, 4 River Terrace\, Tweed Heads NSW***Look for The Brain Injury Community Flag near the site office**RSVP: By Thursday 12th December 2024\, via this event or by email: info@tbic.org.au\n\nWHAT’S INCLUDED?-Safety briefing (compulsory)-Lunch: BBQ sausage sizzle and cold refreshments-Boat supports – Wheelchair accessible BBQ boat-All fishing equipment including fishing rods\, bait\, and tackle ** Bait is kindly being donated by Tweed Bait **\n* *PLEASE NOTE: THIS IS A BRAIN INJURY SURVIVOR EVENT\,\nNOT A PROVIDER EVENT**\n\nFor more information\, please contact us on:Mobile: 0493 110 693Email: info@tbic.org.auWebsite: www.thebraininjurycommunity.org.au
URL:https://thebraininjurycommunity.org.au/event/2562/
LOCATION:Berger HouseBoats\, 4 River Tce\, Tweed Heads\, NSW\, 2485\, Australia
CATEGORIES:Community
ATTACH;FMTTYPE=image/png:https://thebraininjurycommunity.org.au/wp-content/uploads/2024/11/TBIC-XMAS-Tweed-Picnic-Square-1.png
END:VEVENT
BEGIN:VEVENT
DTSTART;TZID=Australia/Brisbane:20241220T110000
DTEND;TZID=Australia/Brisbane:20241220T140000
DTSTAMP:20260420T062740
CREATED:20241107T142534Z
LAST-MODIFIED:20241213T121113Z
UID:2539-1734692400-1734703200@thebraininjurycommunity.org.au
SUMMARY:CALOUNDRA WEST - Christmas Picnic
DESCRIPTION:Join us in a little bit of Christmas Cheer! \nEVENT DETAILS:Date: Friday 20th December 2024Time: 11am to 2pmCost: Tickets are $5 per person **Companion cards are acceptedLocation: Canavan Gracie Recreational Park\, 18 Lomond Crescent\, Caloundra West QLD*** Meet at Bellvista Meeting Place***RSVP: By Thursday 19th December 2024\, via this event or by emailing info@tbic.org.au or 0493 110 693 \nBOOK NOW \nThe Brain Injury Community Inc invites you to join us for an outdoor Christmas Picnic at Canavan Gracie Recreational Park in Caloundra West. \nEnjoy a scrumptious lunch whilst engaging in some old-fashioned games and an optional Christmas craft activity that are sure to evoke a sense of nostalgia and camaraderie. Connect with other members\, forge new friendships and share your experiences with others who understand at our all-inclusive event. \nWhether you have a brain injury\, or know someone who does\, this is the perfect event for you to relax\, mingle\, and enjoy the outdoors with your peers\, support worker\, family member or friend. \nDon’t miss out on this fabulous event and secure your ticket today! \nSee you there! \nWHAT’S INCLUDED? \n\nCompanion cards are accepted\n(Optional) Christmas craft activity\nVariety of amusing and nostalgic games for all abilities.\nLunch and refreshments\, please advise of any dietary requirements whe securing your ticket\nFree parking\n\n***PLEASE NOTE: THIS IS A BRAIN INJURY SURVIVOR EVENT\, NOT A PROVIDER EVENT*** \n\nOur events are designed to create a fun and friendly space where brain injury survivors and their acquaintances can connect and enjoy themselves. We aim to support people affected by brain injuries by bringing communities together and providing excellent networking opportunities. Whilst this is not a provider event\, we encourage support providers and carers to attend with their clients.\nThis is a community event in a public area\, securing free tickets assists with communication and operations of the event\, and does not guarantee seating.\nIn the event of unfavourable weather\, event updates will be posted on all TBIC socials and all ticket holders will be contacted to advise of any changes.\nSecuring your ticket to a TBIC event joins you to our mailing list for future communications regarding news and event notifications or updates. Unsubscribe options are available.\n\nFor more information\, please contact us on:\nMobile: 0493 110 693\nEmail: info@tbic.org.au\nWebsite: www.thebraininjurycommunity.org.au
URL:https://thebraininjurycommunity.org.au/event/caloundra-west-christmas-picnic/
CATEGORIES:Community
ATTACH;FMTTYPE=image/png:https://thebraininjurycommunity.org.au/wp-content/uploads/2024/11/TBIC-XMAS-Caloundra-Picnic-Square-1.png
END:VEVENT
END:VCALENDAR