BEGIN:VCALENDAR
VERSION:2.0
PRODID:-//The Brain Injury Community Inc. - ECPv6.15.20//NONSGML v1.0//EN
CALSCALE:GREGORIAN
METHOD:PUBLISH
X-WR-CALNAME:The Brain Injury Community Inc.
X-ORIGINAL-URL:https://thebraininjurycommunity.org.au
X-WR-CALDESC:Events for The Brain Injury Community Inc.
REFRESH-INTERVAL;VALUE=DURATION:PT1H
X-Robots-Tag:noindex
X-PUBLISHED-TTL:PT1H
BEGIN:VTIMEZONE
TZID:Australia/Brisbane
BEGIN:STANDARD
TZOFFSETFROM:+1000
TZOFFSETTO:+1000
TZNAME:AEST
DTSTART:20230101T000000
END:STANDARD
END:VTIMEZONE
BEGIN:VEVENT
DTSTART;TZID=Australia/Brisbane:20241120T110000
DTEND;TZID=Australia/Brisbane:20241120T140000
DTSTAMP:20260423T024237
CREATED:20241107T135713Z
LAST-MODIFIED:20241107T140053Z
UID:2534-1732100400-1732111200@thebraininjurycommunity.org.au
SUMMARY:IPSWICH - Picnic in the Park
DESCRIPTION:EVENT DETAILS:Cost: $5  **Companion cards are acceptedDate: Wednesday 20th November 2024Time: 11am to 2pmLocation: Queens Park\, *** Meet: Near the Picnic Tables\, look for The Brain Injury Community Flag ***RSVP: By Tuesday 19th November 2024 via this event or by emailing info@tbic.org.au or by calling 0493 110 693 \nBOOK NOW\n\nJoin The Brain Injury Community Inc. and other brain injury survivors for an unforgettable day of fun and connection at Queens Park in Ipswich!\n\nWhether you have a brain injury or know someone who does\, this all-inclusive event is the perfect opportunity to connect with other brain injury survivors\, relax\, enjoy the sunshine\, play a range of nostalgic games suitable for all abilities and skill levels\, whilst making lasting memories. \nDon’t miss out on this fantastic event and secure your ticket today! \nLooking forward to seeing you there! \n\n***PLEASE NOTE: THIS IS A BRAIN INJURY SURVIVOR EVENT\, NOT A PROVIDER EVENT\n– Our events are designed to create a fun and friendly space where brain injury survivors and their acquaintances can connect and enjoy themselves. We aim to support people affected by brain injuries by bringing communities together and providing excellent networking opportunities. Whilst this is not a provider event\, we encourage support providers and carers to attend with their clients.\n-Companion card tickets require validation. Please present a valid companion card to a TBIC representative upon arrival. Normal ticket prices may apply.\n-This is a community event in a public area\, securing free or paid tickets assists with communication and operations of the event\, and does not guarantee seating.\n-In the event of unfavourable weather\, event updates will be posted on all TBIC socials and all ticket holders will be contacted to advise of any changes.\n-Securing your ticket to a TBIC event joins you to our mailing list for future communications regarding news and event notifications or updates. Unsubscribe options are available.\nFor more information\, please contact us on:Mobile: 0493 110 693Email: info@tbic.org.auWebsite: www.thebraininjurycommunity.org.au \n\n\n\n\n\nAdd to calendar
URL:https://thebraininjurycommunity.org.au/event/ipswich-picnic-in-the-park/
CATEGORIES:Community
ATTACH;FMTTYPE=image/png:https://thebraininjurycommunity.org.au/wp-content/uploads/2024/11/TBIC-Picnic-Square-1.png
END:VEVENT
END:VCALENDAR